| Back to Multiple platform build/check report for BioC 3.8 |
|
This page was generated on 2019-04-16 11:51:40 -0400 (Tue, 16 Apr 2019).
| Package 1269/1649 | Hostname | OS / Arch | INSTALL | BUILD | CHECK | BUILD BIN | ||||||
| RCy3 2.2.9 Alexander Pico
| malbec1 | Linux (Ubuntu 16.04.6 LTS) / x86_64 | OK | OK | [ OK ] | |||||||
| merida1 | OS X 10.11.6 El Capitan / x86_64 | OK | OK | OK | OK |
| Package: RCy3 |
| Version: 2.2.9 |
| Command: /home/biocbuild/bbs-3.8-bioc/R/bin/R CMD check --install=check:RCy3.install-out.txt --library=/home/biocbuild/bbs-3.8-bioc/R/library --no-vignettes --timings RCy3_2.2.9.tar.gz |
| StartedAt: 2019-04-16 02:26:55 -0400 (Tue, 16 Apr 2019) |
| EndedAt: 2019-04-16 02:28:03 -0400 (Tue, 16 Apr 2019) |
| EllapsedTime: 67.5 seconds |
| RetCode: 0 |
| Status: OK |
| CheckDir: RCy3.Rcheck |
| Warnings: 0 |
############################################################################## ############################################################################## ### ### Running command: ### ### /home/biocbuild/bbs-3.8-bioc/R/bin/R CMD check --install=check:RCy3.install-out.txt --library=/home/biocbuild/bbs-3.8-bioc/R/library --no-vignettes --timings RCy3_2.2.9.tar.gz ### ############################################################################## ############################################################################## * using log directory ‘/home/biocbuild/bbs-3.8-bioc/meat/RCy3.Rcheck’ * using R version 3.5.3 (2019-03-11) * using platform: x86_64-pc-linux-gnu (64-bit) * using session charset: UTF-8 * using option ‘--no-vignettes’ * checking for file ‘RCy3/DESCRIPTION’ ... OK * checking extension type ... Package * this is package ‘RCy3’ version ‘2.2.9’ * checking package namespace information ... OK * checking package dependencies ... OK * checking if this is a source package ... OK * checking if there is a namespace ... OK * checking for hidden files and directories ... NOTE Found the following hidden files and directories: .travis.yml These were most likely included in error. See section ‘Package structure’ in the ‘Writing R Extensions’ manual. * checking for portable file names ... OK * checking for sufficient/correct file permissions ... OK * checking whether package ‘RCy3’ can be installed ... OK * checking installed package size ... OK * checking package directory ... OK * checking ‘build’ directory ... OK * checking DESCRIPTION meta-information ... OK * checking top-level files ... OK * checking for left-over files ... OK * checking index information ... OK * checking package subdirectories ... OK * checking R files for non-ASCII characters ... OK * checking R files for syntax errors ... OK * checking whether the package can be loaded ... OK * checking whether the package can be loaded with stated dependencies ... OK * checking whether the package can be unloaded cleanly ... OK * checking whether the namespace can be loaded with stated dependencies ... OK * checking whether the namespace can be unloaded cleanly ... OK * checking dependencies in R code ... OK * checking S3 generic/method consistency ... OK * checking replacement functions ... OK * checking foreign function calls ... OK * checking R code for possible problems ... NOTE createNetworkFromDataFrames: no visible binding for global variable ‘SUID’ Undefined global functions or variables: SUID * checking Rd files ... OK * checking Rd metadata ... OK * checking Rd cross-references ... OK * checking for missing documentation entries ... OK * checking for code/documentation mismatches ... OK * checking Rd \usage sections ... OK * checking Rd contents ... OK * checking for unstated dependencies in examples ... OK * checking files in ‘vignettes’ ... OK * checking examples ... OK * checking for unstated dependencies in ‘tests’ ... OK * checking tests ... Running ‘runTests.R’ OK * checking for unstated dependencies in vignettes ... OK * checking package vignettes in ‘inst/doc’ ... OK * checking running R code from vignettes ... SKIPPED * checking re-building of vignette outputs ... SKIPPED * checking PDF version of manual ... OK * DONE Status: 2 NOTEs See ‘/home/biocbuild/bbs-3.8-bioc/meat/RCy3.Rcheck/00check.log’ for details.
RCy3.Rcheck/00install.out
############################################################################## ############################################################################## ### ### Running command: ### ### /home/biocbuild/bbs-3.8-bioc/R/bin/R CMD INSTALL RCy3 ### ############################################################################## ############################################################################## * installing to library ‘/home/biocbuild/bbs-3.8-bioc/R/library’ * installing *source* package ‘RCy3’ ... ** R ** inst ** byte-compile and prepare package for lazy loading ** help *** installing help indices ** building package indices ** installing vignettes ** testing if installed package can be loaded * DONE (RCy3)
RCy3.Rcheck/tests/runTests.Rout
R version 3.5.3 (2019-03-11) -- "Great Truth"
Copyright (C) 2019 The R Foundation for Statistical Computing
Platform: x86_64-pc-linux-gnu (64-bit)
R is free software and comes with ABSOLUTELY NO WARRANTY.
You are welcome to redistribute it under certain conditions.
Type 'license()' or 'licence()' for distribution details.
R is a collaborative project with many contributors.
Type 'contributors()' for more information and
'citation()' on how to cite R or R packages in publications.
Type 'demo()' for some demos, 'help()' for on-line help, or
'help.start()' for an HTML browser interface to help.
Type 'q()' to quit R.
> # tests disabled as the Bioconductor build system no longer supports interactive sessions
> #require(RCy3) || stop("unable to load RCy3")
> #BiocGenerics:::testPackage('RCy3')
>
> proc.time()
user system elapsed
0.216 0.016 0.255
RCy3.Rcheck/RCy3-Ex.timings
| name | user | system | elapsed | |
| AddToGroup | 0 | 0 | 0 | |
| RemoveFromGroup | 0.004 | 0.000 | 0.000 | |
| addCyEdges | 0 | 0 | 0 | |
| addCyNodes | 0.000 | 0.000 | 0.001 | |
| applyFilter | 0 | 0 | 0 | |
| bundleEdges | 0 | 0 | 0 | |
| clearEdgePropertyBypass | 0 | 0 | 0 | |
| clearNetworkCenterBypass | 0.000 | 0.000 | 0.001 | |
| clearNetworkPropertyBypass | 0 | 0 | 0 | |
| clearNetworkZoomBypass | 0 | 0 | 0 | |
| clearNodeOpacityBypass | 0 | 0 | 0 | |
| clearNodePropertyBypass | 0 | 0 | 0 | |
| clearSelection | 0 | 0 | 0 | |
| cloneNetwork | 0 | 0 | 0 | |
| closeSession | 0 | 0 | 0 | |
| collapseGroup | 0 | 0 | 0 | |
| commandEcho | 0 | 0 | 0 | |
| commandOpenDialog | 0 | 0 | 0 | |
| commandPause | 0 | 0 | 0 | |
| commandQuit | 0 | 0 | 0 | |
| commandRunFile | 0 | 0 | 0 | |
| commandSleep | 0 | 0 | 0 | |
| commandsAPI | 0 | 0 | 0 | |
| commandsGET | 0 | 0 | 0 | |
| commandsHelp | 0 | 0 | 0 | |
| commandsPOST | 0 | 0 | 0 | |
| commandsRun | 0 | 0 | 0 | |
| copyVisualStyle | 0 | 0 | 0 | |
| createColumnFilter | 0 | 0 | 0 | |
| createCompositeFilter | 0 | 0 | 0 | |
| createDegreeFilter | 0 | 0 | 0 | |
| createGraphFromNetwork | 0 | 0 | 0 | |
| createGroup | 0 | 0 | 0 | |
| createIgraphFromNetwork | 0 | 0 | 0 | |
| createNetworkFromDataFrames | 0 | 0 | 0 | |
| createNetworkFromGraph | 0 | 0 | 0 | |
| createNetworkFromIgraph | 0.000 | 0.000 | 0.001 | |
| createSubnetwork | 0 | 0 | 0 | |
| createVisualStyle | 0 | 0 | 0 | |
| cybrowserClose | 0 | 0 | 0 | |
| cybrowserDialog | 0.000 | 0.000 | 0.001 | |
| cybrowserHide | 0 | 0 | 0 | |
| cybrowserList | 0 | 0 | 0 | |
| cybrowserSend | 0 | 0 | 0 | |
| cybrowserShow | 0.000 | 0.000 | 0.001 | |
| cybrowserVersion | 0 | 0 | 0 | |
| cyrestAPI | 0 | 0 | 0 | |
| cyrestDELETE | 0 | 0 | 0 | |
| cyrestGET | 0.000 | 0.000 | 0.001 | |
| cyrestPOST | 0 | 0 | 0 | |
| cyrestPUT | 0 | 0 | 0 | |
| cytoscapeApiVersions | 0 | 0 | 0 | |
| cytoscapeFreeMemory | 0 | 0 | 0 | |
| cytoscapeMemoryStatus | 0.004 | 0.000 | 0.000 | |
| cytoscapeNumberOfCores | 0 | 0 | 0 | |
| cytoscapePing | 0 | 0 | 0 | |
| cytoscapeVersionInfo | 0 | 0 | 0 | |
| deleteAllNetworks | 0.000 | 0.000 | 0.001 | |
| deleteDuplicateEdges | 0 | 0 | 0 | |
| deleteGroup | 0 | 0 | 0 | |
| deleteNetwork | 0 | 0 | 0 | |
| deleteSelectedEdges | 0.000 | 0.000 | 0.001 | |
| deleteSelectedNodes | 0 | 0 | 0 | |
| deleteSelfLoops | 0 | 0 | 0 | |
| deleteStyleMapping | 0 | 0 | 0 | |
| deleteTableColumn | 0 | 0 | 0 | |
| deleteVisualStyle | 0 | 0 | 0 | |
| diffusionAdvanced | 0 | 0 | 0 | |
| diffusionBasic | 0 | 0 | 0 | |
| disableApp | 0 | 0 | 0 | |
| dockPanel | 0 | 0 | 0 | |
| enableApp | 0 | 0 | 0 | |
| expandGroup | 0 | 0 | 0 | |
| exportFilters | 0 | 0 | 0 | |
| exportImage | 0 | 0 | 0 | |
| exportNetwork | 0.000 | 0.000 | 0.001 | |
| exportNetworkToNDEx | 0 | 0 | 0 | |
| exportVisualStyles | 0 | 0 | 0 | |
| fitContent | 0 | 0 | 0 | |
| floatPanel | 0 | 0 | 0 | |
| getAllEdges | 0 | 0 | 0 | |
| getAllNodes | 0 | 0 | 0 | |
| getAppInformation | 0 | 0 | 0 | |
| getAppStatus | 0.000 | 0.000 | 0.001 | |
| getAppUpdates | 0 | 0 | 0 | |
| getArrowShapes | 0 | 0 | 0 | |
| getAvailableApps | 0 | 0 | 0 | |
| getBackgroundColorDefault | 0.000 | 0.000 | 0.001 | |
| getCollectionList | 0 | 0 | 0 | |
| getCollectionName | 0 | 0 | 0 | |
| getCollectionNetworks | 0.004 | 0.000 | 0.000 | |
| getCollectionSuid | 0 | 0 | 0 | |
| getDisabledApps | 0 | 0 | 0 | |
| getEdgeColor | 0.000 | 0.000 | 0.001 | |
| getEdgeCount | 0 | 0 | 0 | |
| getEdgeLineStyle | 0 | 0 | 0 | |
| getEdgeLineWidth | 0.004 | 0.000 | 0.000 | |
| getEdgeProperty | 0 | 0 | 0 | |
| getEdgeSelectionColorDefault | 0.000 | 0.000 | 0.001 | |
| getEdgeTargetArrowShape | 0 | 0 | 0 | |
| getFilterList | 0 | 0 | 0 | |
| getFirstNeighbors | 0 | 0 | 0 | |
| getGroupInfo | 0 | 0 | 0 | |
| getInstalledApps | 0 | 0 | 0 | |
| getLayoutNameMapping | 0.000 | 0.000 | 0.001 | |
| getLayoutNames | 0 | 0 | 0 | |
| getLayoutPropertyNames | 0 | 0 | 0 | |
| getLayoutPropertyType | 0 | 0 | 0 | |
| getLayoutPropertyValue | 0 | 0 | 0 | |
| getLineStyles | 0 | 0 | 0 | |
| getNetworkCenter | 0 | 0 | 0 | |
| getNetworkCount | 0 | 0 | 0 | |
| getNetworkList | 0 | 0 | 0 | |
| getNetworkNDExId | 0 | 0 | 0 | |
| getNetworkName | 0 | 0 | 0 | |
| getNetworkProperty | 0 | 0 | 0 | |
| getNetworkSuid | 0 | 0 | 0 | |
| getNetworkViewSuid | 0 | 0 | 0 | |
| getNetworkViews | 0 | 0 | 0 | |
| getNetworkZoom | 0.000 | 0.004 | 0.000 | |
| getNodeColor | 0 | 0 | 0 | |
| getNodeCount | 0 | 0 | 0 | |
| getNodeHeight | 0 | 0 | 0 | |
| getNodeProperty | 0 | 0 | 0 | |
| getNodeSelectionColorDefault | 0 | 0 | 0 | |
| getNodeShapes | 0 | 0 | 0 | |
| getNodeSize | 0.000 | 0.000 | 0.001 | |
| getNodeWidth | 0 | 0 | 0 | |
| getSelectedEdgeCount | 0 | 0 | 0 | |
| getSelectedEdges | 0 | 0 | 0 | |
| getSelectedNodeCount | 0 | 0 | 0 | |
| getSelectedNodes | 0 | 0 | 0 | |
| getStyleDependencies | 0 | 0 | 0 | |
| getTableColumnNames | 0 | 0 | 0 | |
| getTableColumnTypes | 0 | 0 | 0 | |
| getTableColumns | 0.000 | 0.000 | 0.001 | |
| getTableValue | 0 | 0 | 0 | |
| getUninstalledApps | 0 | 0 | 0 | |
| getVisualPropertyDefault | 0 | 0 | 0 | |
| getVisualPropertyNames | 0 | 0 | 0 | |
| getVisualStyleNames | 0 | 0 | 0 | |
| hideAllPanels | 0.000 | 0.000 | 0.001 | |
| hideEdges | 0 | 0 | 0 | |
| hideNodes | 0 | 0 | 0 | |
| hidePanel | 0 | 0 | 0 | |
| hideSelectedEdges | 0 | 0 | 0 | |
| hideSelectedNodes | 0 | 0 | 0 | |
| importFilters | 0 | 0 | 0 | |
| importNetworkFromFile | 0 | 0 | 0 | |
| importNetworkFromNDEx | 0 | 0 | 0 | |
| importVisualStyles | 0 | 0 | 0 | |
| installApp | 0 | 0 | 0 | |
| invertEdgeSelection | 0 | 0 | 0 | |
| invertNodeSelection | 0.000 | 0.000 | 0.001 | |
| layoutCopycat | 0 | 0 | 0 | |
| layoutNetwork | 0 | 0 | 0 | |
| listGroups | 0 | 0 | 0 | |
| lockNodeDimensions | 0 | 0 | 0 | |
| makeSimpleGraph | 0.084 | 0.000 | 0.088 | |
| makeSimpleIgraph | 0.016 | 0.000 | 0.016 | |
| mapTableColumn | 0.000 | 0.000 | 0.001 | |
| mapVisualProperty | 0 | 0 | 0 | |
| matchArrowColorToEdge | 0 | 0 | 0 | |
| openAppStore | 0 | 0 | 0 | |
| openSession | 0 | 0 | 0 | |
| removeNodeCustomGraphics | 0 | 0 | 0 | |
| renameNetwork | 0 | 0 | 0 | |
| renameTableColumn | 0 | 0 | 0 | |
| saveSession | 0 | 0 | 0 | |
| selectAllEdges | 0 | 0 | 0 | |
| selectAllNodes | 0.000 | 0.000 | 0.001 | |
| selectEdges | 0 | 0 | 0 | |
| selectEdgesAdjacentToSelectedNodes | 0 | 0 | 0 | |
| selectEdgesConnectingSelectedNodes | 0 | 0 | 0 | |
| selectFirstNeighbors | 0 | 0 | 0 | |
| selectNodes | 0 | 0 | 0 | |
| selectNodesConnectedBySelectedEdges | 0 | 0 | 0 | |
| setBackgroundColorDefault | 0 | 0 | 0 | |
| setCurrentNetwork | 0 | 0 | 0 | |
| setCurrentView | 0 | 0 | 0 | |
| setEdgeColorBypass | 0.004 | 0.000 | 0.000 | |
| setEdgeColorDefault | 0.000 | 0.000 | 0.001 | |
| setEdgeColorMapping | 0.000 | 0.000 | 0.001 | |
| setEdgeFontFaceBypass | 0 | 0 | 0 | |
| setEdgeFontSizeBypass | 0 | 0 | 0 | |
| setEdgeFontSizeDefault | 0 | 0 | 0 | |
| setEdgeLabelBypass | 0 | 0 | 0 | |
| setEdgeLabelColorBypass | 0 | 0 | 0 | |
| setEdgeLabelMapping | 0 | 0 | 0 | |
| setEdgeLabelOpacityBypass | 0 | 0 | 0 | |
| setEdgeLineStyleBypass | 0 | 0 | 0 | |
| setEdgeLineStyleDefault | 0 | 0 | 0 | |
| setEdgeLineStyleMapping | 0 | 0 | 0 | |
| setEdgeLineWidthBypass | 0 | 0 | 0 | |
| setEdgeLineWidthDefault | 0 | 0 | 0 | |
| setEdgeLineWidthMapping | 0 | 0 | 0 | |
| setEdgeOpacityBypass | 0 | 0 | 0 | |
| setEdgeOpacityMapping | 0.000 | 0.000 | 0.001 | |
| setEdgePropertyBypass | 0 | 0 | 0 | |
| setEdgeSelectionColorDefault | 0 | 0 | 0 | |
| setEdgeSourceArrowColorBypass | 0 | 0 | 0 | |
| setEdgeSourceArrowColorDefault | 0.000 | 0.000 | 0.001 | |
| setEdgeSourceArrowColorMapping | 0 | 0 | 0 | |
| setEdgeSourceArrowMapping | 0 | 0 | 0 | |
| setEdgeSourceArrowShapeBypass | 0 | 0 | 0 | |
| setEdgeSourceArrowShapeDefault | 0 | 0 | 0 | |
| setEdgeTargetArrowColorBypass | 0 | 0 | 0 | |
| setEdgeTargetArrowColorDefault | 0 | 0 | 0 | |
| setEdgeTargetArrowColorMapping | 0 | 0 | 0 | |
| setEdgeTargetArrowMapping | 0 | 0 | 0 | |
| setEdgeTargetArrowShapeBypass | 0.000 | 0.004 | 0.001 | |
| setEdgeTargetArrowShapeDefault | 0 | 0 | 0 | |
| setEdgeTooltipBypass | 0 | 0 | 0 | |
| setEdgeTooltipMapping | 0.000 | 0.000 | 0.001 | |
| setLayoutProperties | 0 | 0 | 0 | |
| setNetworkCenterBypass | 0 | 0 | 0 | |
| setNetworkPropertyBypass | 0 | 0 | 0 | |
| setNetworkZoomBypass | 0 | 0 | 0 | |
| setNodeBorderColorBypass | 0 | 0 | 0 | |
| setNodeBorderColorDefault | 0 | 0 | 0 | |
| setNodeBorderColorMapping | 0 | 0 | 0 | |
| setNodeBorderOpacityBypass | 0 | 0 | 0 | |
| setNodeBorderWidthBypass | 0 | 0 | 0 | |
| setNodeBorderWidthDefault | 0.000 | 0.000 | 0.001 | |
| setNodeBorderWidthMapping | 0 | 0 | 0 | |
| setNodeColorBypass | 0.000 | 0.000 | 0.001 | |
| setNodeColorDefault | 0 | 0 | 0 | |
| setNodeColorMapping | 0 | 0 | 0 | |
| setNodeComboOpacityMapping | 0 | 0 | 0 | |
| setNodeCustomBarChart | 0 | 0 | 0 | |
| setNodeCustomBoxChart | 0.000 | 0.000 | 0.001 | |
| setNodeCustomHeatMapChart | 0 | 0 | 0 | |
| setNodeCustomLineChart | 0 | 0 | 0 | |
| setNodeCustomLinearGradient | 0 | 0 | 0 | |
| setNodeCustomPieChart | 0 | 0 | 0 | |
| setNodeCustomPosition | 0 | 0 | 0 | |
| setNodeCustomRadialGradient | 0 | 0 | 0 | |
| setNodeCustomRingChart | 0 | 0 | 0 | |
| setNodeFillOpacityBypass | 0 | 0 | 0 | |
| setNodeFontSizeBypass | 0 | 0 | 0 | |
| setNodeFontSizeDefault | 0 | 0 | 0 | |
| setNodeHeightBypass | 0 | 0 | 0 | |
| setNodeLabelBypass | 0 | 0 | 0 | |
| setNodeLabelColorBypass | 0 | 0 | 0 | |
| setNodeLabelColorDefault | 0.000 | 0.000 | 0.001 | |
| setNodeLabelMapping | 0 | 0 | 0 | |
| setNodeLabelOpacityBypass | 0 | 0 | 0 | |
| setNodeOpacityBypass | 0 | 0 | 0 | |
| setNodePropertyBypass | 0 | 0 | 0 | |
| setNodeSelectionColorDefault | 0 | 0 | 0 | |
| setNodeShapeBypass | 0 | 0 | 0 | |
| setNodeShapeDefault | 0.000 | 0.000 | 0.001 | |
| setNodeShapeMapping | 0 | 0 | 0 | |
| setNodeSizeBypass | 0 | 0 | 0 | |
| setNodeSizeDefault | 0 | 0 | 0 | |
| setNodeSizeMapping | 0 | 0 | 0 | |
| setNodeTooltipMapping | 0 | 0 | 0 | |
| setNodeWidthBypass | 0 | 0 | 0 | |
| setStyleDependencies | 0 | 0 | 0 | |
| setVisualPropertyDefault | 0 | 0 | 0 | |
| setVisualStyle | 0 | 0 | 0 | |
| syncNodeCustomGraphicsSize | 0.000 | 0.000 | 0.001 | |
| toggleGraphicsDetails | 0 | 0 | 0 | |
| unhideAll | 0 | 0 | 0 | |
| unhideEdges | 0.000 | 0.000 | 0.001 | |
| unhideNodes | 0 | 0 | 0 | |
| uninstallApp | 0 | 0 | 0 | |
| updateApp | 0 | 0 | 0 | |
| updateNetworkInNDEx | 0 | 0 | 0 | |
| updateStyleDefaults | 0 | 0 | 0 | |
| updateStyleMapping | 0 | 0 | 0 | |