| Back to Multiple platform build/check report for BioC 3.8 |
|
This page was generated on 2019-04-16 11:49:12 -0400 (Tue, 16 Apr 2019).
| Package 1262/1649 | Hostname | OS / Arch | INSTALL | BUILD | CHECK | BUILD BIN | ||||||
| RCASPAR 1.28.0 Douaa Mugahid
| malbec1 | Linux (Ubuntu 16.04.6 LTS) / x86_64 | OK | OK | [ OK ] | |||||||
| merida1 | OS X 10.11.6 El Capitan / x86_64 | OK | OK | OK | OK |
| Package: RCASPAR |
| Version: 1.28.0 |
| Command: /home/biocbuild/bbs-3.8-bioc/R/bin/R CMD check --install=check:RCASPAR.install-out.txt --library=/home/biocbuild/bbs-3.8-bioc/R/library --no-vignettes --timings RCASPAR_1.28.0.tar.gz |
| StartedAt: 2019-04-16 02:25:16 -0400 (Tue, 16 Apr 2019) |
| EndedAt: 2019-04-16 02:25:39 -0400 (Tue, 16 Apr 2019) |
| EllapsedTime: 22.9 seconds |
| RetCode: 0 |
| Status: OK |
| CheckDir: RCASPAR.Rcheck |
| Warnings: 0 |
##############################################################################
##############################################################################
###
### Running command:
###
### /home/biocbuild/bbs-3.8-bioc/R/bin/R CMD check --install=check:RCASPAR.install-out.txt --library=/home/biocbuild/bbs-3.8-bioc/R/library --no-vignettes --timings RCASPAR_1.28.0.tar.gz
###
##############################################################################
##############################################################################
* using log directory ‘/home/biocbuild/bbs-3.8-bioc/meat/RCASPAR.Rcheck’
* using R version 3.5.3 (2019-03-11)
* using platform: x86_64-pc-linux-gnu (64-bit)
* using session charset: UTF-8
* using option ‘--no-vignettes’
* checking for file ‘RCASPAR/DESCRIPTION’ ... OK
* checking extension type ... Package
* this is package ‘RCASPAR’ version ‘1.28.0’
* checking package namespace information ... OK
* checking package dependencies ... OK
* checking if this is a source package ... OK
* checking if there is a namespace ... OK
* checking for hidden files and directories ... OK
* checking for portable file names ... OK
* checking for sufficient/correct file permissions ... OK
* checking whether package ‘RCASPAR’ can be installed ... OK
* checking installed package size ... OK
* checking package directory ... OK
* checking ‘build’ directory ... OK
* checking DESCRIPTION meta-information ... NOTE
Malformed Title field: should not end in a period.
* checking top-level files ... OK
* checking for left-over files ... OK
* checking index information ... OK
* checking package subdirectories ... OK
* checking R files for non-ASCII characters ... OK
* checking R files for syntax errors ... OK
* checking whether the package can be loaded ... OK
* checking whether the package can be loaded with stated dependencies ... OK
* checking whether the package can be unloaded cleanly ... OK
* checking whether the namespace can be loaded with stated dependencies ... OK
* checking whether the namespace can be unloaded cleanly ... OK
* checking dependencies in R code ... OK
* checking S3 generic/method consistency ... OK
* checking replacement functions ... OK
* checking foreign function calls ... OK
* checking R code for possible problems ... NOTE
kmplt: no visible global function definition for ‘plot’
kmplt_svrl: no visible global function definition for ‘plot’
kmplt_svrl: no visible global function definition for ‘lines’
kmplt_svrl: no visible global function definition for ‘legend’
logrnk: no visible global function definition for ‘pchisq’
pltgamma: no visible global function definition for ‘plot’
pltprior: no visible global function definition for ‘persp’
survivAURC: no visible global function definition for ‘plot’
weights_BLH: no visible global function definition for ‘optim’
Undefined global functions or variables:
legend lines optim pchisq persp plot
Consider adding
importFrom("graphics", "legend", "lines", "persp", "plot")
importFrom("stats", "optim", "pchisq")
to your NAMESPACE file.
* checking Rd files ... OK
* checking Rd metadata ... OK
* checking Rd cross-references ... OK
* checking for missing documentation entries ... OK
* checking for code/documentation mismatches ... OK
* checking Rd \usage sections ... OK
* checking Rd contents ... OK
* checking for unstated dependencies in examples ... OK
* checking contents of ‘data’ directory ... OK
* checking data for non-ASCII characters ... OK
* checking data for ASCII and uncompressed saves ... OK
* checking files in ‘vignettes’ ... OK
* checking examples ... OK
* checking for unstated dependencies in vignettes ... OK
* checking package vignettes in ‘inst/doc’ ... OK
* checking running R code from vignettes ... SKIPPED
* checking re-building of vignette outputs ... SKIPPED
* checking PDF version of manual ... OK
* DONE
Status: 2 NOTEs
See
‘/home/biocbuild/bbs-3.8-bioc/meat/RCASPAR.Rcheck/00check.log’
for details.
RCASPAR.Rcheck/00install.out
############################################################################## ############################################################################## ### ### Running command: ### ### /home/biocbuild/bbs-3.8-bioc/R/bin/R CMD INSTALL RCASPAR ### ############################################################################## ############################################################################## * installing to library ‘/home/biocbuild/bbs-3.8-bioc/R/library’ * installing *source* package ‘RCASPAR’ ... ** R ** data ** byte-compile and prepare package for lazy loading ** help *** installing help indices ** building package indices ** installing vignettes ** testing if installed package can be loaded * DONE (RCASPAR)
RCASPAR.Rcheck/RCASPAR-Ex.timings
| name | user | system | elapsed | |
| Bergamaschi | 0.02 | 0.00 | 0.02 | |
| RCASPAR-package | 0.580 | 0.008 | 0.591 | |
| STpredictor_BLH | 0.072 | 0.000 | 0.074 | |
| STpredictor_xvBLH | 0.712 | 0.000 | 0.712 | |
| deriv_weight_estimator_BLH | 0.004 | 0.000 | 0.004 | |
| deriv_weight_estimator_BLH_noprior | 0.004 | 0.000 | 0.003 | |
| kmplt | 0.004 | 0.000 | 0.004 | |
| kmplt_svrl | 0.012 | 0.000 | 0.009 | |
| logrnk | 0.004 | 0.000 | 0.005 | |
| pltgamma | 0.004 | 0.000 | 0.003 | |
| pltprior | 0.000 | 0.000 | 0.003 | |
| simpson | 0.000 | 0.000 | 0.001 | |
| survData | 0.000 | 0.000 | 0.002 | |
| survivAURC | 0.156 | 0.000 | 0.156 | |
| survivROC | 0.032 | 0.000 | 0.035 | |
| trapezoid | 0 | 0 | 0 | |
| weight_estimator_BLH | 0 | 0 | 0 | |
| weight_estimator_BLH_noprior | 0.004 | 0.000 | 0.004 | |
| weights_BLH | 0.000 | 0.004 | 0.006 | |
| weights_xvBLH | 0.060 | 0.000 | 0.062 | |