| Back to Multiple platform build/check report for BioC 3.8 |
|
This page was generated on 2019-04-13 11:22:35 -0400 (Sat, 13 Apr 2019).
| Package 1233/1649 | Hostname | OS / Arch | INSTALL | BUILD | CHECK | BUILD BIN | ||||||
| QuasR 1.22.1 Michael Stadler
| malbec1 | Linux (Ubuntu 16.04.6 LTS) / x86_64 | OK | OK | OK | |||||||
| tokay1 | Windows Server 2012 R2 Standard / x64 | [ OK ] | OK | OK | OK | |||||||
| merida1 | OS X 10.11.6 El Capitan / x86_64 | OK | OK | OK | OK |
| Package: QuasR |
| Version: 1.22.1 |
| Command: C:\Users\biocbuild\bbs-3.8-bioc\R\bin\R.exe --arch x64 CMD INSTALL --no-multiarch QuasR |
| StartedAt: 2019-04-12 20:05:24 -0400 (Fri, 12 Apr 2019) |
| EndedAt: 2019-04-12 20:08:05 -0400 (Fri, 12 Apr 2019) |
| EllapsedTime: 161.0 seconds |
| RetCode: 0 |
| Status: OK |
##############################################################################
##############################################################################
###
### Running command:
###
### C:\Users\biocbuild\bbs-3.8-bioc\R\bin\R.exe --arch x64 CMD INSTALL --no-multiarch QuasR
###
##############################################################################
##############################################################################
* installing to library 'C:/Users/biocbuild/bbs-3.8-bioc/R/library'
* installing *source* package 'QuasR' ...
** libs
C:/Rtools/mingw_64/bin/g++ -I"C:/Users/biocbuild/bbs-3.8-bioc/R/library/zlibbioc/include" -I"C:/Users/biocbuild/bbs-3.8-bioc/R/include" -DNDEBUG -D_USE_KNETFILE -DBGZF_CACHE -D_FILE_OFFSET_BITS=64 -D_LARGEFILE64_SOURCE -I"C:/Users/biocbuild/bbs-3.8-bioc/R/library/zlibbioc/include" -I"C:/Users/biocbuild/bbs-3.8-bioc/R/library/Rsamtools/include" -I"C:/extsoft/include" -O2 -Wall -mtune=generic -c R_init_QuasR.cpp -o R_init_QuasR.o
C:/Rtools/mingw_64/bin/gcc -I"C:/Users/biocbuild/bbs-3.8-bioc/R/library/zlibbioc/include" -I"C:/Users/biocbuild/bbs-3.8-bioc/R/include" -DNDEBUG -D_USE_KNETFILE -DBGZF_CACHE -D_FILE_OFFSET_BITS=64 -D_LARGEFILE64_SOURCE -I"C:/Users/biocbuild/bbs-3.8-bioc/R/library/zlibbioc/include" -I"C:/Users/biocbuild/bbs-3.8-bioc/R/library/Rsamtools/include" -I"C:/extsoft/include" -O2 -Wall -std=gnu99 -mtune=generic -c cat_bam.c -o cat_bam.o
C:/Rtools/mingw_64/bin/gcc -I"C:/Users/biocbuild/bbs-3.8-bioc/R/library/zlibbioc/include" -I"C:/Users/biocbuild/bbs-3.8-bioc/R/include" -DNDEBUG -D_USE_KNETFILE -DBGZF_CACHE -D_FILE_OFFSET_BITS=64 -D_LARGEFILE64_SOURCE -I"C:/Users/biocbuild/bbs-3.8-bioc/R/library/zlibbioc/include" -I"C:/Users/biocbuild/bbs-3.8-bioc/R/library/Rsamtools/include" -I"C:/extsoft/include" -O2 -Wall -std=gnu99 -mtune=generic -c convert_reads_id_bis_rc.c -o convert_reads_id_bis_rc.o
C:/Rtools/mingw_64/bin/gcc -I"C:/Users/biocbuild/bbs-3.8-bioc/R/library/zlibbioc/include" -I"C:/Users/biocbuild/bbs-3.8-bioc/R/include" -DNDEBUG -D_USE_KNETFILE -DBGZF_CACHE -D_FILE_OFFSET_BITS=64 -D_LARGEFILE64_SOURCE -I"C:/Users/biocbuild/bbs-3.8-bioc/R/library/zlibbioc/include" -I"C:/Users/biocbuild/bbs-3.8-bioc/R/library/Rsamtools/include" -I"C:/extsoft/include" -O2 -Wall -std=gnu99 -mtune=generic -c count_alignments.c -o count_alignments.o
C:/Rtools/mingw_64/bin/gcc -I"C:/Users/biocbuild/bbs-3.8-bioc/R/library/zlibbioc/include" -I"C:/Users/biocbuild/bbs-3.8-bioc/R/include" -DNDEBUG -D_USE_KNETFILE -DBGZF_CACHE -D_FILE_OFFSET_BITS=64 -D_LARGEFILE64_SOURCE -I"C:/Users/biocbuild/bbs-3.8-bioc/R/library/zlibbioc/include" -I"C:/Users/biocbuild/bbs-3.8-bioc/R/library/Rsamtools/include" -I"C:/extsoft/include" -O2 -Wall -std=gnu99 -mtune=generic -c count_alignments_subregions.c -o count_alignments_subregions.o
C:/Rtools/mingw_64/bin/g++ -I"C:/Users/biocbuild/bbs-3.8-bioc/R/library/zlibbioc/include" -I"C:/Users/biocbuild/bbs-3.8-bioc/R/include" -DNDEBUG -D_USE_KNETFILE -DBGZF_CACHE -D_FILE_OFFSET_BITS=64 -D_LARGEFILE64_SOURCE -I"C:/Users/biocbuild/bbs-3.8-bioc/R/library/zlibbioc/include" -I"C:/Users/biocbuild/bbs-3.8-bioc/R/library/Rsamtools/include" -I"C:/extsoft/include" -O2 -Wall -mtune=generic -c count_junctions.cpp -o count_junctions.o
C:/Rtools/mingw_64/bin/gcc -I"C:/Users/biocbuild/bbs-3.8-bioc/R/library/zlibbioc/include" -I"C:/Users/biocbuild/bbs-3.8-bioc/R/include" -DNDEBUG -D_USE_KNETFILE -DBGZF_CACHE -D_FILE_OFFSET_BITS=64 -D_LARGEFILE64_SOURCE -I"C:/Users/biocbuild/bbs-3.8-bioc/R/library/zlibbioc/include" -I"C:/Users/biocbuild/bbs-3.8-bioc/R/library/Rsamtools/include" -I"C:/extsoft/include" -O2 -Wall -std=gnu99 -mtune=generic -c export_wig.c -o export_wig.o
C:/Rtools/mingw_64/bin/gcc -I"C:/Users/biocbuild/bbs-3.8-bioc/R/library/zlibbioc/include" -I"C:/Users/biocbuild/bbs-3.8-bioc/R/include" -DNDEBUG -D_USE_KNETFILE -DBGZF_CACHE -D_FILE_OFFSET_BITS=64 -D_LARGEFILE64_SOURCE -I"C:/Users/biocbuild/bbs-3.8-bioc/R/library/zlibbioc/include" -I"C:/Users/biocbuild/bbs-3.8-bioc/R/library/Rsamtools/include" -I"C:/extsoft/include" -O2 -Wall -std=gnu99 -mtune=generic -c extract_unmapped_reads.c -o extract_unmapped_reads.o
C:/Rtools/mingw_64/bin/gcc -I"C:/Users/biocbuild/bbs-3.8-bioc/R/library/zlibbioc/include" -I"C:/Users/biocbuild/bbs-3.8-bioc/R/include" -DNDEBUG -D_USE_KNETFILE -DBGZF_CACHE -D_FILE_OFFSET_BITS=64 -D_LARGEFILE64_SOURCE -I"C:/Users/biocbuild/bbs-3.8-bioc/R/library/zlibbioc/include" -I"C:/Users/biocbuild/bbs-3.8-bioc/R/library/Rsamtools/include" -I"C:/extsoft/include" -O2 -Wall -std=gnu99 -mtune=generic -c idxstats_bam.c -o idxstats_bam.o
C:/Rtools/mingw_64/bin/g++ -I"C:/Users/biocbuild/bbs-3.8-bioc/R/library/zlibbioc/include" -I"C:/Users/biocbuild/bbs-3.8-bioc/R/include" -DNDEBUG -D_USE_KNETFILE -DBGZF_CACHE -D_FILE_OFFSET_BITS=64 -D_LARGEFILE64_SOURCE -I"C:/Users/biocbuild/bbs-3.8-bioc/R/library/zlibbioc/include" -I"C:/Users/biocbuild/bbs-3.8-bioc/R/library/Rsamtools/include" -I"C:/extsoft/include" -O2 -Wall -mtune=generic -c merge_reorder_sam.cpp -o merge_reorder_sam.o
C:/Rtools/mingw_64/bin/gcc -I"C:/Users/biocbuild/bbs-3.8-bioc/R/library/zlibbioc/include" -I"C:/Users/biocbuild/bbs-3.8-bioc/R/include" -DNDEBUG -D_USE_KNETFILE -DBGZF_CACHE -D_FILE_OFFSET_BITS=64 -D_LARGEFILE64_SOURCE -I"C:/Users/biocbuild/bbs-3.8-bioc/R/library/zlibbioc/include" -I"C:/Users/biocbuild/bbs-3.8-bioc/R/library/Rsamtools/include" -I"C:/extsoft/include" -O2 -Wall -std=gnu99 -mtune=generic -c nucleotide_alignment_frequencies.c -o nucleotide_alignment_frequencies.o
C:/Rtools/mingw_64/bin/gcc -I"C:/Users/biocbuild/bbs-3.8-bioc/R/library/zlibbioc/include" -I"C:/Users/biocbuild/bbs-3.8-bioc/R/include" -DNDEBUG -D_USE_KNETFILE -DBGZF_CACHE -D_FILE_OFFSET_BITS=64 -D_LARGEFILE64_SOURCE -I"C:/Users/biocbuild/bbs-3.8-bioc/R/library/zlibbioc/include" -I"C:/Users/biocbuild/bbs-3.8-bioc/R/library/Rsamtools/include" -I"C:/extsoft/include" -O2 -Wall -std=gnu99 -mtune=generic -c profile_alignments.c -o profile_alignments.o
C:/Rtools/mingw_64/bin/g++ -I"C:/Users/biocbuild/bbs-3.8-bioc/R/library/zlibbioc/include" -I"C:/Users/biocbuild/bbs-3.8-bioc/R/include" -DNDEBUG -D_USE_KNETFILE -DBGZF_CACHE -D_FILE_OFFSET_BITS=64 -D_LARGEFILE64_SOURCE -I"C:/Users/biocbuild/bbs-3.8-bioc/R/library/zlibbioc/include" -I"C:/Users/biocbuild/bbs-3.8-bioc/R/library/Rsamtools/include" -I"C:/extsoft/include" -O2 -Wall -mtune=generic -c quantify_methylation.cpp -o quantify_methylation.o
C:/Rtools/mingw_64/bin/gcc -I"C:/Users/biocbuild/bbs-3.8-bioc/R/library/zlibbioc/include" -I"C:/Users/biocbuild/bbs-3.8-bioc/R/include" -DNDEBUG -D_USE_KNETFILE -DBGZF_CACHE -D_FILE_OFFSET_BITS=64 -D_LARGEFILE64_SOURCE -I"C:/Users/biocbuild/bbs-3.8-bioc/R/library/zlibbioc/include" -I"C:/Users/biocbuild/bbs-3.8-bioc/R/library/Rsamtools/include" -I"C:/extsoft/include" -O2 -Wall -std=gnu99 -mtune=generic -c remove_unmapped_from_sam.c -o remove_unmapped_from_sam.o
C:/Rtools/mingw_64/bin/gcc -I"C:/Users/biocbuild/bbs-3.8-bioc/R/library/zlibbioc/include" -I"C:/Users/biocbuild/bbs-3.8-bioc/R/include" -DNDEBUG -D_USE_KNETFILE -DBGZF_CACHE -D_FILE_OFFSET_BITS=64 -D_LARGEFILE64_SOURCE -I"C:/Users/biocbuild/bbs-3.8-bioc/R/library/zlibbioc/include" -I"C:/Users/biocbuild/bbs-3.8-bioc/R/library/Rsamtools/include" -I"C:/extsoft/include" -O2 -Wall -std=gnu99 -mtune=generic -c split_sam_chr.c -o split_sam_chr.o
C:/Rtools/mingw_64/bin/gcc -I"C:/Users/biocbuild/bbs-3.8-bioc/R/library/zlibbioc/include" -I"C:/Users/biocbuild/bbs-3.8-bioc/R/include" -DNDEBUG -D_USE_KNETFILE -DBGZF_CACHE -D_FILE_OFFSET_BITS=64 -D_LARGEFILE64_SOURCE -I"C:/Users/biocbuild/bbs-3.8-bioc/R/library/zlibbioc/include" -I"C:/Users/biocbuild/bbs-3.8-bioc/R/library/Rsamtools/include" -I"C:/extsoft/include" -O2 -Wall -std=gnu99 -mtune=generic -c utilities.c -o utilities.o
C:/Rtools/mingw_64/bin/g++ -shared -s -static-libgcc -o QuasR.dll tmp.def R_init_QuasR.o cat_bam.o convert_reads_id_bis_rc.o count_alignments.o count_alignments_subregions.o count_junctions.o export_wig.o extract_unmapped_reads.o idxstats_bam.o merge_reorder_sam.o nucleotide_alignment_frequencies.o profile_alignments.o quantify_methylation.o remove_unmapped_from_sam.o split_sam_chr.o utilities.o C:/Users/biocbuild/bbs-3.8-bioc/R/library/Rsamtools/usrlib/x64/libbam.a C:/Users/biocbuild/bbs-3.8-bioc/R/library/Rsamtools/usrlib/x64/libbam.a C:/Users/biocbuild/bbs-3.8-bioc/R/library/Rsamtools/usrlib/x64/libbcf.a C:/Users/biocbuild/bbs-3.8-bioc/R/library/Rsamtools/usrlib/x64/libtabix.a -lws2_32 -pthread -LC:/Users/biocbuild/bbs-3.8-bioc/R/library/zlibbioc/libs/x64 -lzlib1bioc -LC:/extsoft/lib/x64 -LC:/extsoft/lib -LC:/Users/biocbuild/bbs-3.8-bioc/R/bin/x64 -lR
installing to C:/Users/biocbuild/bbs-3.8-bioc/R/library/QuasR/libs/x64
** R
** inst
** byte-compile and prepare package for lazy loading
** help
*** installing help indices
converting help for package 'QuasR'
finding HTML links ... done
QuasR-package html
alignmentStats html
preprocessReads html
qAlign html
qCount html
qExportWig html
qMeth html
qProfile html
qProject-class html
qQCReport html
finding level-2 HTML links ... done
** building package indices
** installing vignettes
** testing if installed package can be loaded
* DONE (QuasR)
Making 'packages.html' ... done
In R CMD INSTALL