| Back to Multiple platform build/check report for BioC 3.8 |
|
This page was generated on 2019-04-13 11:26:41 -0400 (Sat, 13 Apr 2019).
| Package 1215/1649 | Hostname | OS / Arch | INSTALL | BUILD | CHECK | BUILD BIN | ||||||
| PureCN 1.12.2 Markus Riester
| malbec1 | Linux (Ubuntu 16.04.6 LTS) / x86_64 | OK | OK | OK | |||||||
| tokay1 | Windows Server 2012 R2 Standard / x64 | OK | OK | OK | [ OK ] | |||||||
| merida1 | OS X 10.11.6 El Capitan / x86_64 | OK | OK | OK | OK |
| Package: PureCN |
| Version: 1.12.2 |
| Command: rm -rf PureCN.buildbin-libdir && mkdir PureCN.buildbin-libdir && C:\Users\biocbuild\bbs-3.8-bioc\R\bin\R.exe CMD INSTALL --merge-multiarch --build --library=PureCN.buildbin-libdir PureCN_1.12.2.tar.gz |
| StartedAt: 2019-04-13 07:48:04 -0400 (Sat, 13 Apr 2019) |
| EndedAt: 2019-04-13 07:48:48 -0400 (Sat, 13 Apr 2019) |
| EllapsedTime: 44.7 seconds |
| RetCode: 0 |
| Status: OK |
| PackageFile: PureCN_1.12.2.zip |
| PackageFileSize: 5.351 MiB |
##############################################################################
##############################################################################
###
### Running command:
###
### rm -rf PureCN.buildbin-libdir && mkdir PureCN.buildbin-libdir && C:\Users\biocbuild\bbs-3.8-bioc\R\bin\R.exe CMD INSTALL --merge-multiarch --build --library=PureCN.buildbin-libdir PureCN_1.12.2.tar.gz
###
##############################################################################
##############################################################################
install for i386
* installing *source* package 'PureCN' ...
** R
** data
** inst
** byte-compile and prepare package for lazy loading
** help
*** installing help indices
converting help for package 'PureCN'
finding HTML links ... done
PureCN-defunct html
PureCN-deprecated html
annotateTargets html
bootstrapResults html
calculateBamCoverageByInterval html
calculateGCContentByInterval html
calculateIntervalWeights html
calculateLogRatio html
calculateMappingBiasVcf html
calculatePowerDetectSomatic html
calculateTangentNormal html
callAlterations html
callAlterationsFromSegmentation html
callLOH html
callMutationBurden html
centromeres html
correctCoverageBias html
createCurationFile html
createNormalDatabase html
createTargetWeights html
filterIntervals html
filterTargets html
filterVcfBasic html
filterVcfMuTect html
filterVcfMuTect2 html
findBestNormal html
findFocal html
getSexFromCoverage html
getSexFromVcf html
plotAbs html
poolCoverage html
predictSomatic html
preprocessIntervals html
purecn.DNAcopy.bdry html
purecn.example.output html
readCoverageFile html
readCurationFile html
runAbsoluteCN html
segmentationCBS html
segmentationPSCBS html
setMappingBiasVcf html
setPriorVcf html
** building package indices
** installing vignettes
** testing if installed package can be loaded
In R CMD INSTALL
install for x64
* installing *source* package 'PureCN' ...
** testing if installed package can be loaded
* MD5 sums
packaged installation of 'PureCN' as PureCN_1.12.2.zip
* DONE (PureCN)
In R CMD INSTALL
In R CMD INSTALL