| Back to Multiple platform build/check report for BioC 3.8 |
|
This page was generated on 2019-04-13 11:29:50 -0400 (Sat, 13 Apr 2019).
| Package 1207/1649 | Hostname | OS / Arch | INSTALL | BUILD | CHECK | BUILD BIN | ||||||
| ProteoMM 1.0.1 Yuliya V Karpievitch
| malbec1 | Linux (Ubuntu 16.04.6 LTS) / x86_64 | OK | OK | OK | |||||||
| tokay1 | Windows Server 2012 R2 Standard / x64 | OK | OK | OK | [ OK ] | |||||||
| merida1 | OS X 10.11.6 El Capitan / x86_64 | OK | OK | OK | OK |
| Package: ProteoMM |
| Version: 1.0.1 |
| Command: rm -rf ProteoMM.buildbin-libdir && mkdir ProteoMM.buildbin-libdir && C:\Users\biocbuild\bbs-3.8-bioc\R\bin\R.exe CMD INSTALL --merge-multiarch --build --library=ProteoMM.buildbin-libdir ProteoMM_1.0.1.tar.gz |
| StartedAt: 2019-04-13 07:47:41 -0400 (Sat, 13 Apr 2019) |
| EndedAt: 2019-04-13 07:48:00 -0400 (Sat, 13 Apr 2019) |
| EllapsedTime: 18.9 seconds |
| RetCode: 0 |
| Status: OK |
| PackageFile: ProteoMM_1.0.1.zip |
| PackageFileSize: 365.7 KiB |
##############################################################################
##############################################################################
###
### Running command:
###
### rm -rf ProteoMM.buildbin-libdir && mkdir ProteoMM.buildbin-libdir && C:\Users\biocbuild\bbs-3.8-bioc\R\bin\R.exe CMD INSTALL --merge-multiarch --build --library=ProteoMM.buildbin-libdir ProteoMM_1.0.1.tar.gz
###
##############################################################################
##############################################################################
install for i386
* installing *source* package 'ProteoMM' ...
** R
** data
*** moving datasets to lazyload DB
** inst
** byte-compile and prepare package for lazy loading
** help
*** installing help indices
converting help for package 'ProteoMM'
finding HTML links ... done
MBimpute html
convert_log2 html
eig_norm1 html
eig_norm2 html
eigen_pi html
g.test html
get_presAbs_prots html
hs_peptides html
makeLMFormula html
make_intencities html
make_meta html
mm_peptides html
peptideLevel_DE html
peptideLevel_PresAbsDE html
plot_1prot html
plot_3_pep_trends_NOfile html
plot_volcano html
plot_volcano_wLab html
prot_level_multiMat_PresAbs html
prot_level_multi_part html
subset_proteins html
sva.id html
** building package indices
** installing vignettes
** testing if installed package can be loaded
In R CMD INSTALL
install for x64
* installing *source* package 'ProteoMM' ...
** testing if installed package can be loaded
* MD5 sums
packaged installation of 'ProteoMM' as ProteoMM_1.0.1.zip
* DONE (ProteoMM)
In R CMD INSTALL
In R CMD INSTALL