| Back to Multiple platform build/check report for BioC 3.8 |
|
This page was generated on 2019-04-13 11:29:56 -0400 (Sat, 13 Apr 2019).
| Package 1141/1649 | Hostname | OS / Arch | INSTALL | BUILD | CHECK | BUILD BIN | ||||||
| PepsNMR 1.0.2 Manon Martin
| malbec1 | Linux (Ubuntu 16.04.6 LTS) / x86_64 | OK | OK | OK | |||||||
| tokay1 | Windows Server 2012 R2 Standard / x64 | OK | OK | OK | [ OK ] | |||||||
| merida1 | OS X 10.11.6 El Capitan / x86_64 | OK | OK | OK | OK |
| Package: PepsNMR |
| Version: 1.0.2 |
| Command: rm -rf PepsNMR.buildbin-libdir && mkdir PepsNMR.buildbin-libdir && C:\Users\biocbuild\bbs-3.8-bioc\R\bin\R.exe CMD INSTALL --merge-multiarch --build --library=PepsNMR.buildbin-libdir PepsNMR_1.0.2.tar.gz |
| StartedAt: 2019-04-13 07:45:39 -0400 (Sat, 13 Apr 2019) |
| EndedAt: 2019-04-13 07:45:53 -0400 (Sat, 13 Apr 2019) |
| EllapsedTime: 14.6 seconds |
| RetCode: 0 |
| Status: OK |
| PackageFile: PepsNMR_1.0.2.zip |
| PackageFileSize: 812.2 KiB |
##############################################################################
##############################################################################
###
### Running command:
###
### rm -rf PepsNMR.buildbin-libdir && mkdir PepsNMR.buildbin-libdir && C:\Users\biocbuild\bbs-3.8-bioc\R\bin\R.exe CMD INSTALL --merge-multiarch --build --library=PepsNMR.buildbin-libdir PepsNMR_1.0.2.tar.gz
###
##############################################################################
##############################################################################
install for i386
* installing *source* package 'PepsNMR' ...
** R
** inst
** byte-compile and prepare package for lazy loading
** help
*** installing help indices
converting help for package 'PepsNMR'
finding HTML links ... done
Apodization html
BaselineCorrection html
Bucketing html
Draw html
DrawPCA html
DrawSignal html
FirstOrderPhaseCorrection html
FourierTransform html
GroupDelayCorrection html
InternalReferencing html
NegativeValuesZeroing html
Normalization html
PEPSNMR-internal html
PEPSNMR-package html
PreprocessingChain html
ReadFids html
RegionRemoval html
SolventSuppression html
Warping html
WindowSelection html
ZeroOrderPhaseCorrection html
ZoneAggregation html
** building package indices
** installing vignettes
** testing if installed package can be loaded
In R CMD INSTALL
install for x64
* installing *source* package 'PepsNMR' ...
** testing if installed package can be loaded
* MD5 sums
packaged installation of 'PepsNMR' as PepsNMR_1.0.2.zip
* DONE (PepsNMR)
In R CMD INSTALL
In R CMD INSTALL