| Back to Multiple platform build/check report for BioC 3.8 |
|
This page was generated on 2019-04-13 11:27:12 -0400 (Sat, 13 Apr 2019).
| Package 1123/1649 | Hostname | OS / Arch | INSTALL | BUILD | CHECK | BUILD BIN | ||||||
| PathoStat 1.8.4 Solaiappan Manimaran
| malbec1 | Linux (Ubuntu 16.04.6 LTS) / x86_64 | OK | OK | OK | |||||||
| tokay1 | Windows Server 2012 R2 Standard / x64 | [ OK ] | OK | OK | OK | |||||||
| merida1 | OS X 10.11.6 El Capitan / x86_64 | OK | OK | OK | OK |
| Package: PathoStat |
| Version: 1.8.4 |
| Command: C:\cygwin\bin\curl.exe -O https://malbec1.bioconductor.org/BBS/3.8/bioc/src/contrib/PathoStat_1.8.4.tar.gz && rm -rf PathoStat.buildbin-libdir && mkdir PathoStat.buildbin-libdir && C:\Users\biocbuild\bbs-3.8-bioc\R\bin\R.exe CMD INSTALL --merge-multiarch --build --library=PathoStat.buildbin-libdir PathoStat_1.8.4.tar.gz && C:\Users\biocbuild\bbs-3.8-bioc\R\bin\R.exe CMD INSTALL PathoStat_1.8.4.zip && rm PathoStat_1.8.4.tar.gz PathoStat_1.8.4.zip |
| StartedAt: 2019-04-12 19:46:48 -0400 (Fri, 12 Apr 2019) |
| EndedAt: 2019-04-12 19:48:19 -0400 (Fri, 12 Apr 2019) |
| EllapsedTime: 90.3 seconds |
| RetCode: 0 |
| Status: OK |
##############################################################################
##############################################################################
###
### Running command:
###
### C:\cygwin\bin\curl.exe -O https://malbec1.bioconductor.org/BBS/3.8/bioc/src/contrib/PathoStat_1.8.4.tar.gz && rm -rf PathoStat.buildbin-libdir && mkdir PathoStat.buildbin-libdir && C:\Users\biocbuild\bbs-3.8-bioc\R\bin\R.exe CMD INSTALL --merge-multiarch --build --library=PathoStat.buildbin-libdir PathoStat_1.8.4.tar.gz && C:\Users\biocbuild\bbs-3.8-bioc\R\bin\R.exe CMD INSTALL PathoStat_1.8.4.zip && rm PathoStat_1.8.4.tar.gz PathoStat_1.8.4.zip
###
##############################################################################
##############################################################################
% Total % Received % Xferd Average Speed Time Time Time Current
Dload Upload Total Spent Left Speed
0 0 0 0 0 0 0 0 --:--:-- --:--:-- --:--:-- 0
100 950k 100 950k 0 0 17.2M 0 --:--:-- --:--:-- --:--:-- 18.5M
install for i386
* installing *source* package 'PathoStat' ...
** R
** data
** inst
** byte-compile and prepare package for lazy loading
** help
*** installing help indices
converting help for package 'PathoStat'
finding HTML links ... done
Bootstrap_LOOCV_LR_AUC html
Chisq_Test_Pam html
Fisher_Test_Pam html
GET_PAM html
LOOAUC_simple_multiple_noplot_one_df html
LOOAUC_simple_multiple_one_df html
PathoStat-class html
TranslateIdToTaxLevel html
Wilcox_Test_df html
findRAfromCount html
findTaxonMat html
findTaxonomy html
findTaxonomy300 html
formatTaxTable html
getShinyInput html
getShinyInputCombat html
getShinyInputOrig html
getSignatureFromMultipleGlmnet html
grepTid html
loadPathoscopeReports html
loadPstat html
log2CPM html
percent html
phyloseq_to_edgeR html
plotPCAPlotly html
plotPCoAPlotly html
pstat_data html
readPathoscopeData html
runPathoStat html
savePstat html
setShinyInput html
setShinyInputCombat html
setShinyInputOrig html
summarizeTable html
** building package indices
** installing vignettes
** testing if installed package can be loaded
In R CMD INSTALL
install for x64
* installing *source* package 'PathoStat' ...
** testing if installed package can be loaded
* MD5 sums
packaged installation of 'PathoStat' as PathoStat_1.8.4.zip
* DONE (PathoStat)
In R CMD INSTALL
In R CMD INSTALL
* installing to library 'C:/Users/biocbuild/bbs-3.8-bioc/R/library'
package 'PathoStat' successfully unpacked and MD5 sums checked
In R CMD INSTALL