| Back to Multiple platform build/check report for BioC 3.8 |
|
This page was generated on 2019-04-16 11:48:30 -0400 (Tue, 16 Apr 2019).
| Package 1137/1649 | Hostname | OS / Arch | INSTALL | BUILD | CHECK | BUILD BIN | ||||||
| PCpheno 1.44.0 Nolwenn Le Meur
| malbec1 | Linux (Ubuntu 16.04.6 LTS) / x86_64 | OK | OK | [ OK ] | |||||||
| merida1 | OS X 10.11.6 El Capitan / x86_64 | OK | OK | OK | OK |
| Package: PCpheno |
| Version: 1.44.0 |
| Command: /home/biocbuild/bbs-3.8-bioc/R/bin/R CMD check --install=check:PCpheno.install-out.txt --library=/home/biocbuild/bbs-3.8-bioc/R/library --no-vignettes --timings PCpheno_1.44.0.tar.gz |
| StartedAt: 2019-04-16 02:01:58 -0400 (Tue, 16 Apr 2019) |
| EndedAt: 2019-04-16 02:04:24 -0400 (Tue, 16 Apr 2019) |
| EllapsedTime: 146.7 seconds |
| RetCode: 0 |
| Status: OK |
| CheckDir: PCpheno.Rcheck |
| Warnings: 0 |
##############################################################################
##############################################################################
###
### Running command:
###
### /home/biocbuild/bbs-3.8-bioc/R/bin/R CMD check --install=check:PCpheno.install-out.txt --library=/home/biocbuild/bbs-3.8-bioc/R/library --no-vignettes --timings PCpheno_1.44.0.tar.gz
###
##############################################################################
##############################################################################
* using log directory ‘/home/biocbuild/bbs-3.8-bioc/meat/PCpheno.Rcheck’
* using R version 3.5.3 (2019-03-11)
* using platform: x86_64-pc-linux-gnu (64-bit)
* using session charset: UTF-8
* using option ‘--no-vignettes’
* checking for file ‘PCpheno/DESCRIPTION’ ... OK
* checking extension type ... Package
* this is package ‘PCpheno’ version ‘1.44.0’
* checking package namespace information ... OK
* checking package dependencies ... NOTE
Depends: includes the non-default packages:
‘Category’ ‘ScISI’ ‘SLGI’ ‘ppiStats’ ‘ppiData’ ‘annotate’
Adding so many packages to the search path is excessive and importing
selectively is preferable.
* checking if this is a source package ... OK
* checking if there is a namespace ... OK
* checking for hidden files and directories ... OK
* checking for portable file names ... OK
* checking for sufficient/correct file permissions ... OK
* checking whether package ‘PCpheno’ can be installed ... OK
* checking installed package size ... OK
* checking package directory ... OK
* checking ‘build’ directory ... OK
* checking DESCRIPTION meta-information ... NOTE
Packages listed in more than one of Depends, Imports, Suggests, Enhances:
‘Category’ ‘ScISI’ ‘KEGG.db’ ‘GO.db’
A package should be listed in only one of these fields.
* checking top-level files ... OK
* checking for left-over files ... OK
* checking index information ... OK
* checking package subdirectories ... OK
* checking R files for non-ASCII characters ... OK
* checking R files for syntax errors ... OK
* checking whether the package can be loaded ... OK
* checking whether the package can be loaded with stated dependencies ... OK
* checking whether the package can be unloaded cleanly ... OK
* checking whether the namespace can be loaded with stated dependencies ... OK
* checking whether the namespace can be unloaded cleanly ... OK
* checking dependencies in R code ... NOTE
'library' or 'require' calls in package code:
‘GO.db’ ‘KEGG.db’
Please use :: or requireNamespace() instead.
See section 'Suggested packages' in the 'Writing R Extensions' manual.
Packages in Depends field not imported from:
‘SLGI’ ‘annotate’ ‘ppiData’ ‘ppiStats’
These packages need to be imported from (in the NAMESPACE file)
for when this namespace is loaded but not attached.
* checking S3 generic/method consistency ... OK
* checking replacement functions ... OK
* checking foreign function calls ... OK
* checking R code for possible problems ... OK
* checking Rd files ... OK
* checking Rd metadata ... OK
* checking Rd cross-references ... OK
* checking for missing documentation entries ... OK
* checking for code/documentation mismatches ... OK
* checking Rd \usage sections ... OK
* checking Rd contents ... OK
* checking for unstated dependencies in examples ... OK
* checking contents of ‘data’ directory ... OK
* checking data for non-ASCII characters ... OK
* checking data for ASCII and uncompressed saves ... OK
* checking files in ‘vignettes’ ... OK
* checking examples ... OK
Examples with CPU or elapsed time > 5s
user system elapsed
graphTheory 5.544 0.096 5.643
* checking for unstated dependencies in vignettes ... OK
* checking package vignettes in ‘inst/doc’ ... OK
* checking running R code from vignettes ... SKIPPED
* checking re-building of vignette outputs ... SKIPPED
* checking PDF version of manual ... OK
* DONE
Status: 3 NOTEs
See
‘/home/biocbuild/bbs-3.8-bioc/meat/PCpheno.Rcheck/00check.log’
for details.
PCpheno.Rcheck/00install.out
############################################################################## ############################################################################## ### ### Running command: ### ### /home/biocbuild/bbs-3.8-bioc/R/bin/R CMD INSTALL PCpheno ### ############################################################################## ############################################################################## * installing to library ‘/home/biocbuild/bbs-3.8-bioc/R/library’ * installing *source* package ‘PCpheno’ ... ** R ** data ** byte-compile and prepare package for lazy loading No methods found in package ‘Biobase’ for request: ‘listlen’ when loading ‘RpsiXML’ No methods found in package ‘annotate’ for requests: ‘pubmed’, ‘buildPubMedAbst’ when loading ‘RpsiXML’ No methods found in package ‘BiocGenerics’ for request: ‘plot’ when loading ‘SLGI’ ** help *** installing help indices ** building package indices ** installing vignettes ** testing if installed package can be loaded No methods found in package ‘Biobase’ for request: ‘listlen’ when loading ‘RpsiXML’ No methods found in package ‘annotate’ for requests: ‘pubmed’, ‘buildPubMedAbst’ when loading ‘RpsiXML’ No methods found in package ‘BiocGenerics’ for request: ‘plot’ when loading ‘SLGI’ * DONE (PCpheno)
PCpheno.Rcheck/PCpheno-Ex.timings
| name | user | system | elapsed | |
| CoHyperGResult-class | 0.568 | 0.008 | 0.644 | |
| Dudley | 0.004 | 0.000 | 0.007 | |
| Giaever | 0.120 | 0.008 | 0.128 | |
| HI | 0.000 | 0.004 | 0.002 | |
| KEGG2SCISI | 0.072 | 0.004 | 0.088 | |
| Kastenmayer | 0.016 | 0.004 | 0.017 | |
| Lesage | 0.004 | 0.000 | 0.007 | |
| Osterberg | 0.016 | 0.000 | 0.019 | |
| SGDphenoL | 0.024 | 0.000 | 0.025 | |
| YEASTOHNOLOG | 0.008 | 0.000 | 0.009 | |
| buildFDMat | 0.152 | 0.012 | 0.165 | |
| categoryToEntrezBuilder | 0.540 | 0.004 | 0.556 | |
| complexStatus | 0.592 | 0.028 | 0.619 | |
| deResult-class | 0.108 | 0.000 | 0.106 | |
| densityEstimate | 0.604 | 0.108 | 0.713 | |
| getDescr | 0.736 | 0.000 | 0.793 | |
| getFDgene | 0.200 | 0.000 | 0.198 | |
| graphTheory | 5.544 | 0.096 | 5.643 | |
| gtResult-class | 4.076 | 0.108 | 4.188 | |
| overlap | 0.000 | 0.000 | 0.001 | |
| plot | 0.456 | 0.008 | 0.465 | |
| ppiInteraction | 3.152 | 0.004 | 3.236 | |
| reduceM | 0 | 0 | 0 | |
| truncName | 0 | 0 | 0 | |