| Back to Multiple platform build/check report for BioC 3.8 |
|
This page was generated on 2019-04-13 11:22:49 -0400 (Sat, 13 Apr 2019).
| Package 1117/1649 | Hostname | OS / Arch | INSTALL | BUILD | CHECK | BUILD BIN | ||||||
| PAPi 1.22.1 Raphael Aggio
| malbec1 | Linux (Ubuntu 16.04.6 LTS) / x86_64 | OK | OK | OK | |||||||
| tokay1 | Windows Server 2012 R2 Standard / x64 | [ OK ] | OK | OK | OK | |||||||
| merida1 | OS X 10.11.6 El Capitan / x86_64 | OK | OK | OK | OK |
| Package: PAPi |
| Version: 1.22.1 |
| Command: C:\cygwin\bin\curl.exe -O https://malbec1.bioconductor.org/BBS/3.8/bioc/src/contrib/PAPi_1.22.1.tar.gz && rm -rf PAPi.buildbin-libdir && mkdir PAPi.buildbin-libdir && C:\Users\biocbuild\bbs-3.8-bioc\R\bin\R.exe CMD INSTALL --merge-multiarch --build --library=PAPi.buildbin-libdir PAPi_1.22.1.tar.gz && C:\Users\biocbuild\bbs-3.8-bioc\R\bin\R.exe CMD INSTALL PAPi_1.22.1.zip && rm PAPi_1.22.1.tar.gz PAPi_1.22.1.zip |
| StartedAt: 2019-04-12 19:18:59 -0400 (Fri, 12 Apr 2019) |
| EndedAt: 2019-04-12 19:19:41 -0400 (Fri, 12 Apr 2019) |
| EllapsedTime: 42.6 seconds |
| RetCode: 0 |
| Status: OK |
##############################################################################
##############################################################################
###
### Running command:
###
### C:\cygwin\bin\curl.exe -O https://malbec1.bioconductor.org/BBS/3.8/bioc/src/contrib/PAPi_1.22.1.tar.gz && rm -rf PAPi.buildbin-libdir && mkdir PAPi.buildbin-libdir && C:\Users\biocbuild\bbs-3.8-bioc\R\bin\R.exe CMD INSTALL --merge-multiarch --build --library=PAPi.buildbin-libdir PAPi_1.22.1.tar.gz && C:\Users\biocbuild\bbs-3.8-bioc\R\bin\R.exe CMD INSTALL PAPi_1.22.1.zip && rm PAPi_1.22.1.tar.gz PAPi_1.22.1.zip
###
##############################################################################
##############################################################################
% Total % Received % Xferd Average Speed Time Time Time Current
Dload Upload Total Spent Left Speed
0 0 0 0 0 0 0 0 --:--:-- --:--:-- --:--:-- 0
100 517k 100 517k 0 0 13.4M 0 --:--:-- --:--:-- --:--:-- 14.8M
install for i386
* installing *source* package 'PAPi' ...
** R
** data
** inst
** byte-compile and prepare package for lazy loading
** help
*** installing help indices
converting help for package 'PAPi'
finding HTML links ... done
PAPi-package html
addKeggCodes html
buildDatabase html
keggLibrary html
metabolomicsData html
papi html
papiData html
papiHtest html
papiLine html
papiResults html
** building package indices
** installing vignettes
'PAPiPackage.Rnw'
** testing if installed package can be loaded
In R CMD INSTALL
install for x64
* installing *source* package 'PAPi' ...
** testing if installed package can be loaded
* MD5 sums
packaged installation of 'PAPi' as PAPi_1.22.1.zip
* DONE (PAPi)
In R CMD INSTALL
In R CMD INSTALL
* installing to library 'C:/Users/biocbuild/bbs-3.8-bioc/R/library'
package 'PAPi' successfully unpacked and MD5 sums checked
In R CMD INSTALL