| Back to Multiple platform build/check report for BioC 3.8 |
|
This page was generated on 2019-04-13 11:21:50 -0400 (Sat, 13 Apr 2019).
| Package 1115/1649 | Hostname | OS / Arch | INSTALL | BUILD | CHECK | BUILD BIN | ||||||
| PANR 1.28.1 Xin Wang
| malbec1 | Linux (Ubuntu 16.04.6 LTS) / x86_64 | OK | OK | OK | |||||||
| tokay1 | Windows Server 2012 R2 Standard / x64 | OK | OK | WARNINGS | [ OK ] | |||||||
| merida1 | OS X 10.11.6 El Capitan / x86_64 | OK | OK | OK | OK |
| Package: PANR |
| Version: 1.28.1 |
| Command: rm -rf PANR.buildbin-libdir && mkdir PANR.buildbin-libdir && C:\Users\biocbuild\bbs-3.8-bioc\R\bin\R.exe CMD INSTALL --merge-multiarch --build --library=PANR.buildbin-libdir PANR_1.28.1.tar.gz |
| StartedAt: 2019-04-13 07:44:45 -0400 (Sat, 13 Apr 2019) |
| EndedAt: 2019-04-13 07:44:54 -0400 (Sat, 13 Apr 2019) |
| EllapsedTime: 9.2 seconds |
| RetCode: 0 |
| Status: OK |
| PackageFile: PANR_1.28.1.zip |
| PackageFileSize: 2.009 MiB |
##############################################################################
##############################################################################
###
### Running command:
###
### rm -rf PANR.buildbin-libdir && mkdir PANR.buildbin-libdir && C:\Users\biocbuild\bbs-3.8-bioc\R\bin\R.exe CMD INSTALL --merge-multiarch --build --library=PANR.buildbin-libdir PANR_1.28.1.tar.gz
###
##############################################################################
##############################################################################
install for i386
* installing *source* package 'PANR' ...
** R
** data
** inst
** byte-compile and prepare package for lazy loading
** help
*** installing help indices
converting help for package 'PANR'
finding HTML links ... done
BetaMixture-class html
PAN-class html
Rd warning: C:/Users/biocbuild/bbs-3.8-bioc/tmpdir/RtmpG2fCcW/R.INSTALLbc84eb5222a/PANR/man/PAN-class.Rd:21: file link 'BetaMixture' in package 'PANR' does not exist and so has been treated as a topic
Rd warning: C:/Users/biocbuild/bbs-3.8-bioc/tmpdir/RtmpG2fCcW/R.INSTALLbc84eb5222a/PANR/man/PAN-class.Rd:85: file link 'igraph' in package 'igraph' does not exist and so has been treated as a topic
Rd warning: C:/Users/biocbuild/bbs-3.8-bioc/tmpdir/RtmpG2fCcW/R.INSTALLbc84eb5222a/PANR/man/PAN-class.Rd:85: file link 'RedeR' in package 'RedeR' does not exist and so has been treated as a topic
Rd warning: C:/Users/biocbuild/bbs-3.8-bioc/tmpdir/RtmpG2fCcW/R.INSTALLbc84eb5222a/PANR/man/PAN-class.Rd:89: file link 'igraph' in package 'igraph' does not exist and so has been treated as a topic
Rd warning: C:/Users/biocbuild/bbs-3.8-bioc/tmpdir/RtmpG2fCcW/R.INSTALLbc84eb5222a/PANR/man/PAN-class.Rd:89: file link 'RedeR' in package 'RedeR' does not exist and so has been treated as a topic
SNR2p html
assoScore html
buildPAN html
Rd warning: C:/Users/biocbuild/bbs-3.8-bioc/tmpdir/RtmpG2fCcW/R.INSTALLbc84eb5222a/PANR/man/buildPAN.Rd:9: file link 'igraph' in package 'igraph' does not exist and so has been treated as a topic
Rd warning: C:/Users/biocbuild/bbs-3.8-bioc/tmpdir/RtmpG2fCcW/R.INSTALLbc84eb5222a/PANR/man/buildPAN.Rd:9: file link 'RedeR' in package 'RedeR' does not exist and so has been treated as a topic
Rd warning: C:/Users/biocbuild/bbs-3.8-bioc/tmpdir/RtmpG2fCcW/R.INSTALLbc84eb5222a/PANR/man/buildPAN.Rd:40: file link 'BetaMixture' in package 'PANR' does not exist and so has been treated as a topic
Rd warning: C:/Users/biocbuild/bbs-3.8-bioc/tmpdir/RtmpG2fCcW/R.INSTALLbc84eb5222a/PANR/man/buildPAN.Rd:44: file link 'BetaMixture' in package 'PANR' does not exist and so has been treated as a topic
cosineSim html
data-Bakal2007 html
Rd warning: C:/Users/biocbuild/bbs-3.8-bioc/tmpdir/RtmpG2fCcW/R.INSTALLbc84eb5222a/PANR/man/data-Bakal2007.Rd:29: file link 'BetaMixture' in package 'PANR' does not exist and so has been treated as a topic
edgeWeight html
exportPAN html
Rd warning: C:/Users/biocbuild/bbs-3.8-bioc/tmpdir/RtmpG2fCcW/R.INSTALLbc84eb5222a/PANR/man/exportPAN.Rd:8: file link 'write.graph' in package 'igraph' does not exist and so has been treated as a topic
Rd warning: C:/Users/biocbuild/bbs-3.8-bioc/tmpdir/RtmpG2fCcW/R.INSTALLbc84eb5222a/PANR/man/exportPAN.Rd:8: file link 'igraph' in package 'igraph' does not exist and so has been treated as a topic
Rd warning: C:/Users/biocbuild/bbs-3.8-bioc/tmpdir/RtmpG2fCcW/R.INSTALLbc84eb5222a/PANR/man/exportPAN.Rd:31: file link 'write.graph' in package 'igraph' does not exist and so has been treated as a topic
fitBM html
Rd warning: C:/Users/biocbuild/bbs-3.8-bioc/tmpdir/RtmpG2fCcW/R.INSTALLbc84eb5222a/PANR/man/fitBM.Rd:40: file link 'BetaMixture' in package 'PANR' does not exist and so has been treated as a topic
fitNULL html
Rd warning: C:/Users/biocbuild/bbs-3.8-bioc/tmpdir/RtmpG2fCcW/R.INSTALLbc84eb5222a/PANR/man/fitNULL.Rd:25: file link 'dbeta' in package 'stats' does not exist and so has been treated as a topic
infer html
p2SNR html
permNULL html
Rd warning: C:/Users/biocbuild/bbs-3.8-bioc/tmpdir/RtmpG2fCcW/R.INSTALLbc84eb5222a/PANR/man/permNULL.Rd:28: file link 'BetaMixture' in package 'PANR' does not exist and so has been treated as a topic
pvclustModule html
sigModules html
summarize html
view html
viewLegend html
viewNestedModules html
Rd warning: C:/Users/biocbuild/bbs-3.8-bioc/tmpdir/RtmpG2fCcW/R.INSTALLbc84eb5222a/PANR/man/viewNestedModules.Rd:9: file link 'RedeR' in package 'RedeR' does not exist and so has been treated as a topic
Rd warning: C:/Users/biocbuild/bbs-3.8-bioc/tmpdir/RtmpG2fCcW/R.INSTALLbc84eb5222a/PANR/man/viewNestedModules.Rd:38: file link 'RedeR' in package 'RedeR' does not exist and so has been treated as a topic
viewPAN html
Rd warning: C:/Users/biocbuild/bbs-3.8-bioc/tmpdir/RtmpG2fCcW/R.INSTALLbc84eb5222a/PANR/man/viewPAN.Rd:10: file link 'RedeR' in package 'RedeR' does not exist and so has been treated as a topic
Rd warning: C:/Users/biocbuild/bbs-3.8-bioc/tmpdir/RtmpG2fCcW/R.INSTALLbc84eb5222a/PANR/man/viewPAN.Rd:28: file link 'layout' in package 'igraph' does not exist and so has been treated as a topic
Rd warning: C:/Users/biocbuild/bbs-3.8-bioc/tmpdir/RtmpG2fCcW/R.INSTALLbc84eb5222a/PANR/man/viewPAN.Rd:42: file link 'RedeR' in package 'RedeR' does not exist and so has been treated as a topic
Rd warning: C:/Users/biocbuild/bbs-3.8-bioc/tmpdir/RtmpG2fCcW/R.INSTALLbc84eb5222a/PANR/man/viewPAN.Rd:60: file link 'layout' in package 'igraph' does not exist and so has been treated as a topic
** building package indices
** installing vignettes
** testing if installed package can be loaded
In R CMD INSTALL
install for x64
* installing *source* package 'PANR' ...
** testing if installed package can be loaded
* MD5 sums
packaged installation of 'PANR' as PANR_1.28.1.zip
* DONE (PANR)
In R CMD INSTALL
In R CMD INSTALL