| Back to Multiple platform build/check report for BioC 3.8 |
|
This page was generated on 2019-04-13 11:27:35 -0400 (Sat, 13 Apr 2019).
| Package 1102/1649 | Hostname | OS / Arch | INSTALL | BUILD | CHECK | BUILD BIN | ||||||
| Organism.dplyr 1.10.0 Martin Morgan
| malbec1 | Linux (Ubuntu 16.04.6 LTS) / x86_64 | OK | OK | OK | |||||||
| tokay1 | Windows Server 2012 R2 Standard / x64 | OK | OK | WARNINGS | [ OK ] | |||||||
| merida1 | OS X 10.11.6 El Capitan / x86_64 | OK | OK | OK | OK |
| Package: Organism.dplyr |
| Version: 1.10.0 |
| Command: rm -rf Organism.dplyr.buildbin-libdir && mkdir Organism.dplyr.buildbin-libdir && C:\Users\biocbuild\bbs-3.8-bioc\R\bin\R.exe CMD INSTALL --merge-multiarch --build --library=Organism.dplyr.buildbin-libdir Organism.dplyr_1.10.0.tar.gz |
| StartedAt: 2019-04-13 07:44:14 -0400 (Sat, 13 Apr 2019) |
| EndedAt: 2019-04-13 07:44:59 -0400 (Sat, 13 Apr 2019) |
| EllapsedTime: 45.8 seconds |
| RetCode: 0 |
| Status: OK |
| PackageFile: Organism.dplyr_1.10.0.zip |
| PackageFileSize: 774.8 KiB |
##############################################################################
##############################################################################
###
### Running command:
###
### rm -rf Organism.dplyr.buildbin-libdir && mkdir Organism.dplyr.buildbin-libdir && C:\Users\biocbuild\bbs-3.8-bioc\R\bin\R.exe CMD INSTALL --merge-multiarch --build --library=Organism.dplyr.buildbin-libdir Organism.dplyr_1.10.0.tar.gz
###
##############################################################################
##############################################################################
install for i386
* installing *source* package 'Organism.dplyr' ...
** R
** inst
** byte-compile and prepare package for lazy loading
** help
*** installing help indices
converting help for package 'Organism.dplyr'
finding HTML links ... done
Genomic-Extractors html
finding level-2 HTML links ... done
filter html
Rd warning: C:/Users/biocbuild/bbs-3.8-bioc/tmpdir/RtmpaotW7B/R.INSTALL16c048c779b/Organism.dplyr/man/filter.Rd:152: file link 'transcripts_tbl' in package 'Organism.dplyr' does not exist and so has been treated as a topic
Rd warning: C:/Users/biocbuild/bbs-3.8-bioc/tmpdir/RtmpaotW7B/R.INSTALL16c048c779b/Organism.dplyr/man/filter.Rd:155: file link 'select,src_organism-method' in package 'Organism.dplyr' does not exist and so has been treated as a topic
select html
Rd warning: C:/Users/biocbuild/bbs-3.8-bioc/tmpdir/RtmpaotW7B/R.INSTALL16c048c779b/Organism.dplyr/man/select.Rd:137: file link 'transcripts_tbl' in package 'Organism.dplyr' does not exist and so has been treated as a topic
src html
Rd warning: C:/Users/biocbuild/bbs-3.8-bioc/tmpdir/RtmpaotW7B/R.INSTALL16c048c779b/Organism.dplyr/man/src.Rd:126: file link 'transcripts_tbl' in package 'Organism.dplyr' does not exist and so has been treated as a topic
Rd warning: C:/Users/biocbuild/bbs-3.8-bioc/tmpdir/RtmpaotW7B/R.INSTALL16c048c779b/Organism.dplyr/man/src.Rd:129: file link 'select,src_organism-method' in package 'Organism.dplyr' does not exist and so has been treated as a topic
utils html
** building package indices
** installing vignettes
** testing if installed package can be loaded
In R CMD INSTALL
install for x64
* installing *source* package 'Organism.dplyr' ...
** testing if installed package can be loaded
* MD5 sums
packaged installation of 'Organism.dplyr' as Organism.dplyr_1.10.0.zip
* DONE (Organism.dplyr)
In R CMD INSTALL
In R CMD INSTALL