| Back to Multiple platform build/check report for BioC 3.8 |
|
This page was generated on 2019-04-13 11:28:38 -0400 (Sat, 13 Apr 2019).
| Package 1079/1649 | Hostname | OS / Arch | INSTALL | BUILD | CHECK | BUILD BIN | ||||||
| OmaDB 1.2.2 Klara Kaleb
| malbec1 | Linux (Ubuntu 16.04.6 LTS) / x86_64 | OK | OK | OK | |||||||
| tokay1 | Windows Server 2012 R2 Standard / x64 | OK | OK | OK | [ OK ] | |||||||
| merida1 | OS X 10.11.6 El Capitan / x86_64 | OK | OK | OK | OK |
| Package: OmaDB |
| Version: 1.2.2 |
| Command: rm -rf OmaDB.buildbin-libdir && mkdir OmaDB.buildbin-libdir && C:\Users\biocbuild\bbs-3.8-bioc\R\bin\R.exe CMD INSTALL --merge-multiarch --build --library=OmaDB.buildbin-libdir OmaDB_1.2.2.tar.gz |
| StartedAt: 2019-04-13 07:43:17 -0400 (Sat, 13 Apr 2019) |
| EndedAt: 2019-04-13 07:43:40 -0400 (Sat, 13 Apr 2019) |
| EllapsedTime: 23.6 seconds |
| RetCode: 0 |
| Status: OK |
| PackageFile: OmaDB_1.2.2.zip |
| PackageFileSize: 200.6 KiB |
##############################################################################
##############################################################################
###
### Running command:
###
### rm -rf OmaDB.buildbin-libdir && mkdir OmaDB.buildbin-libdir && C:\Users\biocbuild\bbs-3.8-bioc\R\bin\R.exe CMD INSTALL --merge-multiarch --build --library=OmaDB.buildbin-libdir OmaDB_1.2.2.tar.gz
###
##############################################################################
##############################################################################
install for i386
* installing *source* package 'OmaDB' ...
** R
** data
*** moving datasets to lazyload DB
** inst
** byte-compile and prepare package for lazy loading
** help
*** installing help indices
converting help for package 'OmaDB'
finding HTML links ... done
OmaDB-package html
bulkRetrieve html
cash-.omadb_obj html
formatTopGO html
getAnnotation html
getAttribute html
getData html
getGenomeAlignment html
getHOG html
getInfo html
getObjectAttributes html
getTaxonomy html
getTopGO html
getTree html
getXref html
group html
hog html
mapSequence html
orthologs html
pairs html
protein html
resolveURL html
sequence_annotation html
sequence_map html
taxonomy html
xref html
** building package indices
** installing vignettes
** testing if installed package can be loaded
In R CMD INSTALL
install for x64
* installing *source* package 'OmaDB' ...
** testing if installed package can be loaded
* MD5 sums
packaged installation of 'OmaDB' as OmaDB_1.2.2.zip
* DONE (OmaDB)
In R CMD INSTALL
In R CMD INSTALL