| Back to Multiple platform build/check report for BioC 3.8 |
|
This page was generated on 2019-04-16 11:55:20 -0400 (Tue, 16 Apr 2019).
| Package 1106/1649 | Hostname | OS / Arch | INSTALL | BUILD | CHECK | BUILD BIN | ||||||
| OTUbase 1.32.0 Daniel Beck
| malbec1 | Linux (Ubuntu 16.04.6 LTS) / x86_64 | OK | OK | OK | |||||||
| merida1 | OS X 10.11.6 El Capitan / x86_64 | OK | OK | [ OK ] | OK |
| Package: OTUbase |
| Version: 1.32.0 |
| Command: /Library/Frameworks/R.framework/Versions/Current/Resources/bin/R CMD check --install=check:OTUbase.install-out.txt --library=/Library/Frameworks/R.framework/Versions/Current/Resources/library --no-vignettes --timings OTUbase_1.32.0.tar.gz |
| StartedAt: 2019-04-16 01:44:35 -0400 (Tue, 16 Apr 2019) |
| EndedAt: 2019-04-16 01:48:19 -0400 (Tue, 16 Apr 2019) |
| EllapsedTime: 224.0 seconds |
| RetCode: 0 |
| Status: OK |
| CheckDir: OTUbase.Rcheck |
| Warnings: 0 |
##############################################################################
##############################################################################
###
### Running command:
###
### /Library/Frameworks/R.framework/Versions/Current/Resources/bin/R CMD check --install=check:OTUbase.install-out.txt --library=/Library/Frameworks/R.framework/Versions/Current/Resources/library --no-vignettes --timings OTUbase_1.32.0.tar.gz
###
##############################################################################
##############################################################################
* using log directory ‘/Users/biocbuild/bbs-3.8-bioc/meat/OTUbase.Rcheck’
* using R version 3.5.3 (2019-03-11)
* using platform: x86_64-apple-darwin15.6.0 (64-bit)
* using session charset: UTF-8
* using option ‘--no-vignettes’
* checking for file ‘OTUbase/DESCRIPTION’ ... OK
* checking extension type ... Package
* this is package ‘OTUbase’ version ‘1.32.0’
* checking package namespace information ... OK
* checking package dependencies ... OK
* checking if this is a source package ... OK
* checking if there is a namespace ... OK
* checking for hidden files and directories ... OK
* checking for portable file names ... OK
* checking for sufficient/correct file permissions ... OK
* checking whether package ‘OTUbase’ can be installed ... OK
* checking installed package size ... OK
* checking package directory ... OK
* checking ‘build’ directory ... OK
* checking DESCRIPTION meta-information ... NOTE
Malformed Description field: should contain one or more complete sentences.
* checking top-level files ... OK
* checking for left-over files ... OK
* checking index information ... OK
* checking package subdirectories ... OK
* checking R files for non-ASCII characters ... OK
* checking R files for syntax errors ... OK
* checking whether the package can be loaded ... OK
* checking whether the package can be loaded with stated dependencies ... OK
* checking whether the package can be unloaded cleanly ... OK
* checking whether the namespace can be loaded with stated dependencies ... OK
* checking whether the namespace can be unloaded cleanly ... OK
* checking dependencies in R code ... NOTE
Package in Depends field not imported from: ‘vegan’
These packages need to be imported from (in the NAMESPACE file)
for when this namespace is loaded but not attached.
* checking S3 generic/method consistency ... OK
* checking replacement functions ... OK
* checking foreign function calls ... OK
* checking R code for possible problems ... NOTE
.onAttach: warning in packageDescription("OTUbase", field = "Version"):
partial argument match of 'field' to 'fields'
.readADF: warning in read.table(file.path(dirPath, ADF), sep = "\t",
head = T): partial argument match of 'head' to 'header'
.readRDP: warning in read.table(file.path(dirPath, ADF), head = F, sep
= "\t", stringsAsFactors = F): partial argument match of 'head' to
'header'
.readrdpfix: warning in read.table(file.path(dirPath, rdpfile), head =
F, stringsAsFactors = F, sep = "\t"): partial argument match of
'head' to 'header'
readTAXset: warning in read.table(file.path(dirPath, namefile), head =
F, stringsAsFactors = F, sep = "\t"): partial argument match of
'head' to 'header'
o_diversity: no visible global function definition for ‘diversity’
o_estimateR : <anonymous>: no visible global function definition for
‘estimateR’
clusterSamples,.OTUset: no visible global function definition for
‘vegdist’
clusterSamples,.TAXset: no visible global function definition for
‘vegdist’
Undefined global functions or variables:
diversity estimateR vegdist
* checking Rd files ... OK
* checking Rd metadata ... OK
* checking Rd cross-references ... OK
* checking for missing documentation entries ... OK
* checking for code/documentation mismatches ... OK
* checking Rd \usage sections ... OK
* checking Rd contents ... OK
* checking for unstated dependencies in examples ... OK
* checking sizes of PDF files under ‘inst/doc’ ... OK
* checking files in ‘vignettes’ ... OK
* checking examples ... OK
* checking for unstated dependencies in vignettes ... OK
* checking package vignettes in ‘inst/doc’ ... OK
* checking running R code from vignettes ... SKIPPED
* checking re-building of vignette outputs ... SKIPPED
* checking PDF version of manual ... OK
* DONE
Status: 3 NOTEs
See
‘/Users/biocbuild/bbs-3.8-bioc/meat/OTUbase.Rcheck/00check.log’
for details.
OTUbase.Rcheck/00install.out
############################################################################## ############################################################################## ### ### Running command: ### ### /Library/Frameworks/R.framework/Versions/Current/Resources/bin/R CMD INSTALL OTUbase ### ############################################################################## ############################################################################## * installing to library ‘/Library/Frameworks/R.framework/Versions/3.5/Resources/library’ * installing *source* package ‘OTUbase’ ... ** R ** inst ** byte-compile and prepare package for lazy loading ** help *** installing help indices ** building package indices ** installing vignettes ** testing if installed package can be loaded * DONE (OTUbase)
OTUbase.Rcheck/OTUbase-Ex.timings
| name | user | system | elapsed | |
| OTUset-class | 0.436 | 0.009 | 0.447 | |
| TAXset-class | 0.614 | 0.081 | 0.744 | |
| abundance | 0.294 | 0.021 | 0.334 | |
| accessors | 0.163 | 0.010 | 0.173 | |
| assignmentData | 0.121 | 0.002 | 0.124 | |
| clusterSamples | 0.166 | 0.003 | 0.170 | |
| other_functions | 0.121 | 0.003 | 0.124 | |
| other_generics | 0.107 | 0.003 | 0.109 | |
| readOTUset | 0.707 | 0.004 | 0.713 | |
| readTAXset | 0.090 | 0.002 | 0.094 | |
| sampleData | 0.112 | 0.002 | 0.114 | |
| subOTUset | 0.161 | 0.002 | 0.162 | |
| subTAXset | 0.121 | 0.003 | 0.125 | |