| Back to Multiple platform build/check report for BioC 3.8 |
|
This page was generated on 2019-04-13 11:29:44 -0400 (Sat, 13 Apr 2019).
| Package 1085/1649 | Hostname | OS / Arch | INSTALL | BUILD | CHECK | BUILD BIN | ||||||
| OMICsPCA 1.0.1 Subhadeep Das
| malbec1 | Linux (Ubuntu 16.04.6 LTS) / x86_64 | OK | OK | OK | |||||||
| tokay1 | Windows Server 2012 R2 Standard / x64 | OK | OK | OK | [ OK ] | |||||||
| merida1 | OS X 10.11.6 El Capitan / x86_64 | OK | OK | WARNINGS | OK |
| Package: OMICsPCA |
| Version: 1.0.1 |
| Command: rm -rf OMICsPCA.buildbin-libdir && mkdir OMICsPCA.buildbin-libdir && C:\Users\biocbuild\bbs-3.8-bioc\R\bin\R.exe CMD INSTALL --merge-multiarch --build --library=OMICsPCA.buildbin-libdir OMICsPCA_1.0.1.tar.gz |
| StartedAt: 2019-04-13 07:43:28 -0400 (Sat, 13 Apr 2019) |
| EndedAt: 2019-04-13 07:44:18 -0400 (Sat, 13 Apr 2019) |
| EllapsedTime: 49.6 seconds |
| RetCode: 0 |
| Status: OK |
| PackageFile: OMICsPCA_1.0.1.zip |
| PackageFileSize: 1.661 MiB |
##############################################################################
##############################################################################
###
### Running command:
###
### rm -rf OMICsPCA.buildbin-libdir && mkdir OMICsPCA.buildbin-libdir && C:\Users\biocbuild\bbs-3.8-bioc\R\bin\R.exe CMD INSTALL --merge-multiarch --build --library=OMICsPCA.buildbin-libdir OMICsPCA_1.0.1.tar.gz
###
##############################################################################
##############################################################################
install for i386
* installing *source* package 'OMICsPCA' ...
** R
** inst
** byte-compile and prepare package for lazy loading
** help
*** installing help indices
converting help for package 'OMICsPCA'
finding HTML links ... done
analyse_individuals html
analyse_integrated_individuals html
analyse_integrated_variables html
analyse_variables html
chart_correlation html
cluster html
cluster_boxplot html
cluster_parameters html
create_group html
descriptor html
extract html
extract_assay html
integrate_pca html
integrate_variables html
intersect html
merge_cells html
plot_density html
plot_density_3D html
plot_integrated_density html
plot_integrated_density_3D html
prepare_dataset html
** building package indices
** installing vignettes
** testing if installed package can be loaded
In R CMD INSTALL
install for x64
* installing *source* package 'OMICsPCA' ...
** testing if installed package can be loaded
* MD5 sums
packaged installation of 'OMICsPCA' as OMICsPCA_1.0.1.zip
* DONE (OMICsPCA)
In R CMD INSTALL
In R CMD INSTALL