| Back to Multiple platform build/check report for BioC 3.8 |
|
This page was generated on 2019-04-13 11:19:55 -0400 (Sat, 13 Apr 2019).
| Package 1072/1649 | Hostname | OS / Arch | INSTALL | BUILD | CHECK | BUILD BIN | ||||||
| OCplus 1.56.0 Alexander Ploner
| malbec1 | Linux (Ubuntu 16.04.6 LTS) / x86_64 | OK | OK | OK | |||||||
| tokay1 | Windows Server 2012 R2 Standard / x64 | OK | OK | OK | [ OK ] | |||||||
| merida1 | OS X 10.11.6 El Capitan / x86_64 | OK | OK | OK | OK |
| Package: OCplus |
| Version: 1.56.0 |
| Command: rm -rf OCplus.buildbin-libdir && mkdir OCplus.buildbin-libdir && C:\Users\biocbuild\bbs-3.8-bioc\R\bin\R.exe CMD INSTALL --merge-multiarch --build --library=OCplus.buildbin-libdir OCplus_1.56.0.tar.gz |
| StartedAt: 2019-04-13 07:43:03 -0400 (Sat, 13 Apr 2019) |
| EndedAt: 2019-04-13 07:43:21 -0400 (Sat, 13 Apr 2019) |
| EllapsedTime: 17.7 seconds |
| RetCode: 0 |
| Status: OK |
| PackageFile: OCplus_1.56.0.zip |
| PackageFileSize: 563.6 KiB |
##############################################################################
##############################################################################
###
### Running command:
###
### rm -rf OCplus.buildbin-libdir && mkdir OCplus.buildbin-libdir && C:\Users\biocbuild\bbs-3.8-bioc\R\bin\R.exe CMD INSTALL --merge-multiarch --build --library=OCplus.buildbin-libdir OCplus_1.56.0.tar.gz
###
##############################################################################
##############################################################################
install for i386
* installing *source* package 'OCplus' ...
** R
** inst
** byte-compile and prepare package for lazy loading
** help
*** installing help indices
converting help for package 'OCplus'
finding HTML links ... done
DrawContourlines html
EOC html
FDR html
MAsim.smyth html
OCshow html
TOC html
Undocumented html
average.fdr html
fdr1d html
fdr2d html
plot.FDR.result html
plot.fdr1d.result html
plot.fdr2d.result html
samplesize html
smooth1d html
summary.fdr.result html
tMixture html
tstatistics html
** building package indices
** installing vignettes
** testing if installed package can be loaded
In R CMD INSTALL
install for x64
* installing *source* package 'OCplus' ...
** testing if installed package can be loaded
* MD5 sums
packaged installation of 'OCplus' as OCplus_1.56.0.zip
* DONE (OCplus)
In R CMD INSTALL
In R CMD INSTALL