| Back to Multiple platform build/check report for BioC 3.8 |
|
This page was generated on 2019-04-13 11:21:21 -0400 (Sat, 13 Apr 2019).
| Package 1070/1649 | Hostname | OS / Arch | INSTALL | BUILD | CHECK | BUILD BIN | ||||||
| NuPoP 1.32.0 Ji-Ping Wang
| malbec1 | Linux (Ubuntu 16.04.6 LTS) / x86_64 | OK | OK | OK | |||||||
| tokay1 | Windows Server 2012 R2 Standard / x64 | OK | OK | OK | [ OK ] | |||||||
| merida1 | OS X 10.11.6 El Capitan / x86_64 | OK | OK | OK | OK |
| Package: NuPoP |
| Version: 1.32.0 |
| Command: rm -rf NuPoP.buildbin-libdir && mkdir NuPoP.buildbin-libdir && C:\Users\biocbuild\bbs-3.8-bioc\R\bin\R.exe CMD INSTALL --merge-multiarch --build --library=NuPoP.buildbin-libdir NuPoP_1.32.0.tar.gz |
| StartedAt: 2019-04-13 07:42:59 -0400 (Sat, 13 Apr 2019) |
| EndedAt: 2019-04-13 07:43:11 -0400 (Sat, 13 Apr 2019) |
| EllapsedTime: 12.7 seconds |
| RetCode: 0 |
| Status: OK |
| PackageFile: NuPoP_1.32.0.zip |
| PackageFileSize: 2.226 MiB |
##############################################################################
##############################################################################
###
### Running command:
###
### rm -rf NuPoP.buildbin-libdir && mkdir NuPoP.buildbin-libdir && C:\Users\biocbuild\bbs-3.8-bioc\R\bin\R.exe CMD INSTALL --merge-multiarch --build --library=NuPoP.buildbin-libdir NuPoP_1.32.0.tar.gz
###
##############################################################################
##############################################################################
install for i386
* installing *source* package 'NuPoP' ...
** libs
C:/Rtools/mingw_32/bin/gfortran -O3 -mtune=generic -c vtbfb.f90 -o vtbfb.o
C:/Rtools/mingw_32/bin/gfortran -O3 -mtune=generic -c vtbfbNL4.f90 -o vtbfbNL4.o
C:/Rtools/mingw_32/bin/gfortran -shared -s -static-libgcc -o NuPoP.dll tmp.def vtbfb.o vtbfbNL4.o -LC:/extsoft/lib/i386 -LC:/extsoft/lib -LC:/Users/BIOCBU˜1/BBS-3˜1.8-B/R/bin/i386 -lR
installing to C:/Users/biocbuild/bbs-3.8-bioc/meat/NuPoP.buildbin-libdir/NuPoP/libs/i386
** R
** inst
** byte-compile and prepare package for lazy loading
** help
*** installing help indices
converting help for package 'NuPoP'
finding HTML links ... done
NuPoP-package html
plotNuPoP html
predNuPoP html
readNuPoP html
** building package indices
** installing vignettes
** testing if installed package can be loaded
In R CMD INSTALL
install for x64
* installing *source* package 'NuPoP' ...
** libs
C:/Rtools/mingw_64/bin/gfortran -O2 -mtune=generic -c vtbfb.f90 -o vtbfb.o
C:/Rtools/mingw_64/bin/gfortran -O2 -mtune=generic -c vtbfbNL4.f90 -o vtbfbNL4.o
C:/Rtools/mingw_64/bin/gfortran -shared -s -static-libgcc -o NuPoP.dll tmp.def vtbfb.o vtbfbNL4.o -LC:/extsoft/lib/x64 -LC:/extsoft/lib -LC:/Users/BIOCBU˜1/BBS-3˜1.8-B/R/bin/x64 -lR
installing to C:/Users/biocbuild/bbs-3.8-bioc/meat/NuPoP.buildbin-libdir/NuPoP/libs/x64
** testing if installed package can be loaded
* MD5 sums
packaged installation of 'NuPoP' as NuPoP_1.32.0.zip
* DONE (NuPoP)
In R CMD INSTALL
In R CMD INSTALL