| Back to Multiple platform build/check report for BioC 3.8 |
|
This page was generated on 2019-04-16 11:49:15 -0400 (Tue, 16 Apr 2019).
| Package 1062/1649 | Hostname | OS / Arch | INSTALL | BUILD | CHECK | BUILD BIN | ||||||
| NormqPCR 1.28.0 James Perkins
| malbec1 | Linux (Ubuntu 16.04.6 LTS) / x86_64 | OK | OK | [ OK ] | |||||||
| merida1 | OS X 10.11.6 El Capitan / x86_64 | OK | OK | WARNINGS | OK |
| Package: NormqPCR |
| Version: 1.28.0 |
| Command: /home/biocbuild/bbs-3.8-bioc/R/bin/R CMD check --install=check:NormqPCR.install-out.txt --library=/home/biocbuild/bbs-3.8-bioc/R/library --no-vignettes --timings NormqPCR_1.28.0.tar.gz |
| StartedAt: 2019-04-16 01:48:01 -0400 (Tue, 16 Apr 2019) |
| EndedAt: 2019-04-16 01:49:50 -0400 (Tue, 16 Apr 2019) |
| EllapsedTime: 108.6 seconds |
| RetCode: 0 |
| Status: OK |
| CheckDir: NormqPCR.Rcheck |
| Warnings: 0 |
##############################################################################
##############################################################################
###
### Running command:
###
### /home/biocbuild/bbs-3.8-bioc/R/bin/R CMD check --install=check:NormqPCR.install-out.txt --library=/home/biocbuild/bbs-3.8-bioc/R/library --no-vignettes --timings NormqPCR_1.28.0.tar.gz
###
##############################################################################
##############################################################################
* using log directory ‘/home/biocbuild/bbs-3.8-bioc/meat/NormqPCR.Rcheck’
* using R version 3.5.3 (2019-03-11)
* using platform: x86_64-pc-linux-gnu (64-bit)
* using session charset: UTF-8
* using option ‘--no-vignettes’
* checking for file ‘NormqPCR/DESCRIPTION’ ... OK
* this is package ‘NormqPCR’ version ‘1.28.0’
* checking package namespace information ... OK
* checking package dependencies ... OK
* checking if this is a source package ... OK
* checking if there is a namespace ... OK
* checking for hidden files and directories ... OK
* checking for portable file names ... OK
* checking for sufficient/correct file permissions ... OK
* checking whether package ‘NormqPCR’ can be installed ... OK
* checking installed package size ... OK
* checking package directory ... OK
* checking ‘build’ directory ... OK
* checking DESCRIPTION meta-information ... OK
* checking top-level files ... OK
* checking for left-over files ... OK
* checking index information ... OK
* checking package subdirectories ... OK
* checking R files for non-ASCII characters ... OK
* checking R files for syntax errors ... OK
* checking whether the package can be loaded ... OK
* checking whether the package can be loaded with stated dependencies ... OK
* checking whether the package can be unloaded cleanly ... OK
* checking whether the namespace can be loaded with stated dependencies ... OK
* checking whether the namespace can be unloaded cleanly ... OK
* checking dependencies in R code ... OK
* checking S3 generic/method consistency ... OK
* checking replacement functions ... OK
* checking foreign function calls ... OK
* checking R code for possible problems ... NOTE
CqValues,CyclesSet: no visible binding for global variable ‘l5’
Undefined global functions or variables:
l5
* checking Rd files ... OK
* checking Rd metadata ... OK
* checking Rd cross-references ... OK
* checking for missing documentation entries ... OK
* checking for code/documentation mismatches ... OK
* checking Rd \usage sections ... OK
* checking Rd contents ... OK
* checking for unstated dependencies in examples ... OK
* checking contents of ‘data’ directory ... OK
* checking data for non-ASCII characters ... OK
* checking data for ASCII and uncompressed saves ... OK
* checking installed files from ‘inst/doc’ ... OK
* checking files in ‘vignettes’ ... OK
* checking examples ... OK
Examples with CPU or elapsed time > 5s
user system elapsed
CqValues 47.304 0.072 47.499
* checking for unstated dependencies in vignettes ... OK
* checking package vignettes in ‘inst/doc’ ... OK
* checking running R code from vignettes ... SKIPPED
* checking re-building of vignette outputs ... SKIPPED
* checking PDF version of manual ... OK
* DONE
Status: 1 NOTE
See
‘/home/biocbuild/bbs-3.8-bioc/meat/NormqPCR.Rcheck/00check.log’
for details.
NormqPCR.Rcheck/00install.out
############################################################################## ############################################################################## ### ### Running command: ### ### /home/biocbuild/bbs-3.8-bioc/R/bin/R CMD INSTALL NormqPCR ### ############################################################################## ############################################################################## * installing to library ‘/home/biocbuild/bbs-3.8-bioc/R/library’ * installing *source* package ‘NormqPCR’ ... ** R ** data *** moving datasets to lazyload DB ** inst ** byte-compile and prepare package for lazy loading ** help *** installing help indices ** building package indices ** installing vignettes ‘NormqPCR.Rnw’ ** testing if installed package can be loaded * DONE (NormqPCR)
NormqPCR.Rcheck/NormqPCR-Ex.timings
| name | user | system | elapsed | |
| Bladder | 0.012 | 0.004 | 0.014 | |
| BladderRepro | 0.008 | 0.000 | 0.006 | |
| Colon | 0.008 | 0.000 | 0.006 | |
| ComputeNRQs | 0.236 | 0.000 | 0.254 | |
| CqValues | 47.304 | 0.072 | 47.499 | |
| NormqPCR-package | 0 | 0 | 0 | |
| combineTechReps | 0.040 | 0.000 | 0.059 | |
| combineTechRepsSD | 0.072 | 0.000 | 0.070 | |
| deltaCt | 0.140 | 0.000 | 0.146 | |
| deltaDeltaCt | 0.184 | 0.000 | 0.184 | |
| geNorm | 0.008 | 0.000 | 0.011 | |
| geomMean | 0.000 | 0.000 | 0.001 | |
| makeAllNAs | 0.148 | 0.000 | 0.149 | |
| makeAllNewVal | 0.160 | 0.000 | 0.162 | |
| replaceAboveCutOff | 0.108 | 0.000 | 0.107 | |
| replaceNAs | 0.084 | 0.000 | 0.081 | |
| selectHKs | 0.028 | 0.000 | 0.027 | |
| stabMeasureM | 0.104 | 0.000 | 0.105 | |
| stabMeasureRho | 0.084 | 0.000 | 0.084 | |