| Back to Multiple platform build/check report for BioC 3.8 |
|
This page was generated on 2019-04-13 11:24:17 -0400 (Sat, 13 Apr 2019).
| Package 1056/1649 | Hostname | OS / Arch | INSTALL | BUILD | CHECK | BUILD BIN | ||||||
| NGScopy 1.16.1 Xiaobei Zhao
| malbec1 | Linux (Ubuntu 16.04.6 LTS) / x86_64 | ERROR | ERROR | skipped | |||||||
| tokay1 | Windows Server 2012 R2 Standard / x64 | ERROR | [ ERROR ] | skipped | skipped | |||||||
| merida1 | OS X 10.11.6 El Capitan / x86_64 | ERROR | ERROR | skipped | skipped |
| Package: NGScopy |
| Version: 1.16.1 |
| Command: chmod a+r NGScopy -R && C:\Users\biocbuild\bbs-3.8-bioc\R\bin\R.exe CMD build --keep-empty-dirs --no-resave-data NGScopy |
| StartedAt: 2019-04-12 22:11:48 -0400 (Fri, 12 Apr 2019) |
| EndedAt: 2019-04-12 22:11:53 -0400 (Fri, 12 Apr 2019) |
| EllapsedTime: 4.6 seconds |
| RetCode: 1 |
| Status: ERROR |
| PackageFile: NGScopy_1.16.1.tar.gz |
| PackageFileSize: 1.776 MiB |
##############################################################################
##############################################################################
###
### Running command:
###
### chmod a+r NGScopy -R && C:\Users\biocbuild\bbs-3.8-bioc\R\bin\R.exe CMD build --keep-empty-dirs --no-resave-data NGScopy
###
##############################################################################
##############################################################################
* checking for file 'NGScopy/DESCRIPTION' ... OK
* preparing 'NGScopy':
* checking DESCRIPTION meta-information ... OK
* installing the package to build vignettes
-----------------------------------
ERROR: dependency 'rbamtools' is not available for package 'NGScopy'
* removing 'C:/Users/biocbuild/bbs-3.8-bioc/tmpdir/RtmpKEppjJ/Rinstd5c33aa6193/NGScopy'
In R CMD INSTALL
-----------------------------------
ERROR: package installation failed