| Back to Multiple platform build/check report for BioC 3.8 |
|
This page was generated on 2019-04-16 11:53:40 -0400 (Tue, 16 Apr 2019).
| Package 1040/1649 | Hostname | OS / Arch | INSTALL | BUILD | CHECK | BUILD BIN | ||||||
| NBSplice 1.0.6 Gabriela Merino
| malbec1 | Linux (Ubuntu 16.04.6 LTS) / x86_64 | OK | OK | [ OK ] | |||||||
| merida1 | OS X 10.11.6 El Capitan / x86_64 | OK | OK | OK | OK |
| Package: NBSplice |
| Version: 1.0.6 |
| Command: /home/biocbuild/bbs-3.8-bioc/R/bin/R CMD check --install=check:NBSplice.install-out.txt --library=/home/biocbuild/bbs-3.8-bioc/R/library --no-vignettes --timings NBSplice_1.0.6.tar.gz |
| StartedAt: 2019-04-16 01:43:23 -0400 (Tue, 16 Apr 2019) |
| EndedAt: 2019-04-16 01:44:32 -0400 (Tue, 16 Apr 2019) |
| EllapsedTime: 68.6 seconds |
| RetCode: 0 |
| Status: OK |
| CheckDir: NBSplice.Rcheck |
| Warnings: 0 |
##############################################################################
##############################################################################
###
### Running command:
###
### /home/biocbuild/bbs-3.8-bioc/R/bin/R CMD check --install=check:NBSplice.install-out.txt --library=/home/biocbuild/bbs-3.8-bioc/R/library --no-vignettes --timings NBSplice_1.0.6.tar.gz
###
##############################################################################
##############################################################################
* using log directory ‘/home/biocbuild/bbs-3.8-bioc/meat/NBSplice.Rcheck’
* using R version 3.5.3 (2019-03-11)
* using platform: x86_64-pc-linux-gnu (64-bit)
* using session charset: UTF-8
* using option ‘--no-vignettes’
* checking for file ‘NBSplice/DESCRIPTION’ ... OK
* checking extension type ... Package
* this is package ‘NBSplice’ version ‘1.0.6’
* checking package namespace information ... OK
* checking package dependencies ... OK
* checking if this is a source package ... OK
* checking if there is a namespace ... OK
* checking for hidden files and directories ... OK
* checking for portable file names ... OK
* checking for sufficient/correct file permissions ... OK
* checking whether package ‘NBSplice’ can be installed ... OK
* checking installed package size ... OK
* checking package directory ... OK
* checking ‘build’ directory ... OK
* checking DESCRIPTION meta-information ... OK
* checking top-level files ... OK
* checking for left-over files ... OK
* checking index information ... OK
* checking package subdirectories ... OK
* checking R files for non-ASCII characters ... OK
* checking R files for syntax errors ... OK
* checking whether the package can be loaded ... OK
* checking whether the package can be loaded with stated dependencies ... OK
* checking whether the package can be unloaded cleanly ... OK
* checking whether the namespace can be loaded with stated dependencies ... OK
* checking whether the namespace can be unloaded cleanly ... OK
* checking dependencies in R code ... OK
* checking S3 generic/method consistency ... OK
* checking replacement functions ... OK
* checking foreign function calls ... OK
* checking R code for possible problems ... OK
* checking Rd files ... OK
* checking Rd metadata ... OK
* checking Rd cross-references ... OK
* checking for missing documentation entries ... OK
* checking for code/documentation mismatches ... OK
* checking Rd \usage sections ... OK
* checking Rd contents ... OK
* checking for unstated dependencies in examples ... OK
* checking contents of ‘data’ directory ... OK
* checking data for non-ASCII characters ... OK
* checking data for ASCII and uncompressed saves ... OK
* checking files in ‘vignettes’ ... OK
* checking examples ... OK
Examples with CPU or elapsed time > 5s
user system elapsed
IsoDataSet-NBTest 13.756 0.852 4.736
IsoDataSet-class 13.228 0.968 4.633
IsoDataSet-core 12.648 0.920 4.042
* checking for unstated dependencies in ‘tests’ ... OK
* checking tests ...
Running ‘runTests.R’
OK
* checking for unstated dependencies in vignettes ... OK
* checking package vignettes in ‘inst/doc’ ... OK
* checking running R code from vignettes ... SKIPPED
* checking re-building of vignette outputs ... SKIPPED
* checking PDF version of manual ... OK
* DONE
Status: OK
NBSplice.Rcheck/00install.out
############################################################################## ############################################################################## ### ### Running command: ### ### /home/biocbuild/bbs-3.8-bioc/R/bin/R CMD INSTALL NBSplice ### ############################################################################## ############################################################################## * installing to library ‘/home/biocbuild/bbs-3.8-bioc/R/library’ * installing *source* package ‘NBSplice’ ... ** R ** data ** inst ** byte-compile and prepare package for lazy loading ** help *** installing help indices ** building package indices ** installing vignettes ** testing if installed package can be loaded * DONE (NBSplice)
NBSplice.Rcheck/tests/runTests.Rout
R version 3.5.3 (2019-03-11) -- "Great Truth"
Copyright (C) 2019 The R Foundation for Statistical Computing
Platform: x86_64-pc-linux-gnu (64-bit)
R is free software and comes with ABSOLUTELY NO WARRANTY.
You are welcome to redistribute it under certain conditions.
Type 'license()' or 'licence()' for distribution details.
R is a collaborative project with many contributors.
Type 'contributors()' for more information and
'citation()' on how to cite R or R packages in publications.
Type 'demo()' for some demos, 'help()' for on-line help, or
'help.start()' for an HTML browser interface to help.
Type 'q()' to quit R.
> BiocGenerics:::testPackage("NBSplice")
Loading required package: BiocParallel
Loading required package: ggplot2
RUNIT TEST PROTOCOL -- Tue Apr 16 01:44:28 2019
***********************************************
Number of test functions: 20
Number of errors: 0
Number of failures: 0
1 Test Suite :
NBSplice RUnit Tests - 20 test functions, 0 errors, 0 failures
Number of test functions: 20
Number of errors: 0
Number of failures: 0
>
>
> proc.time()
user system elapsed
3.532 0.140 3.708
NBSplice.Rcheck/NBSplice-Ex.timings
| name | user | system | elapsed | |
| IsoDataSet-NBTest | 13.756 | 0.852 | 4.736 | |
| IsoDataSet-buildLowExpIdx | 0.608 | 0.184 | 0.525 | |
| IsoDataSet-class | 13.228 | 0.968 | 4.633 | |
| IsoDataSet-constructor | 0.076 | 0.032 | 0.241 | |
| IsoDataSet-core | 12.648 | 0.920 | 4.042 | |
| IsoDataSet-getters | 0.496 | 0.032 | 0.527 | |
| IsoDataSet-initialize | 0.128 | 0.024 | 0.299 | |
| IsoDataSet-print | 0.284 | 0.036 | 0.237 | |
| IsoDataSet-show | 0.208 | 0.000 | 0.208 | |
| NBSpliceRes-GetDSGenes | 0.028 | 0.004 | 0.051 | |
| NBSpliceRes-GetDSResults | 0.028 | 0.000 | 0.025 | |
| NBSpliceRes-GetGeneResults | 0.028 | 0.000 | 0.029 | |
| NBSpliceRes-class | 0.036 | 0.004 | 0.038 | |
| NBSpliceRes-constructor | 0.024 | 0.000 | 0.022 | |
| NBSpliceRes-getters | 0.024 | 0.000 | 0.024 | |
| NBSpliceRes-initialize | 0.024 | 0.000 | 0.022 | |
| NBSpliceRes-plotGeneResults | 0.076 | 0.000 | 0.075 | |
| NBSpliceRes-plotRatiosDisp | 0.036 | 0.000 | 0.038 | |
| NBSpliceRes-plotVolcano | 0.040 | 0.004 | 0.044 | |
| NBSpliceRes-print | 0.028 | 0.000 | 0.031 | |
| NBSpliceRes-show | 0.028 | 0.000 | 0.031 | |
| totalGeneCounts | 0.068 | 0.032 | 0.272 | |