| Back to Multiple platform build/check report for BioC 3.8 |
|
This page was generated on 2019-04-16 11:49:42 -0400 (Tue, 16 Apr 2019).
| Package 995/1649 | Hostname | OS / Arch | INSTALL | BUILD | CHECK | BUILD BIN | ||||||
| MotifDb 1.24.1 Paul Shannon
| malbec1 | Linux (Ubuntu 16.04.6 LTS) / x86_64 | [ OK ] | OK | OK | |||||||
| merida1 | OS X 10.11.6 El Capitan / x86_64 | OK | OK | OK | OK |
| Package: MotifDb |
| Version: 1.24.1 |
| Command: /home/biocbuild/bbs-3.8-bioc/R/bin/R CMD INSTALL MotifDb |
| StartedAt: 2019-04-15 18:17:47 -0400 (Mon, 15 Apr 2019) |
| EndedAt: 2019-04-15 18:18:18 -0400 (Mon, 15 Apr 2019) |
| EllapsedTime: 30.5 seconds |
| RetCode: 0 |
| Status: OK |
##############################################################################
##############################################################################
###
### Running command:
###
### /home/biocbuild/bbs-3.8-bioc/R/bin/R CMD INSTALL MotifDb
###
##############################################################################
##############################################################################
* installing to library ‘/home/biocbuild/bbs-3.8-bioc/R/library’
* installing *source* package ‘MotifDb’ ...
** R
** inst
** byte-compile and prepare package for lazy loading
** help
*** installing help indices
** building package indices
** installing vignettes
** testing if installed package can be loaded
See system.file("LICENSE", package="MotifDb") for use restrictions.
* DONE (MotifDb)