| Back to Multiple platform build/check report for BioC 3.8 |
|
This page was generated on 2019-04-13 11:22:09 -0400 (Sat, 13 Apr 2019).
| Package 962/1649 | Hostname | OS / Arch | INSTALL | BUILD | CHECK | BUILD BIN | ||||||
| MinimumDistance 1.26.0 Robert B Scharpf
| malbec1 | Linux (Ubuntu 16.04.6 LTS) / x86_64 | OK | OK | WARNINGS | |||||||
| tokay1 | Windows Server 2012 R2 Standard / x64 | [ OK ] | OK | WARNINGS | OK | |||||||
| merida1 | OS X 10.11.6 El Capitan / x86_64 | OK | OK | WARNINGS | OK |
| Package: MinimumDistance |
| Version: 1.26.0 |
| Command: C:\cygwin\bin\curl.exe -O https://malbec1.bioconductor.org/BBS/3.8/bioc/src/contrib/MinimumDistance_1.26.0.tar.gz && rm -rf MinimumDistance.buildbin-libdir && mkdir MinimumDistance.buildbin-libdir && C:\Users\biocbuild\bbs-3.8-bioc\R\bin\R.exe CMD INSTALL --merge-multiarch --build --library=MinimumDistance.buildbin-libdir MinimumDistance_1.26.0.tar.gz && C:\Users\biocbuild\bbs-3.8-bioc\R\bin\R.exe CMD INSTALL MinimumDistance_1.26.0.zip && rm MinimumDistance_1.26.0.tar.gz MinimumDistance_1.26.0.zip |
| StartedAt: 2019-04-12 20:12:43 -0400 (Fri, 12 Apr 2019) |
| EndedAt: 2019-04-12 20:14:25 -0400 (Fri, 12 Apr 2019) |
| EllapsedTime: 102.4 seconds |
| RetCode: 0 |
| Status: OK |
##############################################################################
##############################################################################
###
### Running command:
###
### C:\cygwin\bin\curl.exe -O https://malbec1.bioconductor.org/BBS/3.8/bioc/src/contrib/MinimumDistance_1.26.0.tar.gz && rm -rf MinimumDistance.buildbin-libdir && mkdir MinimumDistance.buildbin-libdir && C:\Users\biocbuild\bbs-3.8-bioc\R\bin\R.exe CMD INSTALL --merge-multiarch --build --library=MinimumDistance.buildbin-libdir MinimumDistance_1.26.0.tar.gz && C:\Users\biocbuild\bbs-3.8-bioc\R\bin\R.exe CMD INSTALL MinimumDistance_1.26.0.zip && rm MinimumDistance_1.26.0.tar.gz MinimumDistance_1.26.0.zip
###
##############################################################################
##############################################################################
% Total % Received % Xferd Average Speed Time Time Time Current
Dload Upload Total Spent Left Speed
0 0 0 0 0 0 0 0 --:--:-- --:--:-- --:--:-- 0
100 928k 100 928k 0 0 20.1M 0 --:--:-- --:--:-- --:--:-- 21.5M
install for i386
* installing *source* package 'MinimumDistance' ...
** R
** data
** inst
** byte-compile and prepare package for lazy loading
Creating a new generic function for 'allNames' in package 'MinimumDistance'
Creating a generic function for 'colMads' from package 'matrixStats' in package 'MinimumDistance'
** help
*** installing help indices
converting help for package 'MinimumDistance'
finding HTML links ... done
DNAcopyParam html
Defunct html
Deprecated html
FilterParamMD-class html
FilterParamMD html
Rd warning: C:/Users/biocbuild/bbs-3.8-bioc/tmpdir/RtmpeqmunY/R.INSTALL1bc431ec436/MinimumDistance/man/FilterParamMD.Rd:14: file link 'FilterParam' in package 'VanillaICE' does not exist and so has been treated as a topic
MAP html
MAP2 html
MDRanges-class html
MinDistExperiment-class html
MinDistExperiment html
MinDistGRanges-class html
MinDistGRanges html
MinDistParam-class html
MinDistParam html
MinDistPosterior-class html
MinimumDistance html
ParentOffspring-class html
ParentOffspringList-class html
Pedigree-class html
Pedigree html
PennParam html
TrioSet-class html
TrioSet html
TrioSetList-class html
TrioSetList html
TrioSetListLD html
acf2 html
calculateMindist html
coercion-methods html
denovo html
exampleTrioSetList html
filterExperiment html
mad2 html
mdLegend html
md_exp html
md_gr html
mindist html
nMAD html
pedigreeGrid html
pedigreeName html
pedigreeViewports html
plotDenovo html
range-ILimit-method html
segment2 html
finding level-2 HTML links ... done
** building package indices
** installing vignettes
** testing if installed package can be loaded
In R CMD INSTALL
install for x64
* installing *source* package 'MinimumDistance' ...
** testing if installed package can be loaded
* MD5 sums
packaged installation of 'MinimumDistance' as MinimumDistance_1.26.0.zip
* DONE (MinimumDistance)
In R CMD INSTALL
In R CMD INSTALL
* installing to library 'C:/Users/biocbuild/bbs-3.8-bioc/R/library'
package 'MinimumDistance' successfully unpacked and MD5 sums checked
In R CMD INSTALL