| Back to Multiple platform build/check report for BioC 3.8 |
|
This page was generated on 2019-04-13 11:22:37 -0400 (Sat, 13 Apr 2019).
| Package 943/1649 | Hostname | OS / Arch | INSTALL | BUILD | CHECK | BUILD BIN | ||||||
| MethylSeekR 1.22.0 Lukas Burger
| malbec1 | Linux (Ubuntu 16.04.6 LTS) / x86_64 | OK | OK | OK | |||||||
| tokay1 | Windows Server 2012 R2 Standard / x64 | OK | OK | OK | [ OK ] | |||||||
| merida1 | OS X 10.11.6 El Capitan / x86_64 | OK | OK | OK | OK |
| Package: MethylSeekR |
| Version: 1.22.0 |
| Command: rm -rf MethylSeekR.buildbin-libdir && mkdir MethylSeekR.buildbin-libdir && C:\Users\biocbuild\bbs-3.8-bioc\R\bin\R.exe CMD INSTALL --merge-multiarch --build --library=MethylSeekR.buildbin-libdir MethylSeekR_1.22.0.tar.gz |
| StartedAt: 2019-04-13 07:38:32 -0400 (Sat, 13 Apr 2019) |
| EndedAt: 2019-04-13 07:39:05 -0400 (Sat, 13 Apr 2019) |
| EllapsedTime: 33.1 seconds |
| RetCode: 0 |
| Status: OK |
| PackageFile: MethylSeekR_1.22.0.zip |
| PackageFileSize: 1.714 MiB |
##############################################################################
##############################################################################
###
### Running command:
###
### rm -rf MethylSeekR.buildbin-libdir && mkdir MethylSeekR.buildbin-libdir && C:\Users\biocbuild\bbs-3.8-bioc\R\bin\R.exe CMD INSTALL --merge-multiarch --build --library=MethylSeekR.buildbin-libdir MethylSeekR_1.22.0.tar.gz
###
##############################################################################
##############################################################################
install for i386
* installing *source* package 'MethylSeekR' ...
** R
** inst
** byte-compile and prepare package for lazy loading
** help
*** installing help indices
converting help for package 'MethylSeekR'
finding HTML links ... done
MethylSeekR-package html
calculateFDRs html
plotAlphaDistributionOneChr html
plotFinalSegmentation html
plotPMDSegmentation html
readMethylome html
readSNPTable html
removeSNPs html
savePMDSegments html
saveUMRLMRSegments html
segmentPMDs html
segmentUMRsLMRs html
** building package indices
** installing vignettes
** testing if installed package can be loaded
In R CMD INSTALL
install for x64
* installing *source* package 'MethylSeekR' ...
** testing if installed package can be loaded
* MD5 sums
packaged installation of 'MethylSeekR' as MethylSeekR_1.22.0.zip
* DONE (MethylSeekR)
In R CMD INSTALL
In R CMD INSTALL