| Back to Multiple platform build/check report for BioC 3.8 |
|
This page was generated on 2019-04-13 11:25:14 -0400 (Sat, 13 Apr 2019).
| Package 933/1649 | Hostname | OS / Arch | INSTALL | BUILD | CHECK | BUILD BIN | ||||||
| MethTargetedNGS 1.14.0 Muhammad Ahmer Jamil
| malbec1 | Linux (Ubuntu 16.04.6 LTS) / x86_64 | OK | OK | OK | |||||||
| tokay1 | Windows Server 2012 R2 Standard / x64 | OK | OK | OK | [ OK ] | |||||||
| merida1 | OS X 10.11.6 El Capitan / x86_64 | OK | OK | OK | OK |
| Package: MethTargetedNGS |
| Version: 1.14.0 |
| Command: rm -rf MethTargetedNGS.buildbin-libdir && mkdir MethTargetedNGS.buildbin-libdir && C:\Users\biocbuild\bbs-3.8-bioc\R\bin\R.exe CMD INSTALL --merge-multiarch --build --library=MethTargetedNGS.buildbin-libdir MethTargetedNGS_1.14.0.tar.gz |
| StartedAt: 2019-04-13 07:38:14 -0400 (Sat, 13 Apr 2019) |
| EndedAt: 2019-04-13 07:38:28 -0400 (Sat, 13 Apr 2019) |
| EllapsedTime: 14.6 seconds |
| RetCode: 0 |
| Status: OK |
| PackageFile: MethTargetedNGS_1.14.0.zip |
| PackageFileSize: 240.1 KiB |
##############################################################################
##############################################################################
###
### Running command:
###
### rm -rf MethTargetedNGS.buildbin-libdir && mkdir MethTargetedNGS.buildbin-libdir && C:\Users\biocbuild\bbs-3.8-bioc\R\bin\R.exe CMD INSTALL --merge-multiarch --build --library=MethTargetedNGS.buildbin-libdir MethTargetedNGS_1.14.0.tar.gz
###
##############################################################################
##############################################################################
install for i386
* installing *source* package 'MethTargetedNGS' ...
** R
** inst
** byte-compile and prepare package for lazy loading
** help
*** installing help indices
converting help for package 'MethTargetedNGS'
finding HTML links ... done
MethTargetedNGS-package html
bconv html
compare_samples html
fishertest_cpg html
hmmbuild html
methAlign html
methAvg html
methEntropy html
methHeatmap html
nhmmer html
odd_ratio html
** building package indices
** installing vignettes
** testing if installed package can be loaded
In R CMD INSTALL
install for x64
* installing *source* package 'MethTargetedNGS' ...
** testing if installed package can be loaded
* MD5 sums
packaged installation of 'MethTargetedNGS' as MethTargetedNGS_1.14.0.zip
* DONE (MethTargetedNGS)
In R CMD INSTALL
In R CMD INSTALL