| Back to Multiple platform build/check report for BioC 3.8 |
|
This page was generated on 2019-04-13 11:28:33 -0400 (Sat, 13 Apr 2019).
| Package 919/1649 | Hostname | OS / Arch | INSTALL | BUILD | CHECK | BUILD BIN | ||||||
| MetaCyto 1.4.1 Zicheng Hu
| malbec1 | Linux (Ubuntu 16.04.6 LTS) / x86_64 | OK | OK | OK | |||||||
| tokay1 | Windows Server 2012 R2 Standard / x64 | OK | OK | OK | [ OK ] | |||||||
| merida1 | OS X 10.11.6 El Capitan / x86_64 | OK | OK | OK | OK |
| Package: MetaCyto |
| Version: 1.4.1 |
| Command: rm -rf MetaCyto.buildbin-libdir && mkdir MetaCyto.buildbin-libdir && C:\Users\biocbuild\bbs-3.8-bioc\R\bin\R.exe CMD INSTALL --merge-multiarch --build --library=MetaCyto.buildbin-libdir MetaCyto_1.4.1.tar.gz |
| StartedAt: 2019-04-13 07:37:49 -0400 (Sat, 13 Apr 2019) |
| EndedAt: 2019-04-13 07:38:07 -0400 (Sat, 13 Apr 2019) |
| EllapsedTime: 18.0 seconds |
| RetCode: 0 |
| Status: OK |
| PackageFile: MetaCyto_1.4.1.zip |
| PackageFileSize: 1.058 MiB |
##############################################################################
##############################################################################
###
### Running command:
###
### rm -rf MetaCyto.buildbin-libdir && mkdir MetaCyto.buildbin-libdir && C:\Users\biocbuild\bbs-3.8-bioc\R\bin\R.exe CMD INSTALL --merge-multiarch --build --library=MetaCyto.buildbin-libdir MetaCyto_1.4.1.tar.gz
###
##############################################################################
##############################################################################
install for i386
* installing *source* package 'MetaCyto' ...
** R
** inst
** byte-compile and prepare package for lazy loading
** help
*** installing help indices
converting help for package 'MetaCyto'
finding HTML links ... done
autoCluster.batch html
clusterStats html
collectData html
densityPlot html
fcsInfoParser html
filterLabels html
findCutoff html
flowHC html
flowSOM.MC html
glmAnalysis html
labelCluster html
labelSummary html
markerFinder html
metaAnalysis html
nameUpdator html
panelSummary html
plotGA html
preprocessing html
preprocessing.batch html
sampleInfoParser html
searchCluster html
searchCluster.batch html
set2Frame html
** building package indices
** installing vignettes
** testing if installed package can be loaded
In R CMD INSTALL
install for x64
* installing *source* package 'MetaCyto' ...
** testing if installed package can be loaded
* MD5 sums
packaged installation of 'MetaCyto' as MetaCyto_1.4.1.zip
* DONE (MetaCyto)
In R CMD INSTALL
In R CMD INSTALL