| Back to Multiple platform build/check report for BioC 3.8 |
|
This page was generated on 2019-04-13 11:29:36 -0400 (Sat, 13 Apr 2019).
| Package 947/1649 | Hostname | OS / Arch | INSTALL | BUILD | CHECK | BUILD BIN | ||||||
| MetNet 1.0.1 Thomas Naake
| malbec1 | Linux (Ubuntu 16.04.6 LTS) / x86_64 | OK | OK | OK | |||||||
| tokay1 | Windows Server 2012 R2 Standard / x64 | OK | OK | OK | [ OK ] | |||||||
| merida1 | OS X 10.11.6 El Capitan / x86_64 | OK | OK | OK | OK |
| Package: MetNet |
| Version: 1.0.1 |
| Command: rm -rf MetNet.buildbin-libdir && mkdir MetNet.buildbin-libdir && C:\Users\biocbuild\bbs-3.8-bioc\R\bin\R.exe CMD INSTALL --merge-multiarch --build --library=MetNet.buildbin-libdir MetNet_1.0.1.tar.gz |
| StartedAt: 2019-04-13 07:38:40 -0400 (Sat, 13 Apr 2019) |
| EndedAt: 2019-04-13 07:39:01 -0400 (Sat, 13 Apr 2019) |
| EllapsedTime: 21.3 seconds |
| RetCode: 0 |
| Status: OK |
| PackageFile: MetNet_1.0.1.zip |
| PackageFileSize: 3.739 MiB |
##############################################################################
##############################################################################
###
### Running command:
###
### rm -rf MetNet.buildbin-libdir && mkdir MetNet.buildbin-libdir && C:\Users\biocbuild\bbs-3.8-bioc\R\bin\R.exe CMD INSTALL --merge-multiarch --build --library=MetNet.buildbin-libdir MetNet_1.0.1.tar.gz
###
##############################################################################
##############################################################################
install for i386
* installing *source* package 'MetNet' ...
** R
** data
** inst
** byte-compile and prepare package for lazy loading
** help
*** installing help indices
converting help for package 'MetNet'
finding HTML links ... done
MetNet-package html
addToList html
aracne html
bayes html
clr html
combineStructuralStatistical html
consensusAdjacency html
correlation html
createStatisticalAdjacency html
createStatisticalAdjacencyList html
createStructuralAdjacency html
lasso html
mat_test html
mat_test_z html
peaklist html
randomForest html
rtCorrection html
threeDotsCall html
x_test html
** building package indices
** installing vignettes
** testing if installed package can be loaded
In R CMD INSTALL
install for x64
* installing *source* package 'MetNet' ...
** testing if installed package can be loaded
* MD5 sums
packaged installation of 'MetNet' as MetNet_1.0.1.zip
* DONE (MetNet)
In R CMD INSTALL
In R CMD INSTALL