| Back to Multiple platform build/check report for BioC 3.8 |
|
This page was generated on 2019-04-13 11:19:48 -0400 (Sat, 13 Apr 2019).
| Package 873/1649 | Hostname | OS / Arch | INSTALL | BUILD | CHECK | BUILD BIN | ||||||
| MantelCorr 1.52.0 Brian Steinmeyer
| malbec1 | Linux (Ubuntu 16.04.6 LTS) / x86_64 | OK | OK | OK | |||||||
| tokay1 | Windows Server 2012 R2 Standard / x64 | [ OK ] | OK | OK | OK | |||||||
| merida1 | OS X 10.11.6 El Capitan / x86_64 | OK | OK | OK | OK |
| Package: MantelCorr |
| Version: 1.52.0 |
| Command: C:\cygwin\bin\curl.exe -O https://malbec1.bioconductor.org/BBS/3.8/bioc/src/contrib/MantelCorr_1.52.0.tar.gz && rm -rf MantelCorr.buildbin-libdir && mkdir MantelCorr.buildbin-libdir && C:\Users\biocbuild\bbs-3.8-bioc\R\bin\R.exe CMD INSTALL --merge-multiarch --build --library=MantelCorr.buildbin-libdir MantelCorr_1.52.0.tar.gz && C:\Users\biocbuild\bbs-3.8-bioc\R\bin\R.exe CMD INSTALL MantelCorr_1.52.0.zip && rm MantelCorr_1.52.0.tar.gz MantelCorr_1.52.0.zip |
| StartedAt: 2019-04-12 18:25:29 -0400 (Fri, 12 Apr 2019) |
| EndedAt: 2019-04-12 18:25:45 -0400 (Fri, 12 Apr 2019) |
| EllapsedTime: 16.3 seconds |
| RetCode: 0 |
| Status: OK |
##############################################################################
##############################################################################
###
### Running command:
###
### C:\cygwin\bin\curl.exe -O https://malbec1.bioconductor.org/BBS/3.8/bioc/src/contrib/MantelCorr_1.52.0.tar.gz && rm -rf MantelCorr.buildbin-libdir && mkdir MantelCorr.buildbin-libdir && C:\Users\biocbuild\bbs-3.8-bioc\R\bin\R.exe CMD INSTALL --merge-multiarch --build --library=MantelCorr.buildbin-libdir MantelCorr_1.52.0.tar.gz && C:\Users\biocbuild\bbs-3.8-bioc\R\bin\R.exe CMD INSTALL MantelCorr_1.52.0.zip && rm MantelCorr_1.52.0.tar.gz MantelCorr_1.52.0.zip
###
##############################################################################
##############################################################################
% Total % Received % Xferd Average Speed Time Time Time Current
Dload Upload Total Spent Left Speed
0 0 0 0 0 0 0 0 --:--:-- --:--:-- --:--:-- 0
100 639k 100 639k 0 0 13.2M 0 --:--:-- --:--:-- --:--:-- 14.2M
install for i386
* installing *source* package 'MantelCorr' ...
** R
** data
** byte-compile and prepare package for lazy loading
** help
*** installing help indices
converting help for package 'MantelCorr'
finding HTML links ... done
ClusterGeneList html
ClusterList html
DistMatrices html
GetClusters html
GolubTrain html
MantelCorrs html
PermutationTest html
** building package indices
** installing vignettes
** testing if installed package can be loaded
In R CMD INSTALL
install for x64
* installing *source* package 'MantelCorr' ...
** testing if installed package can be loaded
* MD5 sums
packaged installation of 'MantelCorr' as MantelCorr_1.52.0.zip
* DONE (MantelCorr)
In R CMD INSTALL
In R CMD INSTALL
* installing to library 'C:/Users/biocbuild/bbs-3.8-bioc/R/library'
package 'MantelCorr' successfully unpacked and MD5 sums checked
In R CMD INSTALL