| Back to Multiple platform build/check report for BioC 3.8 |
|
This page was generated on 2019-04-13 11:29:46 -0400 (Sat, 13 Apr 2019).
| Package 1016/1649 | Hostname | OS / Arch | INSTALL | BUILD | CHECK | BUILD BIN | ||||||
| MSstatsTMT 1.1.2 Ting Huang
| malbec1 | Linux (Ubuntu 16.04.6 LTS) / x86_64 | OK | OK | OK | |||||||
| tokay1 | Windows Server 2012 R2 Standard / x64 | [ OK ] | OK | OK | OK | |||||||
| merida1 | OS X 10.11.6 El Capitan / x86_64 | OK | OK | OK | OK |
| Package: MSstatsTMT |
| Version: 1.1.2 |
| Command: C:\cygwin\bin\curl.exe -O https://malbec1.bioconductor.org/BBS/3.8/bioc/src/contrib/MSstatsTMT_1.1.2.tar.gz && rm -rf MSstatsTMT.buildbin-libdir && mkdir MSstatsTMT.buildbin-libdir && C:\Users\biocbuild\bbs-3.8-bioc\R\bin\R.exe CMD INSTALL --merge-multiarch --build --library=MSstatsTMT.buildbin-libdir MSstatsTMT_1.1.2.tar.gz && C:\Users\biocbuild\bbs-3.8-bioc\R\bin\R.exe CMD INSTALL MSstatsTMT_1.1.2.zip && rm MSstatsTMT_1.1.2.tar.gz MSstatsTMT_1.1.2.zip |
| StartedAt: 2019-04-12 20:12:20 -0400 (Fri, 12 Apr 2019) |
| EndedAt: 2019-04-12 20:12:45 -0400 (Fri, 12 Apr 2019) |
| EllapsedTime: 25.1 seconds |
| RetCode: 0 |
| Status: OK |
##############################################################################
##############################################################################
###
### Running command:
###
### C:\cygwin\bin\curl.exe -O https://malbec1.bioconductor.org/BBS/3.8/bioc/src/contrib/MSstatsTMT_1.1.2.tar.gz && rm -rf MSstatsTMT.buildbin-libdir && mkdir MSstatsTMT.buildbin-libdir && C:\Users\biocbuild\bbs-3.8-bioc\R\bin\R.exe CMD INSTALL --merge-multiarch --build --library=MSstatsTMT.buildbin-libdir MSstatsTMT_1.1.2.tar.gz && C:\Users\biocbuild\bbs-3.8-bioc\R\bin\R.exe CMD INSTALL MSstatsTMT_1.1.2.zip && rm MSstatsTMT_1.1.2.tar.gz MSstatsTMT_1.1.2.zip
###
##############################################################################
##############################################################################
% Total % Received % Xferd Average Speed Time Time Time Current
Dload Upload Total Spent Left Speed
0 0 0 0 0 0 0 0 --:--:-- --:--:-- --:--:-- 0
0 1080k 0 0 0 0 0 0 --:--:-- --:--:-- --:--:-- 0
100 1080k 100 1080k 0 0 21.4M 0 --:--:-- --:--:-- --:--:-- 22.9M
install for i386
* installing *source* package 'MSstatsTMT' ...
** R
** data
*** moving datasets to lazyload DB
** inst
** byte-compile and prepare package for lazy loading
** help
*** installing help indices
converting help for package 'MSstatsTMT'
finding HTML links ... done
MSstatsTMT html
MaxQtoMSstatsTMTFormat html
PDtoMSstatsTMTFormat html
SpectroMinetoMSstatsTMTFormat html
annotation.mine html
annotation.mq html
annotation.pd html
dataProcessPlotsTMT html
evidence html
groupComparisonTMT html
input.pd html
proteinGroups html
proteinSummarization html
quant.pd.msstats html
raw.mine html
raw.pd html
test.pairwise html
** building package indices
** installing vignettes
** testing if installed package can be loaded
In R CMD INSTALL
install for x64
* installing *source* package 'MSstatsTMT' ...
** testing if installed package can be loaded
* MD5 sums
packaged installation of 'MSstatsTMT' as MSstatsTMT_1.1.2.zip
* DONE (MSstatsTMT)
In R CMD INSTALL
In R CMD INSTALL
* installing to library 'C:/Users/biocbuild/bbs-3.8-bioc/R/library'
package 'MSstatsTMT' successfully unpacked and MD5 sums checked
In R CMD INSTALL