| Back to Multiple platform build/check report for BioC 3.8 |
|
This page was generated on 2019-04-16 12:01:01 -0400 (Tue, 16 Apr 2019).
| Package 1014/1649 | Hostname | OS / Arch | INSTALL | BUILD | CHECK | BUILD BIN | ||||||
| MSstatsQC 2.0.1 Eralp Dogu
| malbec1 | Linux (Ubuntu 16.04.6 LTS) / x86_64 | OK | OK | OK | |||||||
| merida1 | OS X 10.11.6 El Capitan / x86_64 | OK | OK | [ OK ] | OK |
| Package: MSstatsQC |
| Version: 2.0.1 |
| Command: /Library/Frameworks/R.framework/Versions/Current/Resources/bin/R CMD check --install=check:MSstatsQC.install-out.txt --library=/Library/Frameworks/R.framework/Versions/Current/Resources/library --no-vignettes --timings MSstatsQC_2.0.1.tar.gz |
| StartedAt: 2019-04-16 01:28:35 -0400 (Tue, 16 Apr 2019) |
| EndedAt: 2019-04-16 01:31:59 -0400 (Tue, 16 Apr 2019) |
| EllapsedTime: 204.3 seconds |
| RetCode: 0 |
| Status: OK |
| CheckDir: MSstatsQC.Rcheck |
| Warnings: 0 |
##############################################################################
##############################################################################
###
### Running command:
###
### /Library/Frameworks/R.framework/Versions/Current/Resources/bin/R CMD check --install=check:MSstatsQC.install-out.txt --library=/Library/Frameworks/R.framework/Versions/Current/Resources/library --no-vignettes --timings MSstatsQC_2.0.1.tar.gz
###
##############################################################################
##############################################################################
* using log directory ‘/Users/biocbuild/bbs-3.8-bioc/meat/MSstatsQC.Rcheck’
* using R version 3.5.3 (2019-03-11)
* using platform: x86_64-apple-darwin15.6.0 (64-bit)
* using session charset: UTF-8
* using option ‘--no-vignettes’
* checking for file ‘MSstatsQC/DESCRIPTION’ ... OK
* checking extension type ... Package
* this is package ‘MSstatsQC’ version ‘2.0.1’
* checking package namespace information ... OK
* checking package dependencies ... OK
* checking if this is a source package ... OK
* checking if there is a namespace ... OK
* checking for hidden files and directories ... OK
* checking for portable file names ... OK
* checking for sufficient/correct file permissions ... OK
* checking whether package ‘MSstatsQC’ can be installed ... OK
* checking installed package size ... OK
* checking package directory ... OK
* checking ‘build’ directory ... OK
* checking DESCRIPTION meta-information ... OK
* checking top-level files ... OK
* checking for left-over files ... OK
* checking index information ... OK
* checking package subdirectories ... OK
* checking R files for non-ASCII characters ... OK
* checking R files for syntax errors ... OK
* checking whether the package can be loaded ... OK
* checking whether the package can be loaded with stated dependencies ... OK
* checking whether the package can be unloaded cleanly ... OK
* checking whether the namespace can be loaded with stated dependencies ... OK
* checking whether the namespace can be unloaded cleanly ... OK
* checking dependencies in R code ... OK
* checking S3 generic/method consistency ... OK
* checking replacement functions ... OK
* checking foreign function calls ... OK
* checking R code for possible problems ... NOTE
MissingDataMap: no visible binding for global variable ‘AcquiredTime’
MissingDataMap: no visible binding for global variable ‘Precursor’
Undefined global functions or variables:
AcquiredTime Precursor
* checking Rd files ... OK
* checking Rd metadata ... OK
* checking Rd cross-references ... OK
* checking for missing documentation entries ... OK
* checking for code/documentation mismatches ... OK
* checking Rd \usage sections ... OK
* checking Rd contents ... OK
* checking for unstated dependencies in examples ... OK
* checking contents of ‘data’ directory ... OK
* checking data for non-ASCII characters ... OK
* checking data for ASCII and uncompressed saves ... OK
* checking files in ‘vignettes’ ... OK
* checking examples ... OK
Examples with CPU or elapsed time > 5s
user system elapsed
CUSUMChart 5.544 5.273 1.948
XmRChart 5.958 4.715 1.363
ChangePointEstimator 4.464 1.981 1.334
RadarPlot 5.199 0.032 5.275
* checking for unstated dependencies in ‘tests’ ... OK
* checking tests ...
Running ‘testthat.R’
OK
* checking for unstated dependencies in vignettes ... OK
* checking package vignettes in ‘inst/doc’ ... OK
* checking running R code from vignettes ... SKIPPED
* checking re-building of vignette outputs ... SKIPPED
* checking PDF version of manual ... OK
* DONE
Status: 1 NOTE
See
‘/Users/biocbuild/bbs-3.8-bioc/meat/MSstatsQC.Rcheck/00check.log’
for details.
MSstatsQC.Rcheck/00install.out
############################################################################## ############################################################################## ### ### Running command: ### ### /Library/Frameworks/R.framework/Versions/Current/Resources/bin/R CMD INSTALL MSstatsQC ### ############################################################################## ############################################################################## * installing to library ‘/Library/Frameworks/R.framework/Versions/3.5/Resources/library’ * installing *source* package ‘MSstatsQC’ ... ** R ** data *** moving datasets to lazyload DB ** byte-compile and prepare package for lazy loading ** help *** installing help indices ** building package indices ** installing vignettes ** testing if installed package can be loaded * DONE (MSstatsQC)
MSstatsQC.Rcheck/tests/testthat.Rout
R version 3.5.3 (2019-03-11) -- "Great Truth"
Copyright (C) 2019 The R Foundation for Statistical Computing
Platform: x86_64-apple-darwin15.6.0 (64-bit)
R is free software and comes with ABSOLUTELY NO WARRANTY.
You are welcome to redistribute it under certain conditions.
Type 'license()' or 'licence()' for distribution details.
R is a collaborative project with many contributors.
Type 'contributors()' for more information and
'citation()' on how to cite R or R packages in publications.
Type 'demo()' for some demos, 'help()' for on-line help, or
'help.start()' for an HTML browser interface to help.
Type 'q()' to quit R.
> library(testthat)
> library(MSstatsQC)
>
> test_check("MSstatsQC")
══ testthat results ═══════════════════════════════════════════════════════════
OK: 15 SKIPPED: 0 FAILED: 0
>
> proc.time()
user system elapsed
8.535 0.493 9.101
MSstatsQC.Rcheck/MSstatsQC-Ex.timings
| name | user | system | elapsed | |
| CUSUMChart | 5.544 | 5.273 | 1.948 | |
| ChangePointEstimator | 4.464 | 1.981 | 1.334 | |
| DataProcess | 0.051 | 0.028 | 0.025 | |
| DecisionMap | 3.218 | 0.081 | 3.282 | |
| MissingDataMap | 0 | 0 | 0 | |
| RadarPlot | 5.199 | 0.032 | 5.275 | |
| RemoveMissing | 0.001 | 0.001 | 0.000 | |
| RiverPlot | 4.635 | 0.052 | 4.726 | |
| XmRChart | 5.958 | 4.715 | 1.363 | |