| Back to Multiple platform build/check report for BioC 3.8 |
|
This page was generated on 2019-04-16 11:57:12 -0400 (Tue, 16 Apr 2019).
| Package 1013/1649 | Hostname | OS / Arch | INSTALL | BUILD | CHECK | BUILD BIN | ||||||
| MSstats 3.14.1 Meena Choi
| malbec1 | Linux (Ubuntu 16.04.6 LTS) / x86_64 | OK | OK | OK | |||||||
| merida1 | OS X 10.11.6 El Capitan / x86_64 | OK | OK | [ OK ] | OK |
| Package: MSstats |
| Version: 3.14.1 |
| Command: /Library/Frameworks/R.framework/Versions/Current/Resources/bin/R CMD check --install=check:MSstats.install-out.txt --library=/Library/Frameworks/R.framework/Versions/Current/Resources/library --no-vignettes --timings MSstats_3.14.1.tar.gz |
| StartedAt: 2019-04-16 01:28:20 -0400 (Tue, 16 Apr 2019) |
| EndedAt: 2019-04-16 01:41:28 -0400 (Tue, 16 Apr 2019) |
| EllapsedTime: 788.4 seconds |
| RetCode: 0 |
| Status: OK |
| CheckDir: MSstats.Rcheck |
| Warnings: 0 |
##############################################################################
##############################################################################
###
### Running command:
###
### /Library/Frameworks/R.framework/Versions/Current/Resources/bin/R CMD check --install=check:MSstats.install-out.txt --library=/Library/Frameworks/R.framework/Versions/Current/Resources/library --no-vignettes --timings MSstats_3.14.1.tar.gz
###
##############################################################################
##############################################################################
* using log directory ‘/Users/biocbuild/bbs-3.8-bioc/meat/MSstats.Rcheck’
* using R version 3.5.3 (2019-03-11)
* using platform: x86_64-apple-darwin15.6.0 (64-bit)
* using session charset: UTF-8
* using option ‘--no-vignettes’
* checking for file ‘MSstats/DESCRIPTION’ ... OK
* this is package ‘MSstats’ version ‘3.14.1’
* checking package namespace information ... OK
* checking package dependencies ... OK
* checking if this is a source package ... OK
* checking if there is a namespace ... OK
* checking for hidden files and directories ... OK
* checking for portable file names ... OK
* checking for sufficient/correct file permissions ... OK
* checking whether package ‘MSstats’ can be installed ... OK
* checking installed package size ... OK
* checking package directory ... OK
* checking ‘build’ directory ... OK
* checking DESCRIPTION meta-information ... OK
* checking top-level files ... OK
* checking for left-over files ... OK
* checking index information ... OK
* checking package subdirectories ... OK
* checking R files for non-ASCII characters ... OK
* checking R files for syntax errors ... OK
* checking whether the package can be loaded ... OK
* checking whether the package can be loaded with stated dependencies ... OK
* checking whether the package can be unloaded cleanly ... OK
* checking whether the namespace can be loaded with stated dependencies ... OK
* checking whether the namespace can be unloaded cleanly ... OK
* checking dependencies in R code ... OK
* checking S3 generic/method consistency ... OK
* checking replacement functions ... OK
* checking foreign function calls ... OK
* checking R code for possible problems ... NOTE
.iter.wls.fit.model: no visible binding for global variable ‘weight’
.runQuantification: no visible binding for global variable
‘datafeature’
.runQuantification: no visible binding for global variable ‘ount’
DIAUmpiretoMSstatsFormat: no visible binding for global variable
‘Selected_fragments’
DIAUmpiretoMSstatsFormat: no visible binding for global variable
‘Selected_peptides’
DIAUmpiretoMSstatsFormat: no visible binding for global variable ‘fea’
DIAUmpiretoMSstatsFormat: no visible binding for global variable
‘Intensity’
OpenMStoMSstatsFormat: no visible binding for global variable
‘missing.col’
OpenMStoMSstatsFormat: no visible binding for global variable ‘fea’
OpenMStoMSstatsFormat: no visible binding for global variable
‘Intensity’
OpenMStoMSstatsFormat: no visible binding for global variable
‘PeptideSequence’
OpenMStoMSstatsFormat: no visible binding for global variable
‘ProteinName’
OpenSWATHtoMSstatsFormat: no visible binding for global variable
‘missing.col’
OpenSWATHtoMSstatsFormat: no visible binding for global variable
‘aggr_Fragment_Annotation’
OpenSWATHtoMSstatsFormat: no visible binding for global variable
‘aggr_Peak_Area’
OpenSWATHtoMSstatsFormat: no visible binding for global variable ‘fea’
OpenSWATHtoMSstatsFormat: no visible binding for global variable
‘Intensity’
OpenSWATHtoMSstatsFormat: no visible binding for global variable
‘PeptideSequence’
OpenSWATHtoMSstatsFormat: no visible binding for global variable
‘ProteinName’
PDtoMSstatsFormat: no visible binding for global variable ‘fea’
PDtoMSstatsFormat: no visible binding for global variable ‘Intensity’
SkylinetoMSstatsFormat: no visible binding for global variable
‘PeptideSequence’
SkylinetoMSstatsFormat: no visible binding for global variable
‘ProteinName’
SkylinetoMSstatsFormat: no visible binding for global variable ‘fea’
SkylinetoMSstatsFormat: no visible binding for global variable
‘Intensity’
SpectronauttoMSstatsFormat: no visible binding for global variable
‘missing.col’
SpectronauttoMSstatsFormat: no visible binding for global variable
‘fea’
SpectronauttoMSstatsFormat: no visible binding for global variable
‘Intensity’
SpectronauttoMSstatsFormat: no visible binding for global variable
‘PeptideSequence’
SpectronauttoMSstatsFormat: no visible binding for global variable
‘ProteinName’
dataProcess: no visible binding for global variable ‘FEATURE’
dataProcess: no visible binding for global variable ‘ncount’
dataProcess: no visible binding for global variable ‘ABUNDANCE’
dataProcess: no visible binding for global variable ‘RUN’
dataProcess: no visible binding for global variable ‘FRACTION’
dataProcess: no visible binding for global variable ‘LABEL’
dataProcessPlots: no visible binding for global variable ‘RUN’
dataProcessPlots: no visible binding for global variable ‘ABUNDANCE’
dataProcessPlots: no visible binding for global variable ‘Name’
dataProcessPlots: no visible binding for global variable ‘analysis’
dataProcessPlots: no visible binding for global variable ‘Mean’
dataProcessPlots: no visible binding for global variable ‘ciw’
designSampleSizeClassificationPlots: no visible binding for global
variable ‘Train_size’
designSampleSizeClassificationPlots: no visible binding for global
variable ‘Protein_number’
groupComparisonPlots: no visible binding for global variable ‘Protein’
groupComparisonPlots: no visible binding for global variable ‘logFC’
groupComparisonPlots: no visible binding for global variable ‘ciw’
linear_quantlim: no visible binding for global variable ‘label’
modelBasedQCPlots: no visible binding for global variable ‘residual’
nonlinear_quantlim: no visible binding for global variable ‘label’
plot_quantlim: no visible binding for global variable ‘x’
plot_quantlim: no visible binding for global variable ‘y’
plot_quantlim: no visible binding for global variable ‘ymin’
plot_quantlim: no visible binding for global variable ‘ymax’
plot_quantlim: no visible binding for global variable ‘shape’
Undefined global functions or variables:
ABUNDANCE FEATURE FRACTION Intensity LABEL Mean Name PeptideSequence
Protein ProteinName Protein_number RUN Selected_fragments
Selected_peptides Train_size aggr_Fragment_Annotation aggr_Peak_Area
analysis ciw datafeature fea label logFC missing.col ncount ount
residual shape weight x y ymax ymin
* checking Rd files ... OK
* checking Rd metadata ... OK
* checking Rd cross-references ... OK
* checking for missing documentation entries ... OK
* checking for code/documentation mismatches ... OK
* checking Rd \usage sections ... OK
* checking Rd contents ... OK
* checking for unstated dependencies in examples ... OK
* checking contents of ‘data’ directory ... OK
* checking data for non-ASCII characters ... OK
* checking data for ASCII and uncompressed saves ... OK
* checking files in ‘vignettes’ ... OK
* checking examples ... OK
Examples with CPU or elapsed time > 5s
user system elapsed
designSampleSizeClassification 318.886 9.510 331.132
designSampleSizeClassificationPlots 317.329 9.199 330.822
dataProcessPlots 9.342 0.057 9.498
groupComparisonPlots 4.585 1.773 3.811
* checking for unstated dependencies in vignettes ... OK
* checking package vignettes in ‘inst/doc’ ... OK
* checking running R code from vignettes ... SKIPPED
* checking re-building of vignette outputs ... SKIPPED
* checking PDF version of manual ... OK
* DONE
Status: 1 NOTE
See
‘/Users/biocbuild/bbs-3.8-bioc/meat/MSstats.Rcheck/00check.log’
for details.
MSstats.Rcheck/00install.out
############################################################################## ############################################################################## ### ### Running command: ### ### /Library/Frameworks/R.framework/Versions/Current/Resources/bin/R CMD INSTALL MSstats ### ############################################################################## ############################################################################## * installing to library ‘/Library/Frameworks/R.framework/Versions/3.5/Resources/library’ * installing *source* package ‘MSstats’ ... ** R ** data *** moving datasets to lazyload DB ** inst ** byte-compile and prepare package for lazy loading ** help *** installing help indices ** building package indices ** installing vignettes ** testing if installed package can be loaded * DONE (MSstats)
MSstats.Rcheck/MSstats-Ex.timings
| name | user | system | elapsed | |
| DDARawData | 0.011 | 0.002 | 0.013 | |
| DDARawData.Skyline | 0.007 | 0.002 | 0.010 | |
| DIARawData | 0.005 | 0.001 | 0.006 | |
| DIAUmpiretoMSstatsFormat | 0.005 | 0.001 | 0.006 | |
| MaxQtoMSstatsFormat | 0.005 | 0.001 | 0.006 | |
| OpenMStoMSstatsFormat | 0.001 | 0.001 | 0.000 | |
| OpenSWATHtoMSstatsFormat | 0.000 | 0.000 | 0.001 | |
| PDtoMSstatsFormat | 0.004 | 0.001 | 0.005 | |
| ProgenesistoMSstatsFormat | 0.006 | 0.002 | 0.006 | |
| SRMRawData | 0.006 | 0.001 | 0.007 | |
| SkylinetoMSstatsFormat | 0.026 | 0.000 | 0.028 | |
| SpectronauttoMSstatsFormat | 0.005 | 0.001 | 0.005 | |
| SpikeInDataLinear | 0.420 | 0.009 | 0.435 | |
| SpikeInDataNonLinear | 0.086 | 0.001 | 0.087 | |
| dataProcess | 1.526 | 0.072 | 1.617 | |
| dataProcessPlots | 9.342 | 0.057 | 9.498 | |
| designSampleSize | 1.075 | 0.086 | 1.051 | |
| designSampleSizeClassification | 318.886 | 9.510 | 331.132 | |
| designSampleSizeClassificationPlots | 317.329 | 9.199 | 330.822 | |
| designSampleSizePlots | 1.068 | 0.121 | 0.693 | |
| groupComparison | 0.801 | 0.571 | 0.502 | |
| groupComparisonPlots | 4.585 | 1.773 | 3.811 | |
| linear_quantlim | 0.060 | 0.001 | 0.061 | |
| modelBasedQCPlots | 1.694 | 1.009 | 1.283 | |
| nonlinear_quantlim | 0.059 | 0.000 | 0.062 | |
| plot_quantlim | 0.049 | 0.000 | 0.050 | |
| quantification | 0.382 | 0.018 | 0.437 | |