| Back to Multiple platform build/check report for BioC 3.8 | 
  | 
This page was generated on 2019-04-13 11:24:21 -0400 (Sat, 13 Apr 2019).
| Package 1011/1649 | Hostname | OS / Arch | INSTALL | BUILD | CHECK | BUILD BIN | ||||||
| MSnID 1.16.1 Vlad Petyuk 
  | malbec1 | Linux (Ubuntu 16.04.6 LTS) / x86_64 | OK | OK | OK | |||||||
| tokay1 | Windows Server 2012 R2 Standard / x64 | OK | OK | WARNINGS | [ OK ] | |||||||
| merida1 | OS X 10.11.6 El Capitan / x86_64 | OK | OK | OK | OK | 
| Package: MSnID | 
| Version: 1.16.1 | 
| Command: rm -rf MSnID.buildbin-libdir && mkdir MSnID.buildbin-libdir && C:\Users\biocbuild\bbs-3.8-bioc\R\bin\R.exe CMD INSTALL --merge-multiarch --build --library=MSnID.buildbin-libdir MSnID_1.16.1.tar.gz | 
| StartedAt: 2019-04-13 07:40:52 -0400 (Sat, 13 Apr 2019) | 
| EndedAt: 2019-04-13 07:41:23 -0400 (Sat, 13 Apr 2019) | 
| EllapsedTime: 30.8 seconds | 
| RetCode: 0 | 
| Status: OK | 
| PackageFile: MSnID_1.16.1.zip | 
| PackageFileSize: 3.567 MiB | 
##############################################################################
##############################################################################
###
### Running command:
###
###   rm -rf MSnID.buildbin-libdir && mkdir MSnID.buildbin-libdir && C:\Users\biocbuild\bbs-3.8-bioc\R\bin\R.exe CMD INSTALL --merge-multiarch --build --library=MSnID.buildbin-libdir MSnID_1.16.1.tar.gz
###
##############################################################################
##############################################################################
install for i386
* installing *source* package 'MSnID' ...
** R
** data
*** moving datasets to lazyload DB
** demo
** inst
** byte-compile and prepare package for lazy loading
** help
*** installing help indices
  converting help for package 'MSnID'
    finding HTML links ... done
    MSnID-class                             html  
    finding level-2 HTML links ... done
Rd warning: C:/Users/biocbuild/bbs-3.8-bioc/tmpdir/RtmpAfqP94/R.INSTALL1958240ce88/MSnID/man/MSnID-class.Rd:65: file link 'R.cache' in package 'R.cache' does not exist and so has been treated as a topic
Rd warning: C:/Users/biocbuild/bbs-3.8-bioc/tmpdir/RtmpAfqP94/R.INSTALL1958240ce88/MSnID/man/MSnID-class.Rd:81: file link 'R.cache' in package 'R.cache' does not exist and so has been treated as a topic
Rd warning: C:/Users/biocbuild/bbs-3.8-bioc/tmpdir/RtmpAfqP94/R.INSTALL1958240ce88/MSnID/man/MSnID-class.Rd:102: file link 'proteins' in package 'MSnID' does not exist and so has been treated as a topic
Rd warning: C:/Users/biocbuild/bbs-3.8-bioc/tmpdir/RtmpAfqP94/R.INSTALL1958240ce88/MSnID/man/MSnID-class.Rd:188: file link 'MSnSet' in package 'MSnbase' does not exist and so has been treated as a topic
    MSnID-package                           html  
    MSnIDFilter-class                       html  
Rd warning: C:/Users/biocbuild/bbs-3.8-bioc/tmpdir/RtmpAfqP94/R.INSTALL1958240ce88/MSnID/man/MSnIDFilter-class.Rd:86: file link 'MSnSet' in package 'MSnbase' does not exist and so has been treated as a topic
    accessions                              html  
    apply_filter                            html  
Rd warning: C:/Users/biocbuild/bbs-3.8-bioc/tmpdir/RtmpAfqP94/R.INSTALL1958240ce88/MSnID/man/apply_filter.Rd:20: file link 'MSnIDFilter' in package 'MSnID' does not exist and so has been treated as a topic
    assess_missed_cleavages                 html  
    assess_termini                          html  
    correct_peak_selection                  html  
    data                                    html  
    evaluate_filter                         html  
    id_quality                              html  
    infer_parsimonious_accessions           html  
    mass_measurement_error                  html  
    optimize_filter                         html  
Rd warning: C:/Users/biocbuild/bbs-3.8-bioc/tmpdir/RtmpAfqP94/R.INSTALL1958240ce88/MSnID/man/optimize_filter.Rd:48: file link 'mclapply' in package 'parallel' does not exist and so has been treated as a topic
Rd warning: C:/Users/biocbuild/bbs-3.8-bioc/tmpdir/RtmpAfqP94/R.INSTALL1958240ce88/MSnID/man/optimize_filter.Rd:67: file link 'R.cache' in package 'R.cache' does not exist and so has been treated as a topic
    peptides                                html  
    psms                                    html  
    read_mzIDs                              html  
Rd warning: C:/Users/biocbuild/bbs-3.8-bioc/tmpdir/RtmpAfqP94/R.INSTALL1958240ce88/MSnID/man/read_mzIDs.Rd:11: file link 'R.cache' in package 'R.cache' does not exist and so has been treated as a topic
    recalibrate                             html  
** building package indices
** installing vignettes
** testing if installed package can be loaded
In R CMD INSTALL
install for x64
* installing *source* package 'MSnID' ...
** testing if installed package can be loaded
* MD5 sums
packaged installation of 'MSnID' as MSnID_1.16.1.zip
* DONE (MSnID)
In R CMD INSTALL
In R CMD INSTALL