| Back to Multiple platform build/check report for BioC 3.8 | 
 | 
This page was generated on 2019-04-13 11:28:23 -0400 (Sat, 13 Apr 2019).
| Package 964/1649 | Hostname | OS / Arch | INSTALL | BUILD | CHECK | BUILD BIN | ||||||
| MIRA 1.4.1 John Lawson 
 | malbec1 | Linux (Ubuntu 16.04.6 LTS) / x86_64 | OK | OK | OK |  | ||||||
| tokay1 | Windows Server 2012 R2 Standard / x64 | OK | OK | OK | [ OK ] |  | ||||||
| merida1 | OS X 10.11.6 El Capitan / x86_64 | OK | OK | OK | OK |  | 
| Package: MIRA | 
| Version: 1.4.1 | 
| Command: rm -rf MIRA.buildbin-libdir && mkdir MIRA.buildbin-libdir && C:\Users\biocbuild\bbs-3.8-bioc\R\bin\R.exe CMD INSTALL --merge-multiarch --build --library=MIRA.buildbin-libdir MIRA_1.4.1.tar.gz | 
| StartedAt: 2019-04-13 07:39:22 -0400 (Sat, 13 Apr 2019) | 
| EndedAt: 2019-04-13 07:40:03 -0400 (Sat, 13 Apr 2019) | 
| EllapsedTime: 41.6 seconds | 
| RetCode: 0 | 
| Status: OK | 
| PackageFile: MIRA_1.4.1.zip | 
| PackageFileSize: 1.834 MiB | 
##############################################################################
##############################################################################
###
### Running command:
###
###   rm -rf MIRA.buildbin-libdir && mkdir MIRA.buildbin-libdir && C:\Users\biocbuild\bbs-3.8-bioc\R\bin\R.exe CMD INSTALL --merge-multiarch --build --library=MIRA.buildbin-libdir MIRA_1.4.1.tar.gz
###
##############################################################################
##############################################################################
install for i386
* installing *source* package 'MIRA' ...
** R
** data
** inst
** byte-compile and prepare package for lazy loading
** help
*** installing help indices
  converting help for package 'MIRA'
    finding HTML links ... done
    BSBinAggregate                          html  
    BSreadBiSeq                             html  
    MIRA                                    html  
    SummarizedExperimentToDataTable         html  
    addMethPropCol                          html  
    aggregateMethyl                         html  
    bigBinDT1                               html  
    bigBinDT2                               html  
    binRegion                               html  
    bsseqToDataTable                        html  
    calcMIRAScore                           html  
    exampleAnnoDT1                          html  
    exampleAnnoDT2                          html  
    exampleBSDT                             html  
    exampleBSseqObj                         html  
    exampleBins                             html  
    exampleRegionSet                        html  
    plotMIRAProfiles                        html  
    plotMIRAScores                          html  
    rbindNamedList                          html  
** building package indices
** installing vignettes
** testing if installed package can be loaded
In R CMD INSTALL
install for x64
* installing *source* package 'MIRA' ...
** testing if installed package can be loaded
* MD5 sums
packaged installation of 'MIRA' as MIRA_1.4.1.zip
* DONE (MIRA)
In R CMD INSTALL
In R CMD INSTALL