| Back to Multiple platform build/check report for BioC 3.8 | 
 | 
This page was generated on 2019-04-13 11:21:26 -0400 (Sat, 13 Apr 2019).
| Package 905/1649 | Hostname | OS / Arch | INSTALL | BUILD | CHECK | BUILD BIN | ||||||
| MEDIPS 1.34.0 Lukas Chavez 
 | malbec1 | Linux (Ubuntu 16.04.6 LTS) / x86_64 | OK | OK | OK |  | ||||||
| tokay1 | Windows Server 2012 R2 Standard / x64 | OK | OK | OK | [ OK ] |  | ||||||
| merida1 | OS X 10.11.6 El Capitan / x86_64 | OK | OK | OK | OK |  | 
| Package: MEDIPS | 
| Version: 1.34.0 | 
| Command: rm -rf MEDIPS.buildbin-libdir && mkdir MEDIPS.buildbin-libdir && C:\Users\biocbuild\bbs-3.8-bioc\R\bin\R.exe CMD INSTALL --merge-multiarch --build --library=MEDIPS.buildbin-libdir MEDIPS_1.34.0.tar.gz | 
| StartedAt: 2019-04-13 07:37:25 -0400 (Sat, 13 Apr 2019) | 
| EndedAt: 2019-04-13 07:38:00 -0400 (Sat, 13 Apr 2019) | 
| EllapsedTime: 34.2 seconds | 
| RetCode: 0 | 
| Status: OK | 
| PackageFile: MEDIPS_1.34.0.zip | 
| PackageFileSize: 691.8 KiB | 
##############################################################################
##############################################################################
###
### Running command:
###
###   rm -rf MEDIPS.buildbin-libdir && mkdir MEDIPS.buildbin-libdir && C:\Users\biocbuild\bbs-3.8-bioc\R\bin\R.exe CMD INSTALL --merge-multiarch --build --library=MEDIPS.buildbin-libdir MEDIPS_1.34.0.tar.gz
###
##############################################################################
##############################################################################
install for i386
* installing *source* package 'MEDIPS' ...
** R
** inst
** byte-compile and prepare package for lazy loading
** help
*** installing help indices
  converting help for package 'MEDIPS'
    finding HTML links ... done
    COUPLINGset-class                       html  
    MEDIPS-package                          html  
    MEDIPS.CpGenrich                        html  
    MEDIPS.addCNV                           html  
    MEDIPS.correlation                      html  
    MEDIPS.couplingVector                   html  
    MEDIPS.createROIset                     html  
    MEDIPS.createSet                        html  
    MEDIPS.exportWIG                        html  
    MEDIPS.getAnnotation                    html  
    MEDIPS.mergeFrames                      html  
    MEDIPS.mergeSets                        html  
    MEDIPS.meth                             html  
    MEDIPS.plotCalibrationPlot              html  
    MEDIPS.plotSaturation                   html  
    MEDIPS.plotSeqCoverage                  html  
    MEDIPS.saturation                       html  
    MEDIPS.selectROIs                       html  
    MEDIPS.selectSig                        html  
    MEDIPS.seqCoverage                      html  
    MEDIPS.setAnnotation                    html  
    MEDIPSroiSet-class                      html  
    MEDIPSset-class                         html  
** building package indices
** installing vignettes
** testing if installed package can be loaded
In R CMD INSTALL
install for x64
* installing *source* package 'MEDIPS' ...
** testing if installed package can be loaded
* MD5 sums
packaged installation of 'MEDIPS' as MEDIPS_1.34.0.zip
* DONE (MEDIPS)
In R CMD INSTALL
In R CMD INSTALL