| Back to Multiple platform build/check report for BioC 3.8 |
|
This page was generated on 2019-04-16 12:09:54 -0400 (Tue, 16 Apr 2019).
| Package 894/1649 | Hostname | OS / Arch | INSTALL | BUILD | CHECK | BUILD BIN | ||||||
| MBttest 1.10.0 Yuan-De Tan
| malbec1 | Linux (Ubuntu 16.04.6 LTS) / x86_64 | OK | OK | OK | |||||||
| merida1 | OS X 10.11.6 El Capitan / x86_64 | OK | OK | [ OK ] | OK |
| Package: MBttest |
| Version: 1.10.0 |
| Command: /Library/Frameworks/R.framework/Versions/Current/Resources/bin/R CMD check --install=check:MBttest.install-out.txt --library=/Library/Frameworks/R.framework/Versions/Current/Resources/library --no-vignettes --timings MBttest_1.10.0.tar.gz |
| StartedAt: 2019-04-16 01:03:16 -0400 (Tue, 16 Apr 2019) |
| EndedAt: 2019-04-16 01:03:53 -0400 (Tue, 16 Apr 2019) |
| EllapsedTime: 37.4 seconds |
| RetCode: 0 |
| Status: OK |
| CheckDir: MBttest.Rcheck |
| Warnings: 0 |
##############################################################################
##############################################################################
###
### Running command:
###
### /Library/Frameworks/R.framework/Versions/Current/Resources/bin/R CMD check --install=check:MBttest.install-out.txt --library=/Library/Frameworks/R.framework/Versions/Current/Resources/library --no-vignettes --timings MBttest_1.10.0.tar.gz
###
##############################################################################
##############################################################################
* using log directory ‘/Users/biocbuild/bbs-3.8-bioc/meat/MBttest.Rcheck’
* using R version 3.5.3 (2019-03-11)
* using platform: x86_64-apple-darwin15.6.0 (64-bit)
* using session charset: UTF-8
* using option ‘--no-vignettes’
* checking for file ‘MBttest/DESCRIPTION’ ... OK
* checking extension type ... Package
* this is package ‘MBttest’ version ‘1.10.0’
* checking package namespace information ... OK
* checking package dependencies ... OK
* checking if this is a source package ... OK
* checking if there is a namespace ... OK
* checking for hidden files and directories ... OK
* checking for portable file names ... OK
* checking for sufficient/correct file permissions ... OK
* checking whether package ‘MBttest’ can be installed ... OK
* checking installed package size ... OK
* checking package directory ... OK
* checking ‘build’ directory ... OK
* checking DESCRIPTION meta-information ... OK
* checking top-level files ... OK
* checking for left-over files ... OK
* checking index information ... OK
* checking package subdirectories ... OK
* checking R files for non-ASCII characters ... OK
* checking R files for syntax errors ... OK
* checking whether the package can be loaded ... OK
* checking whether the package can be loaded with stated dependencies ... OK
* checking whether the package can be unloaded cleanly ... OK
* checking whether the namespace can be loaded with stated dependencies ... OK
* checking whether the namespace can be unloaded cleanly ... OK
* checking dependencies in R code ... OK
* checking S3 generic/method consistency ... OK
* checking replacement functions ... OK
* checking foreign function calls ... OK
* checking R code for possible problems ... OK
* checking Rd files ... OK
* checking Rd metadata ... OK
* checking Rd cross-references ... OK
* checking for missing documentation entries ... OK
* checking for code/documentation mismatches ... OK
* checking Rd \usage sections ... OK
* checking Rd contents ... OK
* checking for unstated dependencies in examples ... OK
* checking contents of ‘data’ directory ... OK
* checking data for non-ASCII characters ... OK
* checking data for ASCII and uncompressed saves ... OK
* checking sizes of PDF files under ‘inst/doc’ ... OK
* checking installed files from ‘inst/doc’ ... OK
* checking files in ‘vignettes’ ... OK
* checking examples ... OK
Examples with CPU or elapsed time > 5s
user system elapsed
myheatmap 5.292 0.092 5.437
* checking for unstated dependencies in vignettes ... OK
* checking package vignettes in ‘inst/doc’ ... OK
* checking running R code from vignettes ... SKIPPED
* checking re-building of vignette outputs ... SKIPPED
* checking PDF version of manual ... OK
* DONE
Status: OK
MBttest.Rcheck/00install.out
############################################################################## ############################################################################## ### ### Running command: ### ### /Library/Frameworks/R.framework/Versions/Current/Resources/bin/R CMD INSTALL MBttest ### ############################################################################## ############################################################################## * installing to library ‘/Library/Frameworks/R.framework/Versions/3.5/Resources/library’ * installing *source* package ‘MBttest’ ... ** R ** data ** inst ** byte-compile and prepare package for lazy loading ** help *** installing help indices ** building package indices ** installing vignettes ** testing if installed package can be loaded * DONE (MBttest)
MBttest.Rcheck/MBttest-Ex.timings
| name | user | system | elapsed | |
| MBttest-package | 0.856 | 0.052 | 0.922 | |
| betaparametVP | 0.19 | 0.01 | 0.20 | |
| betaparametab | 0 | 0 | 0 | |
| betaparametw | 0.001 | 0.001 | 0.000 | |
| betattest | 0.670 | 0.025 | 0.700 | |
| dat | 0.061 | 0.005 | 0.068 | |
| jkttcell | 0.047 | 0.005 | 0.052 | |
| maplot | 0.556 | 0.014 | 0.575 | |
| mbetattest | 1.969 | 0.024 | 2.008 | |
| mtprocedure | 0.019 | 0.001 | 0.021 | |
| mtpvadjust | 0.003 | 0.001 | 0.004 | |
| myheatmap | 5.292 | 0.092 | 5.437 | |
| oddratio | 0.002 | 0.000 | 0.001 | |
| pratio | 0.000 | 0.000 | 0.001 | |
| simulat | 0.308 | 0.008 | 0.320 | |
| skjt | 0.051 | 0.004 | 0.057 | |
| smbetattest | 0.670 | 0.012 | 0.691 | |