| Back to Multiple platform build/check report for BioC 3.8 |
|
This page was generated on 2019-04-13 11:24:37 -0400 (Sat, 13 Apr 2019).
| Package 890/1649 | Hostname | OS / Arch | INSTALL | BUILD | CHECK | BUILD BIN | ||||||
| MBAmethyl 1.16.0 Tao Wang
| malbec1 | Linux (Ubuntu 16.04.6 LTS) / x86_64 | OK | OK | OK | |||||||
| tokay1 | Windows Server 2012 R2 Standard / x64 | OK | OK | OK | [ OK ] | |||||||
| merida1 | OS X 10.11.6 El Capitan / x86_64 | OK | OK | OK | OK |
| Package: MBAmethyl |
| Version: 1.16.0 |
| Command: rm -rf MBAmethyl.buildbin-libdir && mkdir MBAmethyl.buildbin-libdir && C:\Users\biocbuild\bbs-3.8-bioc\R\bin\R.exe CMD INSTALL --merge-multiarch --build --library=MBAmethyl.buildbin-libdir MBAmethyl_1.16.0.tar.gz |
| StartedAt: 2019-04-13 07:36:57 -0400 (Sat, 13 Apr 2019) |
| EndedAt: 2019-04-13 07:37:13 -0400 (Sat, 13 Apr 2019) |
| EllapsedTime: 16.1 seconds |
| RetCode: 0 |
| Status: OK |
| PackageFile: MBAmethyl_1.16.0.zip |
| PackageFileSize: 124.1 KiB |
##############################################################################
##############################################################################
###
### Running command:
###
### rm -rf MBAmethyl.buildbin-libdir && mkdir MBAmethyl.buildbin-libdir && C:\Users\biocbuild\bbs-3.8-bioc\R\bin\R.exe CMD INSTALL --merge-multiarch --build --library=MBAmethyl.buildbin-libdir MBAmethyl_1.16.0.tar.gz
###
##############################################################################
##############################################################################
install for i386
* installing *source* package 'MBAmethyl' ...
** R
** inst
** byte-compile and prepare package for lazy loading
** help
*** installing help indices
converting help for package 'MBAmethyl'
finding HTML links ... done
MBAmethyl-package html
MBAmethyl html
** building package indices
** installing vignettes
** testing if installed package can be loaded
In R CMD INSTALL
install for x64
* installing *source* package 'MBAmethyl' ...
** testing if installed package can be loaded
* MD5 sums
packaged installation of 'MBAmethyl' as MBAmethyl_1.16.0.zip
* DONE (MBAmethyl)
In R CMD INSTALL
In R CMD INSTALL