| Back to Multiple platform build/check report for BioC 3.8 |
|
This page was generated on 2019-04-16 11:48:07 -0400 (Tue, 16 Apr 2019).
| Package 871/1649 | Hostname | OS / Arch | INSTALL | BUILD | CHECK | BUILD BIN | ||||||
| MANOR 1.54.0 Pierre Neuvial
| malbec1 | Linux (Ubuntu 16.04.6 LTS) / x86_64 | OK | OK | [ OK ] | |||||||
| merida1 | OS X 10.11.6 El Capitan / x86_64 | OK | OK | OK | OK |
| Package: MANOR |
| Version: 1.54.0 |
| Command: /home/biocbuild/bbs-3.8-bioc/R/bin/R CMD check --install=check:MANOR.install-out.txt --library=/home/biocbuild/bbs-3.8-bioc/R/library --no-vignettes --timings MANOR_1.54.0.tar.gz |
| StartedAt: 2019-04-16 01:06:47 -0400 (Tue, 16 Apr 2019) |
| EndedAt: 2019-04-16 01:07:12 -0400 (Tue, 16 Apr 2019) |
| EllapsedTime: 25.6 seconds |
| RetCode: 0 |
| Status: OK |
| CheckDir: MANOR.Rcheck |
| Warnings: 0 |
############################################################################## ############################################################################## ### ### Running command: ### ### /home/biocbuild/bbs-3.8-bioc/R/bin/R CMD check --install=check:MANOR.install-out.txt --library=/home/biocbuild/bbs-3.8-bioc/R/library --no-vignettes --timings MANOR_1.54.0.tar.gz ### ############################################################################## ############################################################################## * using log directory ‘/home/biocbuild/bbs-3.8-bioc/meat/MANOR.Rcheck’ * using R version 3.5.3 (2019-03-11) * using platform: x86_64-pc-linux-gnu (64-bit) * using session charset: UTF-8 * using option ‘--no-vignettes’ * checking for file ‘MANOR/DESCRIPTION’ ... OK * this is package ‘MANOR’ version ‘1.54.0’ * checking package namespace information ... OK * checking package dependencies ... OK * checking if this is a source package ... OK * checking if there is a namespace ... OK * checking for hidden files and directories ... OK * checking for portable file names ... OK * checking for sufficient/correct file permissions ... OK * checking whether package ‘MANOR’ can be installed ... OK * checking installed package size ... OK * checking package directory ... OK * checking ‘build’ directory ... OK * checking DESCRIPTION meta-information ... NOTE Package listed in more than one of Depends, Imports, Suggests, Enhances: ‘GLAD’ A package should be listed in only one of these fields. * checking top-level files ... OK * checking for left-over files ... OK * checking index information ... OK * checking package subdirectories ... OK * checking R files for non-ASCII characters ... OK * checking R files for syntax errors ... OK * checking whether the package can be loaded ... OK * checking whether the package can be loaded with stated dependencies ... OK * checking whether the package can be unloaded cleanly ... OK * checking whether the namespace can be loaded with stated dependencies ... OK * checking whether the namespace can be unloaded cleanly ... OK * checking dependencies in R code ... OK * checking S3 generic/method consistency ... OK * checking replacement functions ... OK * checking foreign function calls ... OK * checking R code for possible problems ... OK * checking Rd files ... OK * checking Rd metadata ... OK * checking Rd cross-references ... OK * checking for missing documentation entries ... OK * checking for code/documentation mismatches ... OK * checking Rd \usage sections ... OK * checking Rd contents ... OK * checking for unstated dependencies in examples ... OK * checking contents of ‘data’ directory ... OK * checking data for non-ASCII characters ... OK * checking data for ASCII and uncompressed saves ... OK * checking line endings in C/C++/Fortran sources/headers ... OK * checking compiled code ... NOTE Note: information on .o files is not available File ‘/home/biocbuild/bbs-3.8-bioc/R/library/MANOR/libs/MANOR.so’: Found ‘rand’, possibly from ‘rand’ (C) Found ‘srand’, possibly from ‘srand’ (C) Compiled code should not call entry points which might terminate R nor write to stdout/stderr instead of to the console, nor use Fortran I/O nor system RNGs. The detected symbols are linked into the code but might come from libraries and not actually be called. See ‘Writing portable packages’ in the ‘Writing R Extensions’ manual. * checking files in ‘vignettes’ ... OK * checking examples ... OK * checking for unstated dependencies in vignettes ... OK * checking package vignettes in ‘inst/doc’ ... OK * checking running R code from vignettes ... SKIPPED * checking re-building of vignette outputs ... SKIPPED * checking PDF version of manual ... OK * DONE Status: 2 NOTEs See ‘/home/biocbuild/bbs-3.8-bioc/meat/MANOR.Rcheck/00check.log’ for details.
MANOR.Rcheck/00install.out
##############################################################################
##############################################################################
###
### Running command:
###
### /home/biocbuild/bbs-3.8-bioc/R/bin/R CMD INSTALL MANOR
###
##############################################################################
##############################################################################
* installing to library ‘/home/biocbuild/bbs-3.8-bioc/R/library’
* installing *source* package ‘MANOR’ ...
** libs
gcc -I"/home/biocbuild/bbs-3.8-bioc/R/include" -DNDEBUG -I/usr/local/include -fpic -g -O2 -Wall -c Rnem_arg.c -o Rnem_arg.o
gcc -I"/home/biocbuild/bbs-3.8-bioc/R/include" -DNDEBUG -I/usr/local/include -fpic -g -O2 -Wall -c Rnem_exe.c -o Rnem_exe.o
gcc -I"/home/biocbuild/bbs-3.8-bioc/R/include" -DNDEBUG -I/usr/local/include -fpic -g -O2 -Wall -c exememo.c -o exememo.o
In file included from /home/biocbuild/bbs-3.8-bioc/R/include/R.h:86:0,
from exememo.c:20:
exememo.c: In function ‘GenAlloc’:
/home/biocbuild/bbs-3.8-bioc/R/include/R_ext/Error.h:52:15: warning: ‘msg’ may be used uninitialized in this function [-Wmaybe-uninitialized]
#define error Rf_error
^
exememo.c:39:11: note: ‘msg’ was declared here
char* msg;
^
gcc -I"/home/biocbuild/bbs-3.8-bioc/R/include" -DNDEBUG -I/usr/local/include -fpic -g -O2 -Wall -c nem_alg.c -o nem_alg.o
gcc -I"/home/biocbuild/bbs-3.8-bioc/R/include" -DNDEBUG -I/usr/local/include -fpic -g -O2 -Wall -c nem_hlp.c -o nem_hlp.o
gcc -I"/home/biocbuild/bbs-3.8-bioc/R/include" -DNDEBUG -I/usr/local/include -fpic -g -O2 -Wall -c nem_mod.c -o nem_mod.o
gcc -I"/home/biocbuild/bbs-3.8-bioc/R/include" -DNDEBUG -I/usr/local/include -fpic -g -O2 -Wall -c nem_nei.c -o nem_nei.o
gcc -I"/home/biocbuild/bbs-3.8-bioc/R/include" -DNDEBUG -I/usr/local/include -fpic -g -O2 -Wall -c nem_rnd.c -o nem_rnd.o
gcc -I"/home/biocbuild/bbs-3.8-bioc/R/include" -DNDEBUG -I/usr/local/include -fpic -g -O2 -Wall -c nem_ver.c -o nem_ver.o
gcc -shared -L/home/biocbuild/bbs-3.8-bioc/R/lib -L/usr/local/lib -o MANOR.so Rnem_arg.o Rnem_exe.o exememo.o nem_alg.o nem_hlp.o nem_mod.o nem_nei.o nem_rnd.o nem_ver.o -L/home/biocbuild/bbs-3.8-bioc/R/lib -lR
installing to /home/biocbuild/bbs-3.8-bioc/R/library/MANOR/libs
** R
** data
** inst
** byte-compile and prepare package for lazy loading
** help
*** installing help indices
** building package indices
** installing vignettes
** testing if installed package can be loaded
* DONE (MANOR)
MANOR.Rcheck/MANOR-Ex.timings
| name | user | system | elapsed | |
| arrayTrend | 0.500 | 0.008 | 0.510 | |
| detectSB | 0.412 | 0.008 | 0.421 | |
| flag.arrayCGH | 1.128 | 0.004 | 1.136 | |
| flag.summary | 0.092 | 0.004 | 0.096 | |
| flags | 0.088 | 0.004 | 0.093 | |
| genome.plot | 0.260 | 0.000 | 0.257 | |
| import | 0.196 | 0.004 | 0.212 | |
| nem | 1.672 | 0.000 | 1.672 | |
| norm | 0.852 | 0.024 | 0.878 | |
| qscore.arrayCGH | 0.164 | 0.000 | 0.169 | |
| qscore.summary | 0.968 | 0.000 | 0.970 | |
| qscores | 0.704 | 0.000 | 0.702 | |
| report.plot | 0.652 | 0.024 | 0.679 | |
| sort | 0.184 | 0.004 | 0.186 | |
| spatial | 0.232 | 0.004 | 0.236 | |
| to.flag | 0.384 | 0.004 | 0.388 | |