| Back to Multiple platform build/check report for BioC 3.8 |
|
This page was generated on 2019-04-16 12:04:04 -0400 (Tue, 16 Apr 2019).
| Package 867/1649 | Hostname | OS / Arch | INSTALL | BUILD | CHECK | BUILD BIN | ||||||
| MAGeCKFlute 1.2.3 Wubing Zhang
| malbec1 | Linux (Ubuntu 16.04.6 LTS) / x86_64 | OK | OK | OK | |||||||
| merida1 | OS X 10.11.6 El Capitan / x86_64 | OK | [ OK ] | OK | OK |
| Package: MAGeCKFlute |
| Version: 1.2.3 |
| Command: /Library/Frameworks/R.framework/Versions/Current/Resources/bin/R CMD build --keep-empty-dirs --no-resave-data MAGeCKFlute |
| StartedAt: 2019-04-15 21:34:07 -0400 (Mon, 15 Apr 2019) |
| EndedAt: 2019-04-15 21:38:20 -0400 (Mon, 15 Apr 2019) |
| EllapsedTime: 252.7 seconds |
| RetCode: 0 |
| Status: OK |
| PackageFile: MAGeCKFlute_1.2.3.tar.gz |
| PackageFileSize: 58.58 MiB |
############################################################################## ############################################################################## ### ### Running command: ### ### /Library/Frameworks/R.framework/Versions/Current/Resources/bin/R CMD build --keep-empty-dirs --no-resave-data MAGeCKFlute ### ############################################################################## ############################################################################## * checking for file ‘MAGeCKFlute/DESCRIPTION’ ... OK * preparing ‘MAGeCKFlute’: * checking DESCRIPTION meta-information ... OK * installing the package to build vignettes * creating vignettes ... OK * checking for LF line-endings in source and make files and shell scripts * checking for empty or unneeded directories * looking to see if a ‘data/datalist’ file should be added * building ‘MAGeCKFlute_1.2.3.tar.gz’ Warning in utils::tar(filepath, pkgname, compression = "gzip", compression_level = 9L, : storing paths of more than 100 bytes is not portable: ‘MAGeCKFlute/vignettes/MAGeCKFlute_cache/html/CheckCountSummary_772d2f34111dd8efb7ea46fc8b46e5b8.RData’ Warning in utils::tar(filepath, pkgname, compression = "gzip", compression_level = 9L, : storing paths of more than 100 bytes is not portable: ‘MAGeCKFlute/vignettes/MAGeCKFlute_cache/html/EstimateCellCycle_2d76364f66438e955d3cbfef21e61b9d.RData’