| Back to Multiple platform build/check report for BioC 3.8 |
|
This page was generated on 2019-04-13 11:28:52 -0400 (Sat, 13 Apr 2019).
| Package 863/1649 | Hostname | OS / Arch | INSTALL | BUILD | CHECK | BUILD BIN | ||||||
| MACPET 1.2.0 Ioannis Vardaxis
| malbec1 | Linux (Ubuntu 16.04.6 LTS) / x86_64 | ERROR | ERROR | skipped | |||||||
| tokay1 | Windows Server 2012 R2 Standard / x64 | ERROR | [ ERROR ] | skipped | skipped | |||||||
| merida1 | OS X 10.11.6 El Capitan / x86_64 | ERROR | ERROR | skipped | skipped |
| Package: MACPET |
| Version: 1.2.0 |
| Command: chmod a+r MACPET -R && C:\Users\biocbuild\bbs-3.8-bioc\R\bin\R.exe CMD build --keep-empty-dirs --no-resave-data MACPET |
| StartedAt: 2019-04-12 23:42:21 -0400 (Fri, 12 Apr 2019) |
| EndedAt: 2019-04-12 23:42:25 -0400 (Fri, 12 Apr 2019) |
| EllapsedTime: 3.9 seconds |
| RetCode: 1 |
| Status: ERROR |
| PackageFile: MACPET_1.2.0.tar.gz |
| PackageFileSize: 849.2 KiB |
##############################################################################
##############################################################################
###
### Running command:
###
### chmod a+r MACPET -R && C:\Users\biocbuild\bbs-3.8-bioc\R\bin\R.exe CMD build --keep-empty-dirs --no-resave-data MACPET
###
##############################################################################
##############################################################################
* checking for file 'MACPET/DESCRIPTION' ... OK
* preparing 'MACPET':
* checking DESCRIPTION meta-information ... OK
* cleaning src
* installing the package to build vignettes
-----------------------------------
ERROR: dependency 'rbamtools' is not available for package 'MACPET'
* removing 'C:/Users/biocbuild/bbs-3.8-bioc/tmpdir/RtmpAHbeRi/Rinst112c335675a2/MACPET'
In R CMD INSTALL
-----------------------------------
ERROR: package installation failed