| Back to Multiple platform build/check report for BioC 3.8 |
|
This page was generated on 2019-04-13 11:24:11 -0400 (Sat, 13 Apr 2019).
| Package 858/1649 | Hostname | OS / Arch | INSTALL | BUILD | CHECK | BUILD BIN | ||||||
| M3D 1.16.0 Tom Mayo
| malbec1 | Linux (Ubuntu 16.04.6 LTS) / x86_64 | OK | OK | OK | |||||||
| tokay1 | Windows Server 2012 R2 Standard / x64 | OK | OK | [ OK ] | OK | |||||||
| merida1 | OS X 10.11.6 El Capitan / x86_64 | OK | OK | OK | OK |
| Package: M3D |
| Version: 1.16.0 |
| Command: C:\Users\biocbuild\bbs-3.8-bioc\R\bin\R.exe --arch x64 CMD check --no-multiarch --install=check:M3D.install-out.txt --library=C:\Users\biocbuild\bbs-3.8-bioc\R\library --no-vignettes --timings M3D_1.16.0.tar.gz |
| StartedAt: 2019-04-13 03:27:59 -0400 (Sat, 13 Apr 2019) |
| EndedAt: 2019-04-13 03:32:22 -0400 (Sat, 13 Apr 2019) |
| EllapsedTime: 262.6 seconds |
| RetCode: 0 |
| Status: OK |
| CheckDir: M3D.Rcheck |
| Warnings: 0 |
##############################################################################
##############################################################################
###
### Running command:
###
### C:\Users\biocbuild\bbs-3.8-bioc\R\bin\R.exe --arch x64 CMD check --no-multiarch --install=check:M3D.install-out.txt --library=C:\Users\biocbuild\bbs-3.8-bioc\R\library --no-vignettes --timings M3D_1.16.0.tar.gz
###
##############################################################################
##############################################################################
* using log directory 'C:/Users/biocbuild/bbs-3.8-bioc/meat/M3D.Rcheck'
* using R version 3.5.3 (2019-03-11)
* using platform: x86_64-w64-mingw32 (64-bit)
* using session charset: ISO8859-1
* using option '--no-vignettes'
* checking for file 'M3D/DESCRIPTION' ... OK
* checking extension type ... Package
* this is package 'M3D' version '1.16.0'
* checking package namespace information ... OK
* checking package dependencies ...Warning: unable to access index for repository https://CRAN.R-project.org/src/contrib:
cannot open URL 'https://CRAN.R-project.org/src/contrib/PACKAGES'
OK
* checking if this is a source package ... OK
* checking if there is a namespace ... OK
* checking for hidden files and directories ... NOTE
Found the following hidden files and directories:
.BBSoptions
These were most likely included in error. See section 'Package
structure' in the 'Writing R Extensions' manual.
* checking for portable file names ... OK
* checking whether package 'M3D' can be installed ... OK
* checking installed package size ... OK
* checking package directory ... OK
* checking 'build' directory ... OK
* checking DESCRIPTION meta-information ... OK
* checking top-level files ... OK
* checking for left-over files ... OK
* checking index information ... OK
* checking package subdirectories ... OK
* checking R files for non-ASCII characters ... OK
* checking R files for syntax errors ... OK
* checking whether the package can be loaded ... OK
* checking whether the package can be loaded with stated dependencies ... OK
* checking whether the package can be unloaded cleanly ... OK
* checking whether the namespace can be loaded with stated dependencies ... OK
* checking whether the namespace can be unloaded cleanly ... OK
* checking dependencies in R code ... OK
* checking S3 generic/method consistency ... OK
* checking replacement functions ... OK
* checking foreign function calls ... OK
* checking R code for possible problems ... NOTE
M3D_Wrapper: no visible global function definition for 'txtProgressBar'
M3D_Wrapper: no visible global function definition for
'setTxtProgressBar'
M3D_Wrapper_lite: no visible global function definition for
'txtProgressBar'
M3D_Wrapper_lite: no visible global function definition for
'setTxtProgressBar'
plotCoverageSampleProfiles: no visible global function definition for
'plot'
plotCoverageSampleProfiles: no visible global function definition for
'lines'
plotCoverageSampleProfiles: no visible global function definition for
'points'
plotCoverageSampleProfiles: no visible global function definition for
'title'
plotMethProfile: no visible global function definition for 'plot'
plotMethProfile: no visible global function definition for 'lines'
plotMethProfile: no visible global function definition for 'points'
plotMethProfile: no visible global function definition for 'title'
plotMethSampleProfiles: no visible global function definition for
'plot'
plotMethSampleProfiles: no visible global function definition for
'lines'
plotMethSampleProfiles: no visible global function definition for
'points'
plotMethSampleProfiles: no visible global function definition for
'title'
pvals: no visible global function definition for 'p.adjust'
pvals_lite: no visible global function definition for 'p.adjust'
Undefined global functions or variables:
lines p.adjust plot points setTxtProgressBar title txtProgressBar
Consider adding
importFrom("graphics", "lines", "plot", "points", "title")
importFrom("stats", "p.adjust")
importFrom("utils", "setTxtProgressBar", "txtProgressBar")
to your NAMESPACE file.
* checking Rd files ... OK
* checking Rd metadata ... OK
* checking Rd cross-references ... OK
* checking for missing documentation entries ... OK
* checking for code/documentation mismatches ... OK
* checking Rd \usage sections ... OK
* checking Rd contents ... OK
* checking for unstated dependencies in examples ... OK
* checking contents of 'data' directory ... OK
* checking data for non-ASCII characters ... OK
* checking data for ASCII and uncompressed saves ... OK
* checking line endings in C/C++/Fortran sources/headers ... OK
* checking compiled code ... NOTE
Note: information on .o files for x64 is not available
* checking files in 'vignettes' ... OK
* checking examples ... OK
* checking for unstated dependencies in 'tests' ... OK
* checking tests ...
Running 'testthat.R'
OK
* checking for unstated dependencies in vignettes ... OK
* checking package vignettes in 'inst/doc' ... OK
* checking running R code from vignettes ... SKIPPED
* checking re-building of vignette outputs ... SKIPPED
* checking PDF version of manual ... OK
* DONE
Status: 3 NOTEs
See
'C:/Users/biocbuild/bbs-3.8-bioc/meat/M3D.Rcheck/00check.log'
for details.
M3D.Rcheck/00install.out
##############################################################################
##############################################################################
###
### Running command:
###
### C:\Users\biocbuild\bbs-3.8-bioc\R\bin\R.exe --arch x64 CMD INSTALL --no-multiarch M3D
###
##############################################################################
##############################################################################
* installing to library 'C:/Users/biocbuild/bbs-3.8-bioc/R/library'
* installing *source* package 'M3D' ...
** libs
C:/Rtools/mingw_64/bin/g++ -I"C:/Users/biocbuild/bbs-3.8-bioc/R/include" -DNDEBUG -I"C:/Users/biocbuild/bbs-3.8-bioc/R/library/Rcpp/include" -I"C:/extsoft/include" -O2 -Wall -mtune=generic -c RcppExports.cpp -o RcppExports.o
C:/Rtools/mingw_64/bin/g++ -I"C:/Users/biocbuild/bbs-3.8-bioc/R/include" -DNDEBUG -I"C:/Users/biocbuild/bbs-3.8-bioc/R/library/Rcpp/include" -I"C:/extsoft/include" -O2 -Wall -mtune=generic -c cpp_fns.cpp -o cpp_fns.o
C:/Rtools/mingw_64/bin/g++ -shared -s -static-libgcc -o M3D.dll tmp.def RcppExports.o cpp_fns.o -LC:/extsoft/lib/x64 -LC:/extsoft/lib -LC:/Users/biocbuild/bbs-3.8-bioc/R/bin/x64 -lR
installing to C:/Users/biocbuild/bbs-3.8-bioc/R/library/M3D/libs/x64
** R
** data
** byte-compile and prepare package for lazy loading
** help
*** installing help indices
converting help for package 'M3D'
finding HTML links ... done
CpGsDemo html
M3D-package html
M3D_Single html
M3D_Wrapper html
M3D_Wrapper_lite html
MMDlistDemo html
PDemo html
determineGroupComps html
findComps html
medianFreq html
median_freq html
plotCoverageSampleProfiles html
plotMethProfile html
plotMethSampleProfiles html
pvals html
pvals_lite html
readBedFiles html
readBedRaw html
rrbsDemo html
test_colData_structure html
** building package indices
** installing vignettes
** testing if installed package can be loaded
* DONE (M3D)
Making 'packages.html' ... done
In R CMD INSTALL
M3D.Rcheck/tests/testthat.Rout
R version 3.5.3 (2019-03-11) -- "Great Truth"
Copyright (C) 2019 The R Foundation for Statistical Computing
Platform: x86_64-w64-mingw32/x64 (64-bit)
R is free software and comes with ABSOLUTELY NO WARRANTY.
You are welcome to redistribute it under certain conditions.
Type 'license()' or 'licence()' for distribution details.
R is a collaborative project with many contributors.
Type 'contributors()' for more information and
'citation()' on how to cite R or R packages in publications.
Type 'demo()' for some demos, 'help()' for on-line help, or
'help.start()' for an HTML browser interface to help.
Type 'q()' to quit R.
> Sys.setenv("R_TESTS" = "")
> library(testthat)
> library(M3D)
>
> test_check("M3D")
|
| | 0%
|
|======== | 11%
|
|================ | 22%
|
|======================= | 33%
|
|=============================== | 44%
|
|======================================= | 56%
|
|=============================================== | 67%
|
|====================================================== | 78%
|
|============================================================== | 89%
|
|======================================================================| 100%
|
| | 0%
|
|======= | 10%
|
|============== | 20%
|
|===================== | 30%
|
|============================ | 40%
|
|=================================== | 50%
|
|========================================== | 60%
|
|================================================= | 70%
|
|======================================================== | 80%
|
|=============================================================== | 90%
|
|======================================================================| 100%
== testthat results ===========================================================
OK: 20 SKIPPED: 0 FAILED: 0
>
> proc.time()
user system elapsed
10.42 0.29 10.76
M3D.Rcheck/M3D-Ex.timings
| name | user | system | elapsed | |
| M3D_Wrapper | 0.25 | 0.00 | 0.33 | |
| M3D_Wrapper_lite | 0.18 | 0.01 | 0.20 | |
| determineGroupComps | 0.30 | 0.02 | 0.32 | |
| findComps | 0.30 | 0.03 | 0.36 | |
| median_freq | 0 | 0 | 0 | |
| plotCoverageSampleProfiles | 0.23 | 0.00 | 0.23 | |
| plotMethProfile | 0.17 | 0.05 | 0.22 | |
| plotMethSampleProfiles | 0.19 | 0.01 | 0.20 | |
| pvals | 0.42 | 0.02 | 0.44 | |
| pvals_lite | 0.39 | 0.00 | 0.39 | |
| readBedFiles | 0 | 0 | 0 | |
| readBedRaw | 0 | 0 | 0 | |