| Back to Multiple platform build/check report for BioC 3.8 |
|
This page was generated on 2019-04-16 11:54:04 -0400 (Tue, 16 Apr 2019).
| Package 849/1649 | Hostname | OS / Arch | INSTALL | BUILD | CHECK | BUILD BIN | ||||||
| LPE 1.56.0 Nitin Jain
| malbec1 | Linux (Ubuntu 16.04.6 LTS) / x86_64 | OK | OK | OK | |||||||
| merida1 | OS X 10.11.6 El Capitan / x86_64 | OK | OK | OK | [ OK ] |
| Package: LPE |
| Version: 1.56.0 |
| Command: rm -rf LPE.buildbin-libdir && mkdir LPE.buildbin-libdir && /Users/biocbuild/BBS/utils/build-universal.sh LPE_1.56.0.tar.gz /Library/Frameworks/R.framework/Versions/Current/Resources/bin/R LPE.buildbin-libdir |
| StartedAt: 2019-04-16 04:17:59 -0400 (Tue, 16 Apr 2019) |
| EndedAt: 2019-04-16 04:18:42 -0400 (Tue, 16 Apr 2019) |
| EllapsedTime: 43.4 seconds |
| RetCode: 0 |
| Status: OK |
| PackageFile: LPE_1.56.0.tgz |
| PackageFileSize: 372.6 KiB |
############################################################################## ############################################################################## ### ### Running command: ### ### rm -rf LPE.buildbin-libdir && mkdir LPE.buildbin-libdir && /Users/biocbuild/BBS/utils/build-universal.sh LPE_1.56.0.tar.gz /Library/Frameworks/R.framework/Versions/Current/Resources/bin/R LPE.buildbin-libdir ### ############################################################################## ############################################################################## >>>>>>> >>>>>>> INSTALLATION WITH 'R CMD INSTALL --preclean --no-multiarch --library=LPE.buildbin-libdir LPE_1.56.0.tar.gz' >>>>>>> * installing *source* package ‘LPE’ ... ** R ** data ** inst ** byte-compile and prepare package for lazy loading ** help *** installing help indices ** building package indices ** installing vignettes ** testing if installed package can be loaded * DONE (LPE)