| Back to Multiple platform build/check report for BioC 3.8 |
|
This page was generated on 2019-04-13 11:28:15 -0400 (Sat, 13 Apr 2019).
| Package 785/1649 | Hostname | OS / Arch | INSTALL | BUILD | CHECK | BUILD BIN | ||||||
| InterMineR 1.4.1 InterMine Team
| malbec1 | Linux (Ubuntu 16.04.6 LTS) / x86_64 | OK | ERROR | skipped | |||||||
| tokay1 | Windows Server 2012 R2 Standard / x64 | [ OK ] | OK | WARNINGS | OK | |||||||
| merida1 | OS X 10.11.6 El Capitan / x86_64 | OK | OK | OK | OK |
| Package: InterMineR |
| Version: 1.4.1 |
| Command: C:\cygwin\bin\curl.exe -O https://malbec1.bioconductor.org/BBS/3.8/bioc/src/contrib/InterMineR_1.4.1.tar.gz && rm -rf InterMineR.buildbin-libdir && mkdir InterMineR.buildbin-libdir && C:\Users\biocbuild\bbs-3.8-bioc\R\bin\R.exe CMD INSTALL --merge-multiarch --build --library=InterMineR.buildbin-libdir InterMineR_1.4.1.tar.gz && C:\Users\biocbuild\bbs-3.8-bioc\R\bin\R.exe CMD INSTALL InterMineR_1.4.1.zip && rm InterMineR_1.4.1.tar.gz InterMineR_1.4.1.zip |
| StartedAt: 2019-04-12 20:07:18 -0400 (Fri, 12 Apr 2019) |
| EndedAt: 2019-04-12 20:08:03 -0400 (Fri, 12 Apr 2019) |
| EllapsedTime: 45.5 seconds |
| RetCode: 0 |
| Status: OK |
##############################################################################
##############################################################################
###
### Running command:
###
### C:\cygwin\bin\curl.exe -O https://malbec1.bioconductor.org/BBS/3.8/bioc/src/contrib/InterMineR_1.4.1.tar.gz && rm -rf InterMineR.buildbin-libdir && mkdir InterMineR.buildbin-libdir && C:\Users\biocbuild\bbs-3.8-bioc\R\bin\R.exe CMD INSTALL --merge-multiarch --build --library=InterMineR.buildbin-libdir InterMineR_1.4.1.tar.gz && C:\Users\biocbuild\bbs-3.8-bioc\R\bin\R.exe CMD INSTALL InterMineR_1.4.1.zip && rm InterMineR_1.4.1.tar.gz InterMineR_1.4.1.zip
###
##############################################################################
##############################################################################
% Total % Received % Xferd Average Speed Time Time Time Current
Dload Upload Total Spent Left Speed
0 0 0 0 0 0 0 0 --:--:-- --:--:-- --:--:-- 0
100 4513k 100 4513k 0 0 52.8M 0 --:--:-- --:--:-- --:--:-- 55.0M
install for i386
* installing *source* package 'InterMineR' ...
** R
** data
*** moving datasets to lazyload DB
** inst
** byte-compile and prepare package for lazy loading
** help
*** installing help indices
converting help for package 'InterMineR'
finding HTML links ... done
InterMineR-class html
InterMineR-methods html
InterMineR-package html
PL_DiabetesGenes html
PL_FlyTF_site_specific_TFs html
convertToGRanges html
Rd warning: C:/Users/biocbuild/bbs-3.8-bioc/tmpdir/Rtmp4ayrjE/R.INSTALL1d601fc0d6f/InterMineR/man/convertToGRanges.Rd:5: file link 'GRanges' in package 'GenomicRanges' does not exist and so has been treated as a topic
Rd warning: C:/Users/biocbuild/bbs-3.8-bioc/tmpdir/Rtmp4ayrjE/R.INSTALL1d601fc0d6f/InterMineR/man/convertToGRanges.Rd:8: file link 'GRanges' in package 'GenomicRanges' does not exist and so has been treated as a topic
Rd warning: C:/Users/biocbuild/bbs-3.8-bioc/tmpdir/Rtmp4ayrjE/R.INSTALL1d601fc0d6f/InterMineR/man/convertToGRanges.Rd:26: file link 'GRanges' in package 'GenomicRanges' does not exist and so has been treated as a topic
Rd warning: C:/Users/biocbuild/bbs-3.8-bioc/tmpdir/Rtmp4ayrjE/R.INSTALL1d601fc0d6f/InterMineR/man/convertToGRanges.Rd:29: file link 'GRanges' in package 'GenomicRanges' does not exist and so has been treated as a topic
Rd warning: C:/Users/biocbuild/bbs-3.8-bioc/tmpdir/Rtmp4ayrjE/R.INSTALL1d601fc0d6f/InterMineR/man/convertToGRanges.Rd:32: file link 'GRanges' in package 'GenomicRanges' does not exist and so has been treated as a topic
Rd warning: C:/Users/biocbuild/bbs-3.8-bioc/tmpdir/Rtmp4ayrjE/R.INSTALL1d601fc0d6f/InterMineR/man/convertToGRanges.Rd:35: file link 'GRanges' in package 'GenomicRanges' does not exist and so has been treated as a topic
Rd warning: C:/Users/biocbuild/bbs-3.8-bioc/tmpdir/Rtmp4ayrjE/R.INSTALL1d601fc0d6f/InterMineR/man/convertToGRanges.Rd:38: file link 'GRanges' in package 'GenomicRanges' does not exist and so has been treated as a topic
Rd warning: C:/Users/biocbuild/bbs-3.8-bioc/tmpdir/Rtmp4ayrjE/R.INSTALL1d601fc0d6f/InterMineR/man/convertToGRanges.Rd:41: file link 'GRanges' in package 'GenomicRanges' does not exist and so has been treated as a topic
Rd warning: C:/Users/biocbuild/bbs-3.8-bioc/tmpdir/Rtmp4ayrjE/R.INSTALL1d601fc0d6f/InterMineR/man/convertToGRanges.Rd:44: file link 'GRanges' in package 'GenomicRanges' does not exist and so has been treated as a topic
Rd warning: C:/Users/biocbuild/bbs-3.8-bioc/tmpdir/Rtmp4ayrjE/R.INSTALL1d601fc0d6f/InterMineR/man/convertToGRanges.Rd:47: file link 'GRanges' in package 'GenomicRanges' does not exist and so has been treated as a topic
Rd warning: C:/Users/biocbuild/bbs-3.8-bioc/tmpdir/Rtmp4ayrjE/R.INSTALL1d601fc0d6f/InterMineR/man/convertToGRanges.Rd:56: file link 'GRanges' in package 'GenomicRanges' does not exist and so has been treated as a topic
Rd warning: C:/Users/biocbuild/bbs-3.8-bioc/tmpdir/Rtmp4ayrjE/R.INSTALL1d601fc0d6f/InterMineR/man/convertToGRanges.Rd:59: file link 'GRanges' in package 'GenomicRanges' does not exist and so has been treated as a topic
Rd warning: C:/Users/biocbuild/bbs-3.8-bioc/tmpdir/Rtmp4ayrjE/R.INSTALL1d601fc0d6f/InterMineR/man/convertToGRanges.Rd:66: file link 'GRanges' in package 'GenomicRanges' does not exist and so has been treated as a topic
convertToGeneAnswers html
Rd warning: C:/Users/biocbuild/bbs-3.8-bioc/tmpdir/Rtmp4ayrjE/R.INSTALL1d601fc0d6f/InterMineR/man/convertToGeneAnswers.Rd:8: file link 'GeneAnswers' in package 'GeneAnswers' does not exist and so has been treated as a topic
convertToRangedSummarizedExperiment html
Rd warning: C:/Users/biocbuild/bbs-3.8-bioc/tmpdir/Rtmp4ayrjE/R.INSTALL1d601fc0d6f/InterMineR/man/convertToRangedSummarizedExperiment.Rd:5: file link 'RangedSummarizedExperiment' in package 'SummarizedExperiment' does not exist and so has been treated as a topic
Rd warning: C:/Users/biocbuild/bbs-3.8-bioc/tmpdir/Rtmp4ayrjE/R.INSTALL1d601fc0d6f/InterMineR/man/convertToRangedSummarizedExperiment.Rd:8: file link 'RangedSummarizedExperiment' in package 'SummarizedExperiment' does not exist and so has been treated as a topic
Rd warning: C:/Users/biocbuild/bbs-3.8-bioc/tmpdir/Rtmp4ayrjE/R.INSTALL1d601fc0d6f/InterMineR/man/convertToRangedSummarizedExperiment.Rd:43: file link 'RangedSummarizedExperiment' in package 'SummarizedExperiment' does not exist and so has been treated as a topic
Rd warning: C:/Users/biocbuild/bbs-3.8-bioc/tmpdir/Rtmp4ayrjE/R.INSTALL1d601fc0d6f/InterMineR/man/convertToRangedSummarizedExperiment.Rd:46: file link 'RangedSummarizedExperiment' in package 'SummarizedExperiment' does not exist and so has been treated as a topic
Rd warning: C:/Users/biocbuild/bbs-3.8-bioc/tmpdir/Rtmp4ayrjE/R.INSTALL1d601fc0d6f/InterMineR/man/convertToRangedSummarizedExperiment.Rd:52: file link 'RangedSummarizedExperiment' in package 'SummarizedExperiment' does not exist and so has been treated as a topic
Rd warning: C:/Users/biocbuild/bbs-3.8-bioc/tmpdir/Rtmp4ayrjE/R.INSTALL1d601fc0d6f/InterMineR/man/convertToRangedSummarizedExperiment.Rd:54: file link 'SummarizedExperiment' in package 'SummarizedExperiment' does not exist and so has been treated as a topic
Rd warning: C:/Users/biocbuild/bbs-3.8-bioc/tmpdir/Rtmp4ayrjE/R.INSTALL1d601fc0d6f/InterMineR/man/convertToRangedSummarizedExperiment.Rd:58: file link 'RangedSummarizedExperiment' in package 'SummarizedExperiment' does not exist and so has been treated as a topic
Rd warning: C:/Users/biocbuild/bbs-3.8-bioc/tmpdir/Rtmp4ayrjE/R.INSTALL1d601fc0d6f/InterMineR/man/convertToRangedSummarizedExperiment.Rd:61: file link 'SummarizedExperiment' in package 'SummarizedExperiment' does not exist and so has been treated as a topic
Rd warning: C:/Users/biocbuild/bbs-3.8-bioc/tmpdir/Rtmp4ayrjE/R.INSTALL1d601fc0d6f/InterMineR/man/convertToRangedSummarizedExperiment.Rd:69: file link 'RangedSummarizedExperiment' in package 'SummarizedExperiment' does not exist and so has been treated as a topic
doEnrichment html
getDatasets html
getGeneIds html
getModel html
getRelease html
getTemplateQuery html
getTemplates html
getVersion html
getWidgets html
initInterMine html
listDatasets html
listMines html
newQuery html
runQuery html
setConstraints html
setQuery html
simplifyResult html
summary html
** building package indices
** installing vignettes
** testing if installed package can be loaded
In R CMD INSTALL
install for x64
* installing *source* package 'InterMineR' ...
** testing if installed package can be loaded
* MD5 sums
packaged installation of 'InterMineR' as InterMineR_1.4.1.zip
* DONE (InterMineR)
In R CMD INSTALL
In R CMD INSTALL
* installing to library 'C:/Users/biocbuild/bbs-3.8-bioc/R/library'
package 'InterMineR' successfully unpacked and MD5 sums checked
In R CMD INSTALL