| Back to Multiple platform build/check report for BioC 3.8 | 
 | 
This page was generated on 2019-04-16 11:59:48 -0400 (Tue, 16 Apr 2019).
| Package 772/1649 | Hostname | OS / Arch | INSTALL | BUILD | CHECK | BUILD BIN | ||||||
| ImpulseDE 1.8.0 Jil Sander 
 | malbec1 | Linux (Ubuntu 16.04.6 LTS) / x86_64 | OK | OK | OK |  | ||||||
| merida1 | OS X 10.11.6 El Capitan / x86_64 | OK | OK | OK | [ OK ] |  | 
| Package: ImpulseDE | 
| Version: 1.8.0 | 
| Command: rm -rf ImpulseDE.buildbin-libdir && mkdir ImpulseDE.buildbin-libdir && /Users/biocbuild/BBS/utils/build-universal.sh ImpulseDE_1.8.0.tar.gz /Library/Frameworks/R.framework/Versions/Current/Resources/bin/R ImpulseDE.buildbin-libdir | 
| StartedAt: 2019-04-16 04:14:31 -0400 (Tue, 16 Apr 2019) | 
| EndedAt: 2019-04-16 04:15:19 -0400 (Tue, 16 Apr 2019) | 
| EllapsedTime: 48.3 seconds | 
| RetCode: 0 | 
| Status: OK | 
| PackageFile: ImpulseDE_1.8.0.tgz | 
| PackageFileSize: 410.6 KiB | 
############################################################################## ############################################################################## ### ### Running command: ### ### rm -rf ImpulseDE.buildbin-libdir && mkdir ImpulseDE.buildbin-libdir && /Users/biocbuild/BBS/utils/build-universal.sh ImpulseDE_1.8.0.tar.gz /Library/Frameworks/R.framework/Versions/Current/Resources/bin/R ImpulseDE.buildbin-libdir ### ############################################################################## ############################################################################## >>>>>>> >>>>>>> INSTALLATION WITH 'R CMD INSTALL --preclean --no-multiarch --library=ImpulseDE.buildbin-libdir ImpulseDE_1.8.0.tar.gz' >>>>>>> * installing *source* package ‘ImpulseDE’ ... ** R ** inst ** byte-compile and prepare package for lazy loading ** help *** installing help indices ** building package indices ** installing vignettes ** testing if installed package can be loaded * DONE (ImpulseDE)