| Back to Multiple platform build/check report for BioC 3.8 |
|
This page was generated on 2019-04-16 11:49:34 -0400 (Tue, 16 Apr 2019).
| Package 729/1649 | Hostname | OS / Arch | INSTALL | BUILD | CHECK | BUILD BIN | ||||||
| HiTC 1.26.0 Nicolas Servant
| malbec1 | Linux (Ubuntu 16.04.6 LTS) / x86_64 | OK | OK | [ OK ] | |||||||
| merida1 | OS X 10.11.6 El Capitan / x86_64 | OK | OK | OK | OK |
| Package: HiTC |
| Version: 1.26.0 |
| Command: /home/biocbuild/bbs-3.8-bioc/R/bin/R CMD check --install=check:HiTC.install-out.txt --library=/home/biocbuild/bbs-3.8-bioc/R/library --no-vignettes --timings HiTC_1.26.0.tar.gz |
| StartedAt: 2019-04-16 00:39:28 -0400 (Tue, 16 Apr 2019) |
| EndedAt: 2019-04-16 00:44:21 -0400 (Tue, 16 Apr 2019) |
| EllapsedTime: 293.1 seconds |
| RetCode: 0 |
| Status: OK |
| CheckDir: HiTC.Rcheck |
| Warnings: 0 |
##############################################################################
##############################################################################
###
### Running command:
###
### /home/biocbuild/bbs-3.8-bioc/R/bin/R CMD check --install=check:HiTC.install-out.txt --library=/home/biocbuild/bbs-3.8-bioc/R/library --no-vignettes --timings HiTC_1.26.0.tar.gz
###
##############################################################################
##############################################################################
* using log directory ‘/home/biocbuild/bbs-3.8-bioc/meat/HiTC.Rcheck’
* using R version 3.5.3 (2019-03-11)
* using platform: x86_64-pc-linux-gnu (64-bit)
* using session charset: UTF-8
* using option ‘--no-vignettes’
* checking for file ‘HiTC/DESCRIPTION’ ... OK
* checking extension type ... Package
* this is package ‘HiTC’ version ‘1.26.0’
* checking package namespace information ... OK
* checking package dependencies ... OK
* checking if this is a source package ... OK
* checking if there is a namespace ... OK
* checking for hidden files and directories ... NOTE
Found the following hidden files and directories:
.BBSoptions
These were most likely included in error. See section ‘Package
structure’ in the ‘Writing R Extensions’ manual.
* checking for portable file names ... OK
* checking for sufficient/correct file permissions ... OK
* checking whether package ‘HiTC’ can be installed ... OK
* checking installed package size ... OK
* checking package directory ... OK
* checking ‘build’ directory ... OK
* checking DESCRIPTION meta-information ... OK
* checking top-level files ... OK
* checking for left-over files ... OK
* checking index information ... OK
* checking package subdirectories ... OK
* checking R files for non-ASCII characters ... OK
* checking R files for syntax errors ... OK
* checking whether the package can be loaded ... OK
* checking whether the package can be loaded with stated dependencies ... OK
* checking whether the package can be unloaded cleanly ... OK
* checking whether the namespace can be loaded with stated dependencies ... OK
* checking whether the namespace can be unloaded cleanly ... OK
* checking dependencies in R code ... OK
* checking S3 generic/method consistency ... OK
* checking replacement functions ... OK
* checking foreign function calls ... OK
* checking R code for possible problems ... NOTE
directionalityIndex: no visible global function definition for
‘subjectHits’
directionalityIndex: no visible global function definition for
‘queryHits’
getBlocsIndex: no visible global function definition for ‘Rle’
getExpectedCountsMean: no visible global function definition for ‘Rle’
normLGF: no visible global function definition for ‘glm.nb’
slidingWindow: no visible binding for global variable ‘consV’
splitCombinedContacts : <anonymous>: no visible global function
definition for ‘seqlevels<-’
divide,HTCexp-HTCexp: no visible global function definition for
‘queryHits’
divide,HTCexp-HTCexp: no visible global function definition for
‘subjectHits’
isBinned,HTCexp: no visible global function definition for
‘countMatches’
substract,HTCexp-HTCexp: no visible global function definition for
‘queryHits’
substract,HTCexp-HTCexp: no visible global function definition for
‘subjectHits’
Undefined global functions or variables:
Rle consV countMatches glm.nb queryHits seqlevels<- subjectHits
* checking Rd files ... OK
* checking Rd metadata ... OK
* checking Rd cross-references ... OK
* checking for missing documentation entries ... OK
* checking for code/documentation mismatches ... OK
* checking Rd \usage sections ... OK
* checking Rd contents ... OK
* checking for unstated dependencies in examples ... OK
* checking contents of ‘data’ directory ... OK
* checking data for non-ASCII characters ... OK
* checking data for ASCII and uncompressed saves ... OK
* checking files in ‘vignettes’ ... OK
* checking examples ... OK
Examples with CPU or elapsed time > 5s
user system elapsed
directionalityIndex 57.96 0.472 58.598
* checking for unstated dependencies in vignettes ... OK
* checking package vignettes in ‘inst/doc’ ... OK
* checking running R code from vignettes ... SKIPPED
* checking re-building of vignette outputs ... SKIPPED
* checking PDF version of manual ... OK
* DONE
Status: 2 NOTEs
See
‘/home/biocbuild/bbs-3.8-bioc/meat/HiTC.Rcheck/00check.log’
for details.
HiTC.Rcheck/00install.out
############################################################################## ############################################################################## ### ### Running command: ### ### /home/biocbuild/bbs-3.8-bioc/R/bin/R CMD INSTALL HiTC ### ############################################################################## ############################################################################## * installing to library ‘/home/biocbuild/bbs-3.8-bioc/R/library’ * installing *source* package ‘HiTC’ ... ** R ** data ** inst ** byte-compile and prepare package for lazy loading ** help *** installing help indices ** building package indices ** installing vignettes ** testing if installed package can be loaded * DONE (HiTC)
HiTC.Rcheck/HiTC-Ex.timings
| name | user | system | elapsed | |
| CQC | 4.444 | 0.060 | 4.589 | |
| HTCexp-class | 2.676 | 0.108 | 2.827 | |
| HTClist-class | 1.684 | 0.024 | 1.742 | |
| Nora_5C | 0.220 | 0.008 | 0.229 | |
| binningC | 1.324 | 0.004 | 1.329 | |
| directionalityIndex | 57.960 | 0.472 | 58.598 | |
| discretize | 0 | 0 | 0 | |
| export.my5C | 0 | 0 | 0 | |
| exportC | 0 | 0 | 0 | |
| extractRegion | 0.456 | 0.008 | 0.465 | |
| getAnnotatedRestrictionSites | 0 | 0 | 0 | |
| getExpectedCounts | 1.928 | 0.360 | 2.207 | |
| getPearsonMap | 0.700 | 0.016 | 0.747 | |
| getRestrictionFragmentsPerChromosome | 0 | 0 | 0 | |
| import.my5C | 0.116 | 0.000 | 0.118 | |
| importC | 0.000 | 0.000 | 0.001 | |
| intervalsDist | 0.424 | 0.016 | 0.440 | |
| mapC | 4.636 | 0.060 | 4.706 | |
| normICE | 0.000 | 0.000 | 0.001 | |
| normLGF | 0.000 | 0.000 | 0.001 | |
| pca.hic | 0.728 | 0.000 | 0.732 | |
| removeIntervals | 0.404 | 0.008 | 0.411 | |
| setGenomicFeatures | 0 | 0 | 0 | |
| setIntervalScale | 1.132 | 0.004 | 1.137 | |