| Back to Multiple platform build/check report for BioC 3.8 |
|
This page was generated on 2019-04-13 11:19:55 -0400 (Sat, 13 Apr 2019).
| Package 712/1649 | Hostname | OS / Arch | INSTALL | BUILD | CHECK | BUILD BIN | ||||||
| Heatplus 2.28.0 Alexander Ploner
| malbec1 | Linux (Ubuntu 16.04.6 LTS) / x86_64 | OK | OK | OK | |||||||
| tokay1 | Windows Server 2012 R2 Standard / x64 | OK | OK | OK | [ OK ] | |||||||
| merida1 | OS X 10.11.6 El Capitan / x86_64 | OK | OK | OK | OK |
| Package: Heatplus |
| Version: 2.28.0 |
| Command: rm -rf Heatplus.buildbin-libdir && mkdir Heatplus.buildbin-libdir && C:\Users\biocbuild\bbs-3.8-bioc\R\bin\R.exe CMD INSTALL --merge-multiarch --build --library=Heatplus.buildbin-libdir Heatplus_2.28.0.tar.gz |
| StartedAt: 2019-04-13 07:26:36 -0400 (Sat, 13 Apr 2019) |
| EndedAt: 2019-04-13 07:29:27 -0400 (Sat, 13 Apr 2019) |
| EllapsedTime: 170.8 seconds |
| RetCode: 0 |
| Status: OK |
| PackageFile: Heatplus_2.28.0.zip |
| PackageFileSize: 991.9 KiB |
##############################################################################
##############################################################################
###
### Running command:
###
### rm -rf Heatplus.buildbin-libdir && mkdir Heatplus.buildbin-libdir && C:\Users\biocbuild\bbs-3.8-bioc\R\bin\R.exe CMD INSTALL --merge-multiarch --build --library=Heatplus.buildbin-libdir Heatplus_2.28.0.tar.gz
###
##############################################################################
##############################################################################
install for i386
* installing *source* package 'Heatplus' ...
** R
** inst
** byte-compile and prepare package for lazy loading
** help
*** installing help indices
converting help for package 'Heatplus'
finding HTML links ... done
BrewerClusterCol html
finding level-2 HTML links ... done
RGBColVec html
Undocumented html
annHeatmap html
annHeatmap2 html
breakColors html
convAnnData html
doLegend html
g2r.colors html
heatmapLayout html
heatmap_2 html
heatmap_plus html
modifyExistingList html
niceBreaks html
oldCutplot.dendrogram html
oldPicketplot html
picketPlot html
plot.annHeatmap html
print.annHeatmap html
regHeatmap html
** building package indices
** installing vignettes
** testing if installed package can be loaded
In R CMD INSTALL
install for x64
* installing *source* package 'Heatplus' ...
** testing if installed package can be loaded
* MD5 sums
packaged installation of 'Heatplus' as Heatplus_2.28.0.zip
* DONE (Heatplus)
In R CMD INSTALL
In R CMD INSTALL