| Back to Multiple platform build/check report for BioC 3.8 |
|
This page was generated on 2019-04-13 11:29:36 -0400 (Sat, 13 Apr 2019).
| Package 733/1649 | Hostname | OS / Arch | INSTALL | BUILD | CHECK | BUILD BIN | ||||||
| HPAanalyze 1.0.0 Anh Nhat Tran
| malbec1 | Linux (Ubuntu 16.04.6 LTS) / x86_64 | OK | OK | OK | |||||||
| tokay1 | Windows Server 2012 R2 Standard / x64 | OK | OK | OK | [ OK ] | |||||||
| merida1 | OS X 10.11.6 El Capitan / x86_64 | OK | OK | OK | OK |
| Package: HPAanalyze |
| Version: 1.0.0 |
| Command: rm -rf HPAanalyze.buildbin-libdir && mkdir HPAanalyze.buildbin-libdir && C:\Users\biocbuild\bbs-3.8-bioc\R\bin\R.exe CMD INSTALL --merge-multiarch --build --library=HPAanalyze.buildbin-libdir HPAanalyze_1.0.0.tar.gz |
| StartedAt: 2019-04-13 07:30:22 -0400 (Sat, 13 Apr 2019) |
| EndedAt: 2019-04-13 07:30:50 -0400 (Sat, 13 Apr 2019) |
| EllapsedTime: 27.8 seconds |
| RetCode: 0 |
| Status: OK |
| PackageFile: HPAanalyze_1.0.0.zip |
| PackageFileSize: 2.369 MiB |
##############################################################################
##############################################################################
###
### Running command:
###
### rm -rf HPAanalyze.buildbin-libdir && mkdir HPAanalyze.buildbin-libdir && C:\Users\biocbuild\bbs-3.8-bioc\R\bin\R.exe CMD INSTALL --merge-multiarch --build --library=HPAanalyze.buildbin-libdir HPAanalyze_1.0.0.tar.gz
###
##############################################################################
##############################################################################
install for i386
* installing *source* package 'HPAanalyze' ...
** R
** data
*** moving datasets to lazyload DB
** inst
** byte-compile and prepare package for lazy loading
** help
*** installing help indices
converting help for package 'HPAanalyze'
finding HTML links ... done
hpaDownload html
hpaExport html
hpaListParam html
hpaVis html
hpaVisPatho html
hpaVisSubcell html
hpaVisTissue html
hpaXml html
hpaXmlAntibody html
hpaXmlGet html
hpaXmlProtClass html
hpaXmlTissueExpr html
hpaXmlTissueExprSum html
hpa_downloaded_histology_v18 html
** building package indices
** installing vignettes
** testing if installed package can be loaded
In R CMD INSTALL
install for x64
* installing *source* package 'HPAanalyze' ...
** testing if installed package can be loaded
* MD5 sums
packaged installation of 'HPAanalyze' as HPAanalyze_1.0.0.zip
* DONE (HPAanalyze)
In R CMD INSTALL
In R CMD INSTALL