| Back to Multiple platform build/check report for BioC 3.8 |
|
This page was generated on 2019-04-16 11:49:45 -0400 (Tue, 16 Apr 2019).
| Package 731/1649 | Hostname | OS / Arch | INSTALL | BUILD | CHECK | BUILD BIN | ||||||
| HMMcopy 1.24.0 Daniel Lai
| malbec1 | Linux (Ubuntu 16.04.6 LTS) / x86_64 | [ OK ] | OK | OK | |||||||
| merida1 | OS X 10.11.6 El Capitan / x86_64 | OK | OK | OK | OK |
| Package: HMMcopy |
| Version: 1.24.0 |
| Command: /home/biocbuild/bbs-3.8-bioc/R/bin/R CMD INSTALL HMMcopy |
| StartedAt: 2019-04-15 18:01:08 -0400 (Mon, 15 Apr 2019) |
| EndedAt: 2019-04-15 18:01:18 -0400 (Mon, 15 Apr 2019) |
| EllapsedTime: 9.6 seconds |
| RetCode: 0 |
| Status: OK |
##############################################################################
##############################################################################
###
### Running command:
###
### /home/biocbuild/bbs-3.8-bioc/R/bin/R CMD INSTALL HMMcopy
###
##############################################################################
##############################################################################
* installing to library ‘/home/biocbuild/bbs-3.8-bioc/R/library’
* installing *source* package ‘HMMcopy’ ...
** libs
gcc -I"/home/biocbuild/bbs-3.8-bioc/R/include" -DNDEBUG -I/usr/local/include -fpic -g -O2 -Wall -c forward_backward.c -o forward_backward.o
forward_backward.c: In function ‘forward_backward’:
forward_backward.c:28:13: warning: unused variable ‘tmp’ [-Wunused-variable]
int K, T, tmp;
^
gcc -I"/home/biocbuild/bbs-3.8-bioc/R/include" -DNDEBUG -I/usr/local/include -fpic -g -O2 -Wall -c register.c -o register.o
gcc -I"/home/biocbuild/bbs-3.8-bioc/R/include" -DNDEBUG -I/usr/local/include -fpic -g -O2 -Wall -c viterbi.c -o viterbi.o
viterbi.c: In function ‘viterbi’:
viterbi.c:21:13: warning: unused variable ‘tmp’ [-Wunused-variable]
int K, T, tmp;
^
gcc -shared -L/home/biocbuild/bbs-3.8-bioc/R/lib -L/usr/local/lib -o HMMcopy.so forward_backward.o register.o viterbi.o -L/home/biocbuild/bbs-3.8-bioc/R/lib -lR
installing to /home/biocbuild/bbs-3.8-bioc/R/library/HMMcopy/libs
** R
** data
** inst
** byte-compile and prepare package for lazy loading
** help
*** installing help indices
** building package indices
** installing vignettes
** testing if installed package can be loaded
* DONE (HMMcopy)