| Back to Multiple platform build/check report for BioC 3.8 |
|
This page was generated on 2019-04-13 11:19:27 -0400 (Sat, 13 Apr 2019).
| Package 715/1649 | Hostname | OS / Arch | INSTALL | BUILD | CHECK | BUILD BIN | ||||||
| HEM 1.54.0 HyungJun Cho
| malbec1 | Linux (Ubuntu 16.04.6 LTS) / x86_64 | OK | OK | OK | |||||||
| tokay1 | Windows Server 2012 R2 Standard / x64 | OK | OK | OK | [ OK ] | |||||||
| merida1 | OS X 10.11.6 El Capitan / x86_64 | OK | OK | OK | OK |
| Package: HEM |
| Version: 1.54.0 |
| Command: rm -rf HEM.buildbin-libdir && mkdir HEM.buildbin-libdir && C:\Users\biocbuild\bbs-3.8-bioc\R\bin\R.exe CMD INSTALL --merge-multiarch --build --library=HEM.buildbin-libdir HEM_1.54.0.tar.gz |
| StartedAt: 2019-04-13 07:27:52 -0400 (Sat, 13 Apr 2019) |
| EndedAt: 2019-04-13 07:30:14 -0400 (Sat, 13 Apr 2019) |
| EllapsedTime: 141.9 seconds |
| RetCode: 0 |
| Status: OK |
| PackageFile: HEM_1.54.0.zip |
| PackageFileSize: 674.6 KiB |
##############################################################################
##############################################################################
###
### Running command:
###
### rm -rf HEM.buildbin-libdir && mkdir HEM.buildbin-libdir && C:\Users\biocbuild\bbs-3.8-bioc\R\bin\R.exe CMD INSTALL --merge-multiarch --build --library=HEM.buildbin-libdir HEM_1.54.0.tar.gz
###
##############################################################################
##############################################################################
install for i386
* installing *source* package 'HEM' ...
** libs
C:/Rtools/mingw_32/bin/gcc -I"C:/Users/BIOCBU˜1/BBS-3˜1.8-B/R/include" -DNDEBUG -I"C:/extsoft/include" -O3 -Wall -std=gnu99 -mtune=generic -c hem.c -o hem.o
hem.c: In function 'onelayerhem':
hem.c:1390:12: warning: variable 'k' set but not used [-Wunused-but-set-variable]
int i, j, k, m, n;
^
hem.c: In function 'chk_prt':
hem.c:1593:16: warning: variable 'l' set but not used [-Wunused-but-set-variable]
int i, j, k, l;
^
C:/Rtools/mingw_32/bin/gcc -shared -s -static-libgcc -o HEM.dll tmp.def hem.o -LC:/extsoft/lib/i386 -LC:/extsoft/lib -LC:/Users/BIOCBU˜1/BBS-3˜1.8-B/R/bin/i386 -lR
installing to C:/Users/biocbuild/bbs-3.8-bioc/meat/HEM.buildbin-libdir/HEM/libs/i386
** R
** data
** inst
** byte-compile and prepare package for lazy loading
** help
*** installing help indices
converting help for package 'HEM'
finding HTML links ... done
am.tran html
am.tran.half html
base.ASE.Olig html
base.PSE.Olig html
base.error.Olig html
base.error.Olig.quanOnly html
boot.base.ASE.Olig html
boot.base.PSE.Olig html
boot.base.error.Olig html
fixbound.predict.smooth.spline html
hem html
hem.eb.prior html
hem.fdr html
hem.null.no html
hem.null.one html
hem.null.two html
hem.preproc html
mubcp html
nonpar.error.Olig html
nonpar.no.error.Olig html
nonpar.rep.error.Olig html
par.error.Olig html
par.no.error.Olig html
par.rep.error.Olig html
pbrain html
permut html
quant.norm html
quant.normal html
quant.normal2 html
quant.normalize html
remove.sig.genes html
** building package indices
** installing vignettes
** testing if installed package can be loaded
In R CMD INSTALL
install for x64
* installing *source* package 'HEM' ...
** libs
C:/Rtools/mingw_64/bin/gcc -I"C:/Users/BIOCBU˜1/BBS-3˜1.8-B/R/include" -DNDEBUG -I"C:/extsoft/include" -O2 -Wall -std=gnu99 -mtune=generic -c hem.c -o hem.o
hem.c: In function 'onelayerhem':
hem.c:1390:12: warning: variable 'k' set but not used [-Wunused-but-set-variable]
int i, j, k, m, n;
^
hem.c: In function 'chk_prt':
hem.c:1593:16: warning: variable 'l' set but not used [-Wunused-but-set-variable]
int i, j, k, l;
^
C:/Rtools/mingw_64/bin/gcc -shared -s -static-libgcc -o HEM.dll tmp.def hem.o -LC:/extsoft/lib/x64 -LC:/extsoft/lib -LC:/Users/BIOCBU˜1/BBS-3˜1.8-B/R/bin/x64 -lR
installing to C:/Users/biocbuild/bbs-3.8-bioc/meat/HEM.buildbin-libdir/HEM/libs/x64
** testing if installed package can be loaded
* MD5 sums
packaged installation of 'HEM' as HEM_1.54.0.zip
* DONE (HEM)
In R CMD INSTALL
In R CMD INSTALL