| Back to Multiple platform build/check report for BioC 3.8 |
|
This page was generated on 2019-04-13 11:22:02 -0400 (Sat, 13 Apr 2019).
| Package 701/1649 | Hostname | OS / Arch | INSTALL | BUILD | CHECK | BUILD BIN | ||||||
| Gviz 1.26.5 Robert Ivanek
| malbec1 | Linux (Ubuntu 16.04.6 LTS) / x86_64 | OK | OK | OK | |||||||
| tokay1 | Windows Server 2012 R2 Standard / x64 | OK | OK | [ OK ] | OK | |||||||
| merida1 | OS X 10.11.6 El Capitan / x86_64 | OK | OK | OK | OK |
| Package: Gviz |
| Version: 1.26.5 |
| Command: C:\Users\biocbuild\bbs-3.8-bioc\R\bin\R.exe CMD check --force-multiarch --install=check:Gviz.install-out.txt --library=C:\Users\biocbuild\bbs-3.8-bioc\R\library --no-vignettes --timings Gviz_1.26.5.tar.gz |
| StartedAt: 2019-04-13 02:57:26 -0400 (Sat, 13 Apr 2019) |
| EndedAt: 2019-04-13 03:06:10 -0400 (Sat, 13 Apr 2019) |
| EllapsedTime: 523.3 seconds |
| RetCode: 0 |
| Status: OK |
| CheckDir: Gviz.Rcheck |
| Warnings: 0 |
##############################################################################
##############################################################################
###
### Running command:
###
### C:\Users\biocbuild\bbs-3.8-bioc\R\bin\R.exe CMD check --force-multiarch --install=check:Gviz.install-out.txt --library=C:\Users\biocbuild\bbs-3.8-bioc\R\library --no-vignettes --timings Gviz_1.26.5.tar.gz
###
##############################################################################
##############################################################################
* using log directory 'C:/Users/biocbuild/bbs-3.8-bioc/meat/Gviz.Rcheck'
* using R version 3.5.3 (2019-03-11)
* using platform: x86_64-w64-mingw32 (64-bit)
* using session charset: ISO8859-1
* using option '--no-vignettes'
* checking for file 'Gviz/DESCRIPTION' ... OK
* this is package 'Gviz' version '1.26.5'
* checking package namespace information ... OK
* checking package dependencies ...Warning: unable to access index for repository https://CRAN.R-project.org/src/contrib:
cannot open URL 'https://CRAN.R-project.org/src/contrib/PACKAGES'
OK
* checking if this is a source package ... OK
* checking if there is a namespace ... OK
* checking for hidden files and directories ... OK
* checking for portable file names ... OK
* checking whether package 'Gviz' can be installed ... OK
* checking installed package size ... NOTE
installed size is 5.9Mb
sub-directories of 1Mb or more:
R 1.6Mb
extdata 2.1Mb
* checking package directory ... OK
* checking 'build' directory ... OK
* checking DESCRIPTION meta-information ... OK
* checking top-level files ... OK
* checking for left-over files ... OK
* checking index information ... OK
* checking package subdirectories ... OK
* checking R files for non-ASCII characters ... OK
* checking R files for syntax errors ... OK
* loading checks for arch 'i386'
** checking whether the package can be loaded ... OK
** checking whether the package can be loaded with stated dependencies ... OK
** checking whether the package can be unloaded cleanly ... OK
** checking whether the namespace can be loaded with stated dependencies ... OK
** checking whether the namespace can be unloaded cleanly ... OK
* loading checks for arch 'x64'
** checking whether the package can be loaded ... OK
** checking whether the package can be loaded with stated dependencies ... OK
** checking whether the package can be unloaded cleanly ... OK
** checking whether the namespace can be loaded with stated dependencies ... OK
** checking whether the namespace can be unloaded cleanly ... OK
* checking dependencies in R code ... OK
* checking S3 generic/method consistency ... OK
* checking replacement functions ... OK
* checking foreign function calls ... OK
* checking R code for possible problems ... OK
* checking Rd files ... OK
* checking Rd metadata ... OK
* checking Rd cross-references ... OK
* checking for missing documentation entries ... OK
* checking for code/documentation mismatches ... OK
* checking Rd \usage sections ... OK
* checking Rd contents ... OK
* checking for unstated dependencies in examples ... OK
* checking contents of 'data' directory ... OK
* checking data for non-ASCII characters ... OK
* checking data for ASCII and uncompressed saves ... OK
* checking files in 'vignettes' ... OK
* checking examples ...
** running examples for arch 'i386' ... OK
Examples with CPU or elapsed time > 5s
user system elapsed
SequenceTrack-class 11.92 0.53 12.46
AlignmentsTrack-class 10.64 1.41 12.43
AnnotationTrack-class 5.08 0.06 5.14
** running examples for arch 'x64' ... OK
Examples with CPU or elapsed time > 5s
user system elapsed
AlignmentsTrack-class 14.64 0.74 15.44
SequenceTrack-class 10.60 0.39 10.98
AnnotationTrack-class 7.36 0.12 7.48
GeneRegionTrack-class 5.02 0.04 5.04
* checking for unstated dependencies in vignettes ... OK
* checking package vignettes in 'inst/doc' ... OK
* checking running R code from vignettes ... SKIPPED
* checking re-building of vignette outputs ... SKIPPED
* checking PDF version of manual ... OK
* DONE
Status: 1 NOTE
See
'C:/Users/biocbuild/bbs-3.8-bioc/meat/Gviz.Rcheck/00check.log'
for details.
Gviz.Rcheck/00install.out
##############################################################################
##############################################################################
###
### Running command:
###
### C:\cygwin\bin\curl.exe -O https://malbec1.bioconductor.org/BBS/3.8/bioc/src/contrib/Gviz_1.26.5.tar.gz && rm -rf Gviz.buildbin-libdir && mkdir Gviz.buildbin-libdir && C:\Users\biocbuild\bbs-3.8-bioc\R\bin\R.exe CMD INSTALL --merge-multiarch --build --library=Gviz.buildbin-libdir Gviz_1.26.5.tar.gz && C:\Users\biocbuild\bbs-3.8-bioc\R\bin\R.exe CMD INSTALL Gviz_1.26.5.zip && rm Gviz_1.26.5.tar.gz Gviz_1.26.5.zip
###
##############################################################################
##############################################################################
% Total % Received % Xferd Average Speed Time Time Time Current
Dload Upload Total Spent Left Speed
0 0 0 0 0 0 0 0 --:--:-- --:--:-- --:--:-- 0
100 2167k 100 2167k 0 0 27.7M 0 --:--:-- --:--:-- --:--:-- 29.3M
install for i386
* installing *source* package 'Gviz' ...
** R
** data
** inst
** byte-compile and prepare package for lazy loading
** help
*** installing help indices
converting help for package 'Gviz'
finding HTML links ... done
AlignedReadTrack-class html
finding level-2 HTML links ... done
AlignmentsTrack-class html
AnnotationTrack-class html
BiomartGeneRegionTrack-class html
CustomTrack-class html
DataTrack-class html
DisplayPars-class html
GdObject-class html
GeneRegionTrack-class html
GenomeAxisTrack-class html
HighlightTrack-class html
IdeogramTrack-class html
ImageMap-class html
NumericTrack-class html
OverlayTrack-class html
RangeTrack-class html
ReferenceTrack-class html
SequenceTrack-class html
StackedTrack-class html
UcscTrack html
collapsing html
datasets html
exportTracks html
grouping html
plotTracks html
settings html
** building package indices
** installing vignettes
** testing if installed package can be loaded
In R CMD INSTALL
install for x64
* installing *source* package 'Gviz' ...
** testing if installed package can be loaded
* MD5 sums
packaged installation of 'Gviz' as Gviz_1.26.5.zip
* DONE (Gviz)
In R CMD INSTALL
In R CMD INSTALL
* installing to library 'C:/Users/biocbuild/bbs-3.8-bioc/R/library'
package 'Gviz' successfully unpacked and MD5 sums checked
In R CMD INSTALL
|
Gviz.Rcheck/examples_i386/Gviz-Ex.timings
|
Gviz.Rcheck/examples_x64/Gviz-Ex.timings
|