| Back to Multiple platform build/check report for BioC 3.8 | 
  | 
This page was generated on 2019-04-16 11:58:04 -0400 (Tue, 16 Apr 2019).
| Package 630/1649 | Hostname | OS / Arch | INSTALL | BUILD | CHECK | BUILD BIN | ||||||
| GenomicTuples 1.16.0 Peter Hickey 
  | malbec1 | Linux (Ubuntu 16.04.6 LTS) / x86_64 | OK | OK | OK | |||||||
| merida1 | OS X 10.11.6 El Capitan / x86_64 | OK | [ OK ] | OK | OK | 
| Package: GenomicTuples | 
| Version: 1.16.0 | 
| Command: /Library/Frameworks/R.framework/Versions/Current/Resources/bin/R CMD build --keep-empty-dirs --no-resave-data GenomicTuples | 
| StartedAt: 2019-04-15 20:11:57 -0400 (Mon, 15 Apr 2019) | 
| EndedAt: 2019-04-15 20:13:05 -0400 (Mon, 15 Apr 2019) | 
| EllapsedTime: 68.6 seconds | 
| RetCode: 0 | 
| Status: OK | 
| PackageFile: GenomicTuples_1.16.0.tar.gz | 
| PackageFileSize: 302.5 KiB | 
############################################################################## ############################################################################## ### ### Running command: ### ### /Library/Frameworks/R.framework/Versions/Current/Resources/bin/R CMD build --keep-empty-dirs --no-resave-data GenomicTuples ### ############################################################################## ############################################################################## * checking for file ‘GenomicTuples/DESCRIPTION’ ... OK * preparing ‘GenomicTuples’: * checking DESCRIPTION meta-information ... OK * cleaning src * installing the package to build vignettes * creating vignettes ... OK * cleaning src * checking for LF line-endings in source and make files and shell scripts * checking for empty or unneeded directories * building ‘GenomicTuples_1.16.0.tar.gz’