| Back to Multiple platform build/check report for BioC 3.8 |
|
This page was generated on 2019-04-16 11:52:44 -0400 (Tue, 16 Apr 2019).
| Package 629/1649 | Hostname | OS / Arch | INSTALL | BUILD | CHECK | BUILD BIN | ||||||
| GenomicScores 1.6.0 Robert Castelo
| malbec1 | Linux (Ubuntu 16.04.6 LTS) / x86_64 | OK | [ OK ] | WARNINGS | |||||||
| merida1 | OS X 10.11.6 El Capitan / x86_64 | OK | ERROR | skipped | skipped |
| Package: GenomicScores |
| Version: 1.6.0 |
| Command: /home/biocbuild/bbs-3.8-bioc/R/bin/R CMD build --keep-empty-dirs --no-resave-data GenomicScores |
| StartedAt: 2019-04-15 21:18:26 -0400 (Mon, 15 Apr 2019) |
| EndedAt: 2019-04-15 21:21:33 -0400 (Mon, 15 Apr 2019) |
| EllapsedTime: 187.8 seconds |
| RetCode: 0 |
| Status: OK |
| PackageFile: GenomicScores_1.6.0.tar.gz |
| PackageFileSize: 2.349 MiB |
############################################################################## ############################################################################## ### ### Running command: ### ### /home/biocbuild/bbs-3.8-bioc/R/bin/R CMD build --keep-empty-dirs --no-resave-data GenomicScores ### ############################################################################## ############################################################################## * checking for file ‘GenomicScores/DESCRIPTION’ ... OK * preparing ‘GenomicScores’: * checking DESCRIPTION meta-information ... OK * installing the package to build vignettes * creating vignettes ... OK * checking for LF line-endings in source and make files and shell scripts * checking for empty or unneeded directories * building ‘GenomicScores_1.6.0.tar.gz’