| Back to Multiple platform build/check report for BioC 3.8 |
|
This page was generated on 2019-04-16 11:52:14 -0400 (Tue, 16 Apr 2019).
| Package 598/1649 | Hostname | OS / Arch | INSTALL | BUILD | CHECK | BUILD BIN | ||||||
| GeneGeneInteR 1.8.0 Mathieu Emily
| malbec1 | Linux (Ubuntu 16.04.6 LTS) / x86_64 | OK | OK | [ OK ] | |||||||
| merida1 | OS X 10.11.6 El Capitan / x86_64 | OK | OK | OK | OK |
| Package: GeneGeneInteR |
| Version: 1.8.0 |
| Command: /home/biocbuild/bbs-3.8-bioc/R/bin/R CMD check --install=check:GeneGeneInteR.install-out.txt --library=/home/biocbuild/bbs-3.8-bioc/R/library --no-vignettes --timings GeneGeneInteR_1.8.0.tar.gz |
| StartedAt: 2019-04-16 00:08:15 -0400 (Tue, 16 Apr 2019) |
| EndedAt: 2019-04-16 00:13:43 -0400 (Tue, 16 Apr 2019) |
| EllapsedTime: 328.3 seconds |
| RetCode: 0 |
| Status: OK |
| CheckDir: GeneGeneInteR.Rcheck |
| Warnings: 0 |
##############################################################################
##############################################################################
###
### Running command:
###
### /home/biocbuild/bbs-3.8-bioc/R/bin/R CMD check --install=check:GeneGeneInteR.install-out.txt --library=/home/biocbuild/bbs-3.8-bioc/R/library --no-vignettes --timings GeneGeneInteR_1.8.0.tar.gz
###
##############################################################################
##############################################################################
* using log directory ‘/home/biocbuild/bbs-3.8-bioc/meat/GeneGeneInteR.Rcheck’
* using R version 3.5.3 (2019-03-11)
* using platform: x86_64-pc-linux-gnu (64-bit)
* using session charset: UTF-8
* using option ‘--no-vignettes’
* checking for file ‘GeneGeneInteR/DESCRIPTION’ ... OK
* checking extension type ... Package
* this is package ‘GeneGeneInteR’ version ‘1.8.0’
* checking package namespace information ... OK
* checking package dependencies ... OK
* checking if this is a source package ... OK
* checking if there is a namespace ... OK
* checking for hidden files and directories ... OK
* checking for portable file names ... OK
* checking for sufficient/correct file permissions ... OK
* checking whether package ‘GeneGeneInteR’ can be installed ... OK
* checking installed package size ... OK
* checking package directory ... OK
* checking ‘build’ directory ... OK
* checking DESCRIPTION meta-information ... OK
* checking top-level files ... OK
* checking for left-over files ... OK
* checking index information ... OK
* checking package subdirectories ... OK
* checking R files for non-ASCII characters ... OK
* checking R files for syntax errors ... OK
* checking whether the package can be loaded ... OK
* checking whether the package can be loaded with stated dependencies ... OK
* checking whether the package can be unloaded cleanly ... OK
* checking whether the namespace can be loaded with stated dependencies ... OK
* checking whether the namespace can be unloaded cleanly ... OK
* checking dependencies in R code ... OK
* checking S3 generic/method consistency ... OK
* checking replacement functions ... OK
* checking foreign function calls ... OK
* checking R code for possible problems ... NOTE
CCA.test: no visible global function definition for 'as'
CLD.test: no visible global function definition for 'as'
GBIGM.test: no visible global function definition for 'as'
KCCA.test: no visible global function definition for 'as'
PCA.Std: no visible global function definition for 'as'
PLSPM.test: no visible global function definition for 'as'
imputeSnpMatrix: no visible global function definition for 'as'
snpMatrixScour: no visible global function definition for 'as'
Undefined global functions or variables:
as
Consider adding
importFrom("methods", "as")
to your NAMESPACE file (and ensure that your DESCRIPTION Imports field
contains 'methods').
* checking Rd files ... OK
* checking Rd metadata ... OK
* checking Rd cross-references ... OK
* checking for missing documentation entries ... OK
* checking for code/documentation mismatches ... OK
* checking Rd \usage sections ... OK
* checking Rd contents ... OK
* checking for unstated dependencies in examples ... OK
* checking contents of ‘data’ directory ... OK
* checking data for non-ASCII characters ... OK
* checking data for ASCII and uncompressed saves ... OK
* checking files in ‘vignettes’ ... OK
* checking examples ... OK
* checking for unstated dependencies in vignettes ... OK
* checking package vignettes in ‘inst/doc’ ... OK
* checking running R code from vignettes ... SKIPPED
* checking re-building of vignette outputs ... SKIPPED
* checking PDF version of manual ... OK
* DONE
Status: 1 NOTE
See
‘/home/biocbuild/bbs-3.8-bioc/meat/GeneGeneInteR.Rcheck/00check.log’
for details.
GeneGeneInteR.Rcheck/00install.out
############################################################################## ############################################################################## ### ### Running command: ### ### /home/biocbuild/bbs-3.8-bioc/R/bin/R CMD INSTALL GeneGeneInteR ### ############################################################################## ############################################################################## * installing to library ‘/home/biocbuild/bbs-3.8-bioc/R/library’ * installing *source* package ‘GeneGeneInteR’ ... ** R ** data *** moving datasets to lazyload DB ** inst ** byte-compile and prepare package for lazy loading ** help *** installing help indices ** building package indices ** installing vignettes ** testing if installed package can be loaded * DONE (GeneGeneInteR)
GeneGeneInteR.Rcheck/GeneGeneInteR-Ex.timings
| name | user | system | elapsed | |
| CCA.test | 0.792 | 0.032 | 0.840 | |
| CLD.test | 1.476 | 0.000 | 1.481 | |
| GBIGM.test | 3.012 | 0.032 | 3.048 | |
| GGI | 1.532 | 0.012 | 1.606 | |
| KCCA.test | 0.000 | 0.000 | 0.001 | |
| PCA.test | 0.044 | 0.000 | 0.045 | |
| PLSPM.test | 2.756 | 0.000 | 2.760 | |
| gates.test | 0.316 | 0.000 | 0.319 | |
| importFile | 0.552 | 0.000 | 0.556 | |
| imputeSnpMatrix | 0.912 | 0.012 | 0.925 | |
| minP.test | 0.660 | 0.004 | 0.662 | |
| plot.GGInetwork | 0.140 | 0.000 | 0.146 | |
| print.GGItest | 1.076 | 0.000 | 1.075 | |
| selectSnps | 0.004 | 0.000 | 0.005 | |
| snpMatrixScour | 0.032 | 0.000 | 0.030 | |
| summary.GGInetwork | 0.004 | 0.000 | 0.005 | |
| summary.GGItest | 0.016 | 0.000 | 0.016 | |
| tProd.test | 0.280 | 0.012 | 0.291 | |
| tTS.test | 0.34 | 0.00 | 0.34 | |